BEGIN:VCALENDAR
VERSION:2.0
PRODID:-//Weltladen Darmstadt - Solidarisch handeln e.V. - ECPv6.15.20//NONSGML v1.0//EN
CALSCALE:GREGORIAN
METHOD:PUBLISH
X-WR-CALNAME:Weltladen Darmstadt - Solidarisch handeln e.V.
X-ORIGINAL-URL:https://weltladen-darmstadt.de
X-WR-CALDESC:Veranstaltungen für Weltladen Darmstadt - Solidarisch handeln e.V.
REFRESH-INTERVAL;VALUE=DURATION:PT1H
X-Robots-Tag:noindex
X-PUBLISHED-TTL:PT1H
BEGIN:VTIMEZONE
TZID:Europe/Berlin
BEGIN:DAYLIGHT
TZOFFSETFROM:+0100
TZOFFSETTO:+0200
TZNAME:CEST
DTSTART:20240331T010000
END:DAYLIGHT
BEGIN:STANDARD
TZOFFSETFROM:+0200
TZOFFSETTO:+0100
TZNAME:CET
DTSTART:20241027T010000
END:STANDARD
BEGIN:DAYLIGHT
TZOFFSETFROM:+0100
TZOFFSETTO:+0200
TZNAME:CEST
DTSTART:20250330T010000
END:DAYLIGHT
BEGIN:STANDARD
TZOFFSETFROM:+0200
TZOFFSETTO:+0100
TZNAME:CET
DTSTART:20251026T010000
END:STANDARD
BEGIN:DAYLIGHT
TZOFFSETFROM:+0100
TZOFFSETTO:+0200
TZNAME:CEST
DTSTART:20260329T010000
END:DAYLIGHT
BEGIN:STANDARD
TZOFFSETFROM:+0200
TZOFFSETTO:+0100
TZNAME:CET
DTSTART:20261025T010000
END:STANDARD
END:VTIMEZONE
BEGIN:VEVENT
DTSTART;TZID=Europe/Berlin:20250507T150000
DTEND;TZID=Europe/Berlin:20250507T173000
DTSTAMP:20260424T141836
CREATED:20250211T155718Z
LAST-MODIFIED:20250211T155719Z
UID:13624-1746630000-1746639000@weltladen-darmstadt.de
SUMMARY:Umweltdiplom - Werkstatt Faire Bälle
DESCRIPTION:Die Werkstatt Globales Lernen bietet am 6. Mai 2025 eine Werkstatt zu Fairen Bällen im Rahmen des Umweltdiploms der Stadt Darmstadt im Weltladen Darmstadt an. Das Angebot ist geeignet für Schüler:innen 4. bis 6. Klasse. \n\n\n\nAnmeldung und weitere Informationen: https://www.darmstadt.de/leben/umwelt/mitmachen-aktiv-dabei/umweltdiplom \n\n\n\n\n\n\n\n\n[osm_map_v3 map_center=“49.8694\,8.6470″ zoom=“17.0″ width=“95%“ height=“450″ post_markers=“1″ control=“fullscreen\,scaleline\,mouseposition\,overview“]
URL:https://weltladen-darmstadt.de/event/umweltdiplom-werkstatt-faire-baelle/
LOCATION:Weltladen Darmstadt\, Elisabethenstraße 51\, Darmstadt\, 64283\, Deutschland
CATEGORIES:Werkstatt Globales Lernen
ORGANIZER;CN="Weltladen Darmstadt":MAILTO:mail[at]weltladen-darmstadt.de
END:VEVENT
END:VCALENDAR