BEGIN:VCALENDAR
VERSION:2.0
PRODID:-//Weltladen Darmstadt - Solidarisch handeln e.V. - ECPv6.15.20//NONSGML v1.0//EN
CALSCALE:GREGORIAN
METHOD:PUBLISH
X-WR-CALNAME:Weltladen Darmstadt - Solidarisch handeln e.V.
X-ORIGINAL-URL:https://weltladen-darmstadt.de
X-WR-CALDESC:Veranstaltungen für Weltladen Darmstadt - Solidarisch handeln e.V.
REFRESH-INTERVAL;VALUE=DURATION:PT1H
X-Robots-Tag:noindex
X-PUBLISHED-TTL:PT1H
BEGIN:VTIMEZONE
TZID:Europe/Berlin
BEGIN:DAYLIGHT
TZOFFSETFROM:+0100
TZOFFSETTO:+0200
TZNAME:CEST
DTSTART:20240331T010000
END:DAYLIGHT
BEGIN:STANDARD
TZOFFSETFROM:+0200
TZOFFSETTO:+0100
TZNAME:CET
DTSTART:20241027T010000
END:STANDARD
BEGIN:DAYLIGHT
TZOFFSETFROM:+0100
TZOFFSETTO:+0200
TZNAME:CEST
DTSTART:20250330T010000
END:DAYLIGHT
BEGIN:STANDARD
TZOFFSETFROM:+0200
TZOFFSETTO:+0100
TZNAME:CET
DTSTART:20251026T010000
END:STANDARD
BEGIN:DAYLIGHT
TZOFFSETFROM:+0100
TZOFFSETTO:+0200
TZNAME:CEST
DTSTART:20260329T010000
END:DAYLIGHT
BEGIN:STANDARD
TZOFFSETFROM:+0200
TZOFFSETTO:+0100
TZNAME:CET
DTSTART:20261025T010000
END:STANDARD
END:VTIMEZONE
BEGIN:VEVENT
DTSTART;TZID=Europe/Berlin:20250510T100000
DTEND;TZID=Europe/Berlin:20250510T110000
DTSTAMP:20260424T141902
CREATED:20250427T091231Z
LAST-MODIFIED:20250427T094535Z
UID:14722-1746871200-1746874800@weltladen-darmstadt.de
SUMMARY:Weltladentag am 10. Mai: Faires Frühstück: Gemeinsam genießen und Gutes tun!
DESCRIPTION:Am Samstag\, den 10. Mai 2025\, lädt der Weltladen Darmstadt herzlich zum Fairen Frühstück ein! Von 10 bis 13 Uhr verwöhnen wir unsere Gäste im Laden in der Elisabethenstraße 51 mit einer Auswahl an fair gehandelten Köstlichkeiten: aromatischer Kaffee\, feinste Tees\, erfrischende Säfte\, herzhafte Brotaufstriche\, Müsli\, frische Bio-Bananen und viele weitere Leckereien warten auf Sie. \n\n\n\nUnser Fairer Brunch ist Teil des 30. Weltladentags\, an dem Weltläden deutschlandweit unter dem Motto„Schoki fürs Klima? Kauf ich euch ab!“auf die Herausforderungen des Kakaoanbaus in Zeiten des Klimawandels aufmerksam machen. \n\n\n\nErnteausfälle durch Dürren\, Stürme und Krankheiten bedrohen zunehmend die Lebensgrundlage vieler Kakaobäuerinnen und -bauern\, besonders in Westafrika. Ohne faire Preise bleibt ihr Einkommen unsicher – und die Zukunft des Kakaos ebenfalls. \n\n\n\nDeshalb setzen wir uns am Weltladentag gemeinsam für gerechte Kakaopreise ein:Mit fairen Preisen sichern wir Existenzen\, schützen das Klima und bekämpfen Kinderarbeit im Kakaoanbau. \n\n\n\nIm Weltladen informieren wir Sie an diesem Tag über die Auswirkungen des Klimawandels auf den Kakaoanbau und die Bedeutung fairer Handelsbeziehungen. Außerdem sammeln wir weiterhin Unterschriften für die INKOTA-Kampagne „Faire Kakaopreise jetzt!“ – eine Aktion\, die große Schokoladenhersteller wie Milka\, Nestlé und Lindt dazu bewegen will\, endlich faire Preise an Kakaoproduzent*innen zu zahlen. \n\n\n\nKommen Sie vorbei\, genießen Sie ein faires Frühstück und setzen Sie gemeinsam mit uns ein Zeichen für globale Gerechtigkeit! \n\n\n\nFür unsere Planung: meldet euch bis 9. Mai bei uns unter info@weltladen-darmstadt.de. Bring gern Freund:innen mit! Wir freuen uns auf deinen Besuch!
URL:https://weltladen-darmstadt.de/event/weltladentag-am-10-mai-faires-fruehstueck-gemeinsam-geniessen-und-gutes-tun/
LOCATION:Weltladen Darmstadt\, Elisabethenstraße 51\, Darmstadt\, 64283\, Deutschland
ATTACH;FMTTYPE=image/jpeg:https://weltladen-darmstadt.de/wp-content/uploads/2025/04/Sharepic-weltladentag.jpg
ORGANIZER;CN="Weltladen Darmstadt":MAILTO:mail[at]weltladen-darmstadt.de
END:VEVENT
END:VCALENDAR