BEGIN:VCALENDAR
VERSION:2.0
PRODID:-//Weltladen Darmstadt - Solidarisch handeln e.V. - ECPv6.15.20//NONSGML v1.0//EN
CALSCALE:GREGORIAN
METHOD:PUBLISH
X-WR-CALNAME:Weltladen Darmstadt - Solidarisch handeln e.V.
X-ORIGINAL-URL:https://weltladen-darmstadt.de
X-WR-CALDESC:Veranstaltungen für Weltladen Darmstadt - Solidarisch handeln e.V.
REFRESH-INTERVAL;VALUE=DURATION:PT1H
X-Robots-Tag:noindex
X-PUBLISHED-TTL:PT1H
BEGIN:VTIMEZONE
TZID:Europe/Berlin
BEGIN:DAYLIGHT
TZOFFSETFROM:+0100
TZOFFSETTO:+0200
TZNAME:CEST
DTSTART:20240331T010000
END:DAYLIGHT
BEGIN:STANDARD
TZOFFSETFROM:+0200
TZOFFSETTO:+0100
TZNAME:CET
DTSTART:20241027T010000
END:STANDARD
BEGIN:DAYLIGHT
TZOFFSETFROM:+0100
TZOFFSETTO:+0200
TZNAME:CEST
DTSTART:20250330T010000
END:DAYLIGHT
BEGIN:STANDARD
TZOFFSETFROM:+0200
TZOFFSETTO:+0100
TZNAME:CET
DTSTART:20251026T010000
END:STANDARD
BEGIN:DAYLIGHT
TZOFFSETFROM:+0100
TZOFFSETTO:+0200
TZNAME:CEST
DTSTART:20260329T010000
END:DAYLIGHT
BEGIN:STANDARD
TZOFFSETFROM:+0200
TZOFFSETTO:+0100
TZNAME:CET
DTSTART:20261025T010000
END:STANDARD
END:VTIMEZONE
BEGIN:VEVENT
DTSTART;TZID=Europe/Berlin:20250528T160000
DTEND;TZID=Europe/Berlin:20250528T180000
DTSTAMP:20260424T124616
CREATED:20250521T230603Z
LAST-MODIFIED:20250521T230700Z
UID:15097-1748448000-1748455200@weltladen-darmstadt.de
SUMMARY:Nachhaltige Stadtführung - Innenstadt
DESCRIPTION:Darmstadt ist voll von Orten und Menschen\, die mit kreativen Ideen und Leidenschaft zeigen\, dass eine andere Art des Lebens und Wirtschaftens möglich ist: fair\, ressourcenschonend und klimatauglich. Mit unserem nachhaltigen Stadtrundgang möchten wir dich einladen\, einige dieser Orte kennenzulernen. \n\n\n\nDer nächste „Orte-des -Wandels“-Stadtrundgang findet am 28. Mai statt. Wirstarten um 16 Uhr auf dem Stadtkirchplatz. Von da aus geht es vorbei an Djavas Second Hand zum Bekleidungsgeschäft Numero 5\, wo wir mit der Besitzerin des Ladens darüber sprechen\, warum sie nachhaltige und faire Mode verkauft.Vorbei an einer Heinerbike-Station geht es dann zu einem Handygeschäft\, wo wir etwasüber das Recht auf Reparatur lernen. Die Führung endet am Weltladen in der Elisabethenstraße\, wo wir uns fairen Handel in Form von Schokolade auf der Zungezergehen lassen. Unterwegs werden weitere tolle Initiativen\, Verschenk-\, Reperatur- undTauschgelegenheiten in Darmstadt thematisiert. \n\n\n\nKosten: keine\, Spenden willkommen.Anmeldung (max. 20 Personen) bis 27. Mai an: wandelkarte(at)transition-darmstadt.de \n\n\n\nVeranstalter: Gemeinwohl-Ökonomie Darmstadt\, Weltladen Darmstadt\, Transition Town Darmstadt
URL:https://weltladen-darmstadt.de/event/nachhaltige-stadtfuehrung-innenstadt-6/
ATTACH;FMTTYPE=image/jpeg:https://weltladen-darmstadt.de/wp-content/uploads/2025/05/20250528_Orte_des_Wandels_Stadtfuehrung-.jpg
END:VEVENT
END:VCALENDAR