BEGIN:VCALENDAR
VERSION:2.0
PRODID:-//Weltladen Darmstadt - Solidarisch handeln e.V. - ECPv6.15.20//NONSGML v1.0//EN
CALSCALE:GREGORIAN
METHOD:PUBLISH
X-WR-CALNAME:Weltladen Darmstadt - Solidarisch handeln e.V.
X-ORIGINAL-URL:https://weltladen-darmstadt.de
X-WR-CALDESC:Veranstaltungen für Weltladen Darmstadt - Solidarisch handeln e.V.
REFRESH-INTERVAL;VALUE=DURATION:PT1H
X-Robots-Tag:noindex
X-PUBLISHED-TTL:PT1H
BEGIN:VTIMEZONE
TZID:Europe/Berlin
BEGIN:DAYLIGHT
TZOFFSETFROM:+0100
TZOFFSETTO:+0200
TZNAME:CEST
DTSTART:20240331T010000
END:DAYLIGHT
BEGIN:STANDARD
TZOFFSETFROM:+0200
TZOFFSETTO:+0100
TZNAME:CET
DTSTART:20241027T010000
END:STANDARD
BEGIN:DAYLIGHT
TZOFFSETFROM:+0100
TZOFFSETTO:+0200
TZNAME:CEST
DTSTART:20250330T010000
END:DAYLIGHT
BEGIN:STANDARD
TZOFFSETFROM:+0200
TZOFFSETTO:+0100
TZNAME:CET
DTSTART:20251026T010000
END:STANDARD
BEGIN:DAYLIGHT
TZOFFSETFROM:+0100
TZOFFSETTO:+0200
TZNAME:CEST
DTSTART:20260329T010000
END:DAYLIGHT
BEGIN:STANDARD
TZOFFSETFROM:+0200
TZOFFSETTO:+0100
TZNAME:CET
DTSTART:20261025T010000
END:STANDARD
END:VTIMEZONE
BEGIN:VEVENT
DTSTART;TZID=Europe/Berlin:20250603T100000
DTEND;TZID=Europe/Berlin:20250603T163000
DTSTAMP:20260424T124624
CREATED:20250312T160131Z
LAST-MODIFIED:20250508T123155Z
UID:14352-1748944800-1748968200@weltladen-darmstadt.de
SUMMARY:Vernetzungstreffen der hessischen Fairtrade-Kommunen und -Kreise 2025
DESCRIPTION:Das diesjährigeVernetzungstreffen der hessischen Fairtrade-Kommunen und -Kreise findet im Gießener Rathaus als Kooperation des Entwicklungspolitischen Netzwerks Hessen (epn) mit der Fairtrade-Town Gießen und dem Fairtrade-Landkreis Gießen statt. Die Teilnehmenden erwarten wieder spannende Workshops und Vorträge sowie viel Raum zum Austausch. \n\n\n\nZur Anmeldung\, zu weiteren Informationen und zum Programm: \n\n\n\n\nVernetzungstreffen 2025…
URL:https://weltladen-darmstadt.de/event/vernetzungstreffen-der-hessischen-fairtrade-kommunen-und-kreise-2025/
ATTACH;FMTTYPE=image/jpeg:https://weltladen-darmstadt.de/wp-content/uploads/2025/03/Vernetzungstreffen-FFT-2025-2.jpg
END:VEVENT
END:VCALENDAR