BEGIN:VCALENDAR
VERSION:2.0
PRODID:-//Weltladen Darmstadt - Solidarisch handeln e.V. - ECPv6.15.20//NONSGML v1.0//EN
CALSCALE:GREGORIAN
METHOD:PUBLISH
X-ORIGINAL-URL:https://weltladen-darmstadt.de
X-WR-CALDESC:Veranstaltungen für Weltladen Darmstadt - Solidarisch handeln e.V.
REFRESH-INTERVAL;VALUE=DURATION:PT1H
X-Robots-Tag:noindex
X-PUBLISHED-TTL:PT1H
BEGIN:VTIMEZONE
TZID:Europe/Berlin
BEGIN:DAYLIGHT
TZOFFSETFROM:+0100
TZOFFSETTO:+0200
TZNAME:CEST
DTSTART:20240331T010000
END:DAYLIGHT
BEGIN:STANDARD
TZOFFSETFROM:+0200
TZOFFSETTO:+0100
TZNAME:CET
DTSTART:20241027T010000
END:STANDARD
BEGIN:DAYLIGHT
TZOFFSETFROM:+0100
TZOFFSETTO:+0200
TZNAME:CEST
DTSTART:20250330T010000
END:DAYLIGHT
BEGIN:STANDARD
TZOFFSETFROM:+0200
TZOFFSETTO:+0100
TZNAME:CET
DTSTART:20251026T010000
END:STANDARD
BEGIN:DAYLIGHT
TZOFFSETFROM:+0100
TZOFFSETTO:+0200
TZNAME:CEST
DTSTART:20260329T010000
END:DAYLIGHT
BEGIN:STANDARD
TZOFFSETFROM:+0200
TZOFFSETTO:+0100
TZNAME:CET
DTSTART:20261025T010000
END:STANDARD
END:VTIMEZONE
BEGIN:VEVENT
DTSTART;TZID=Europe/Berlin:20250623T100000
DTEND;TZID=Europe/Berlin:20250629T183000
DTSTAMP:20260424T124923
CREATED:20250617T150939Z
LAST-MODIFIED:20250617T151713Z
UID:15474-1750672800-1751221800@weltladen-darmstadt.de
SUMMARY:Weltladen bleibt vom 23. – 28. Juni geschlossen
DESCRIPTION:Eine wichtige Veränderung: Wir stellen um! \n\n\n\nIm Juni steht bei uns eine große Veränderung an: Wir führen ein neues Warenwirtschaftssystem ein! Damit möchten wir unsere internen Abläufe verbessern – und euch künftig noch effizienter\, serviceorientierter und moderner bedienen. \n\n\n\nDaher bleibt der Weltladen von Montag\, 23. Juni\, bis einschließlich Sonntag\, 29. Juni geschlossen. \n\n\n\nIn dieser Zeit: \n\n\n\n\nwerden unsere ehrenamtlichen Mitarbeiter:innen intensiv im neuen Kassensystem geschult\,\n\n\n\nrichten wir die neue Technik ein\,\n\n\n\nund nutzen die Gelegenheit für eine kleine Umgestaltung des Ladens – lasst euch überraschen!\n\n\n\n\nWir bitten herzlich um euer Verständnis für die vorübergehende Schließung und freuen uns schon jetzt darauf\, euch ab Montag\, 30. Juni wieder zu unseren Öffnungszeiten begrüßen zu dürfen – mit frischem Schwung\, neuen Abläufen und natürlich wie immer mit einem Lächeln! \n\n\n\nDanke\, dass ihr diesen Schritt mit uns geht – für einen starken Fairen Handel in Darmstadt! \n\n\n\nÖffnungszeiten: \n\n\n\n\n\nMo\,Di\,Do\,Fr:Sa:Mi: \n\n\n\n\n\n10.00 – 18.3010.00 – 16.00geschlossen
URL:https://weltladen-darmstadt.de/event/weltladen-bleibt-vom-23-29-juni-geschlossen/
LOCATION:Weltladen Darmstadt\, Elisabethenstraße 51\, Darmstadt\, 64283\, Deutschland
ATTACH;FMTTYPE=image/jpeg:https://weltladen-darmstadt.de/wp-content/uploads/2025/06/Schliesszeit-Juni-25.jpg
ORGANIZER;CN="Weltladen Darmstadt":MAILTO:mail[at]weltladen-darmstadt.de
END:VEVENT
BEGIN:VEVENT
DTSTART;TZID=Europe/Berlin:20250627T160000
DTEND;TZID=Europe/Berlin:20250627T180000
DTSTAMP:20260424T124924
CREATED:20250517T152642Z
LAST-MODIFIED:20250607T080706Z
UID:15027-1751040000-1751047200@weltladen-darmstadt.de
SUMMARY:Nachhaltige Stadtführung – Martinsviertel
DESCRIPTION:Nachhaltige Stadtführung „Orte des Wandels“ – MartinsviertelFreitag\, 27. Juni 2025\, 16 bis 18 Uhr \n\n\n\nDarmstadt ist voll von Orten und Menschen\, die mit kreativen Ideen und Leidenschaft zeigen\, dass eine andere Art des Lebens und Wirtschaftens möglich ist: fair\, ressourcenschonend und klimatauglich. Mit unserem nachhaltigen Stadtrundgang möchten wir dich einladen\, einige dieser Orte kennenzulernen. \n\n\n\nDer nächste „Orte-des -Wandels“-Stadtrundgang findet am Freitag\, 27. Juni\, im Martinsviertel statt. Wirstarten um 16 Uhr und besuchen den Unverpackt-Laden in der Gutenbergstr\, anschließend Lejlas Second-Hand\, die Ubuntu-Inititive mit ihrem Material-Bus\, Thildas Eiscafé\, das First- und Secondhand-Modegeschäft Pompadour und abschließend das Schuhknecht-Café. Jede Station hat ihre Geschichte und unterwegs werden weitere tolle Initiativen\, Verschenk-\, Reparatur- und Tauschgelegenheiten in Darmstadt thematisiert.Der Treffpunkt wird nach der Anmeldung bekanntgegeben. \n\n\n\nKosten: keine\, Spenden willkommen.Anmeldung (max. 20 Personen) an: veranstaltungen(at)weltladen-darmstadt.de \n\n\n\nVeranstalter: Gemeinwohl-Ökonomie Darmstadt\, Weltladen Darmstadt\, Transition Town Darmstadt \n\n\n\n\n\n\n\n\ngefördert vonENGAGEMENT GLOBALmit Mitteln des:
URL:https://weltladen-darmstadt.de/event/nachhaltige-stadtfuehrung-innenstadt-5/
ATTACH;FMTTYPE=image/jpeg:https://weltladen-darmstadt.de/wp-content/uploads/2025/05/27-06-25.jpg
END:VEVENT
END:VCALENDAR