BEGIN:VCALENDAR
VERSION:2.0
PRODID:-//Weltladen Darmstadt - Solidarisch handeln e.V. - ECPv6.15.20//NONSGML v1.0//EN
CALSCALE:GREGORIAN
METHOD:PUBLISH
X-WR-CALNAME:Weltladen Darmstadt - Solidarisch handeln e.V.
X-ORIGINAL-URL:https://weltladen-darmstadt.de
X-WR-CALDESC:Veranstaltungen für Weltladen Darmstadt - Solidarisch handeln e.V.
REFRESH-INTERVAL;VALUE=DURATION:PT1H
X-Robots-Tag:noindex
X-PUBLISHED-TTL:PT1H
BEGIN:VTIMEZONE
TZID:Europe/Berlin
BEGIN:DAYLIGHT
TZOFFSETFROM:+0100
TZOFFSETTO:+0200
TZNAME:CEST
DTSTART:20240331T010000
END:DAYLIGHT
BEGIN:STANDARD
TZOFFSETFROM:+0200
TZOFFSETTO:+0100
TZNAME:CET
DTSTART:20241027T010000
END:STANDARD
BEGIN:DAYLIGHT
TZOFFSETFROM:+0100
TZOFFSETTO:+0200
TZNAME:CEST
DTSTART:20250330T010000
END:DAYLIGHT
BEGIN:STANDARD
TZOFFSETFROM:+0200
TZOFFSETTO:+0100
TZNAME:CET
DTSTART:20251026T010000
END:STANDARD
BEGIN:DAYLIGHT
TZOFFSETFROM:+0100
TZOFFSETTO:+0200
TZNAME:CEST
DTSTART:20260329T010000
END:DAYLIGHT
BEGIN:STANDARD
TZOFFSETFROM:+0200
TZOFFSETTO:+0100
TZNAME:CET
DTSTART:20261025T010000
END:STANDARD
END:VTIMEZONE
BEGIN:VEVENT
DTSTART;TZID=Europe/Berlin:20250912T080000
DTEND;TZID=Europe/Berlin:20250926T170000
DTSTAMP:20260424T075632
CREATED:20250409T094820Z
LAST-MODIFIED:20250711T134253Z
UID:14644-1757664000-1758906000@weltladen-darmstadt.de
SUMMARY:Faire Woche 2025
DESCRIPTION:weiter Infos folgen….
URL:https://weltladen-darmstadt.de/event/faire-woche-2025/
ATTACH;FMTTYPE=image/jpeg:https://weltladen-darmstadt.de/wp-content/uploads/2025/04/Faire-Woche-2.jpg
END:VEVENT
BEGIN:VEVENT
DTSTART;TZID=Europe/Berlin:20250926T183000
DTEND;TZID=Europe/Berlin:20250926T210000
DTSTAMP:20260424T075632
CREATED:20250825T054738Z
LAST-MODIFIED:20250909T102247Z
UID:15868-1758911400-1758920400@weltladen-darmstadt.de
SUMMARY:After-Work-Kleidertauschparty
DESCRIPTION:Kleider tauschen statt neu kaufen! Sei dabei bei unserer After-work-Tauschparty: nachhaltig\, stylish und gratis. Bringe gut erhaltene Kleidung mit\, suche dir neue Favoriten aus\, triff nette Leute und schone die Umwelt. Tauschen statt kaufen ist der Weg zu Fairness und Resourcenschonung. \n\n\n\n🌿 After-Work Kleidertauschpartyim Heiner-Lehr-Zentrum \n\n\n\n👗 Tauschen statt kaufen!Bringe bis zu 5 gut erhaltene Teile oder Accessoires mit – und finde neue Lieblingsstücke\, so viele du möchtest. Nachhaltig\, stylish & kostenlos. \n\n\n\n✨ Programm-Highlights:🧦 Socken-Upcycling – Spülschwämme aus alten Socken & Strumpfhosen:  bring alte\, auch löchrige\, Socken\, Strumpfhosen und Leggings mit✂️ Näh-Ecke – Reparieren\, pimpen & umstylen mit Profi-Unterstützung🥕 Foodsharing – mit geretteten Lebensmitteln\, bitte Behältnis mitbringen🍹 Cocktails – Alkoholfrei\, frisch & fair gemixt👕 Infostand zu Fair & Fast Fashion \n\n\n\n📍 Wann & Wo:26.09.2025 | 18:30 – 21:00 UhrHeiner-Lehr-Zentrum\, Kopernikusplatz 1\, Darmstadt🚍 Bus H & K | Haltestelle Kopernikusplatz \n\n\n\n👉 Komm vorbei\, tausch mit & genieße den Abend!
URL:https://weltladen-darmstadt.de/event/kleidertauschparty/
LOCATION:Heiner-Lehr-Zentrum\, Kopernikusplatz 1\, Darmstadt
ATTACH;FMTTYPE=image/png:https://weltladen-darmstadt.de/wp-content/uploads/2025/08/3_20250909_121034_0002.png
END:VEVENT
END:VCALENDAR