BEGIN:VCALENDAR
VERSION:2.0
PRODID:-//Weltladen Darmstadt - Solidarisch handeln e.V. - ECPv6.15.20//NONSGML v1.0//EN
CALSCALE:GREGORIAN
METHOD:PUBLISH
X-ORIGINAL-URL:https://weltladen-darmstadt.de
X-WR-CALDESC:Veranstaltungen für Weltladen Darmstadt - Solidarisch handeln e.V.
REFRESH-INTERVAL;VALUE=DURATION:PT1H
X-Robots-Tag:noindex
X-PUBLISHED-TTL:PT1H
BEGIN:VTIMEZONE
TZID:Europe/Berlin
BEGIN:DAYLIGHT
TZOFFSETFROM:+0100
TZOFFSETTO:+0200
TZNAME:CEST
DTSTART:20240331T010000
END:DAYLIGHT
BEGIN:STANDARD
TZOFFSETFROM:+0200
TZOFFSETTO:+0100
TZNAME:CET
DTSTART:20241027T010000
END:STANDARD
BEGIN:DAYLIGHT
TZOFFSETFROM:+0100
TZOFFSETTO:+0200
TZNAME:CEST
DTSTART:20250330T010000
END:DAYLIGHT
BEGIN:STANDARD
TZOFFSETFROM:+0200
TZOFFSETTO:+0100
TZNAME:CET
DTSTART:20251026T010000
END:STANDARD
BEGIN:DAYLIGHT
TZOFFSETFROM:+0100
TZOFFSETTO:+0200
TZNAME:CEST
DTSTART:20260329T010000
END:DAYLIGHT
BEGIN:STANDARD
TZOFFSETFROM:+0200
TZOFFSETTO:+0100
TZNAME:CET
DTSTART:20261025T010000
END:STANDARD
END:VTIMEZONE
BEGIN:VEVENT
DTSTART;TZID=Europe/Berlin:20250927T100000
DTEND;TZID=Europe/Berlin:20250927T123000
DTSTAMP:20260424T080038
CREATED:20250711T171903Z
LAST-MODIFIED:20251031T113341Z
UID:15741-1758967200-1758976200@weltladen-darmstadt.de
SUMMARY:Schokoladen-Werkstatt für Kinder: Wo die Schokolade wächst
DESCRIPTION:Vom Kakaobaum zur Schokolade…Eine Schokoladen-Werkstatt für Kinder von 6-11 Jahren. Ihr lernt den Kakaobaum und die Länder\, in denen er wächst kennen. Außerdem erfahrt ihr\, wie aus Kakaobohnen Schokolade wird und wieviel Arbeit dahinter steckt\, bis sie in unseren Geschäften ankommt. \n\n\n\nAus Kakaobohnen und anderen Zutaten stellen wir unsere eigene Schokolade her\, die wir zum Abschluss mit einem leckeren Kakao probieren. Nach dieser Schokoladenwerkstatt werdet ihr wissen\, wie wertvoll Schokolade und was das Besondere an einer fair gehandelten Schokolade ist. \n\n\n\nKursgebühr: 25\,00 € \n\n\n\nAnmeldung direkt bei der Kreis VHS und weitere Infos:https://www.kvhsgg.de/programm/gesellschaft/kw/bereich/kursdetails/kurs/52GG11014/kursname/Schokoladen-Werkstatt%20fuer%20Kinder%20Wo%20die%20Schokolade%20waechst/kategorie-id/152/
URL:https://weltladen-darmstadt.de/event/schokoladen-werkstatt-fuer-kinder-wo-die-schokolade-waechst/
LOCATION:Schloss Dornberg\, Hauptstraße 1\, Groß-Gerau\, 64521
ATTACH;FMTTYPE=image/jpeg:https://weltladen-darmstadt.de/wp-content/uploads/2025/10/Schokoladenwerkstatt-allgemein.jpg
ORGANIZER;CN="Kreis VHS Gro%C3%9F-Gerau":MAILTO:info[at]kvhsgg.de
END:VEVENT
BEGIN:VEVENT
DTSTART;TZID=Europe/Berlin:20250927T140000
DTEND;TZID=Europe/Berlin:20250927T170000
DTSTAMP:20260424T080038
CREATED:20250711T161007Z
LAST-MODIFIED:20250802T155356Z
UID:15714-1758981600-1758992400@weltladen-darmstadt.de
SUMMARY:Orte des Wandels - Radtour
DESCRIPTION:Darmstadt ist voll von Orten und Menschen\, die mit kreativen Ideen und Leidenschaft zeigen\, dass eine andere Art des Lebens und Wirtschaftens möglich ist: fair\, ressourcenschonend und klimatauglich. Auf dieser Stadtführung zu „Orten des Wandelns“ erkunden wir per Rad auf den Spuren der Wandelkarte einige dieser Orte. Wir sprechen mit Menschen\, die sich für Ihre Mitmenschen und unseren Planeten engagieren und lernen spannende Projekte kennen. Die Tour endet im Bayerischen Biergarten\, wo wir den Tag bei einem kühlen Getränk und sicherlich auch dem ein oder anderem interessanten Gespräch ausklingen lassen. Bitte unbedingt ein Fahrrad mitbringen! \n\n\n\nTreffpunkt: am KA-GEL (Kaufhaus der Gelegenheiten)\, Pallaswiesenstraße 122\, Darmstadt \n\n\n\nKosten: keine \n\n\n\nAnmeldung: \n\n\n\nwandelkarte(at)transition-darmstadt.de
URL:https://weltladen-darmstadt.de/event/orte-des-wandels-radtour/
ATTACH;FMTTYPE=image/jpeg:https://weltladen-darmstadt.de/wp-content/uploads/2025/07/27-09-2025.jpg
END:VEVENT
END:VCALENDAR