BEGIN:VCALENDAR
VERSION:2.0
PRODID:-//Weltladen Darmstadt - Solidarisch handeln e.V. - ECPv6.15.20//NONSGML v1.0//EN
CALSCALE:GREGORIAN
METHOD:PUBLISH
X-ORIGINAL-URL:https://weltladen-darmstadt.de
X-WR-CALDESC:Veranstaltungen für Weltladen Darmstadt - Solidarisch handeln e.V.
REFRESH-INTERVAL;VALUE=DURATION:PT1H
X-Robots-Tag:noindex
X-PUBLISHED-TTL:PT1H
BEGIN:VTIMEZONE
TZID:Europe/Berlin
BEGIN:DAYLIGHT
TZOFFSETFROM:+0100
TZOFFSETTO:+0200
TZNAME:CEST
DTSTART:20240331T010000
END:DAYLIGHT
BEGIN:STANDARD
TZOFFSETFROM:+0200
TZOFFSETTO:+0100
TZNAME:CET
DTSTART:20241027T010000
END:STANDARD
BEGIN:DAYLIGHT
TZOFFSETFROM:+0100
TZOFFSETTO:+0200
TZNAME:CEST
DTSTART:20250330T010000
END:DAYLIGHT
BEGIN:STANDARD
TZOFFSETFROM:+0200
TZOFFSETTO:+0100
TZNAME:CET
DTSTART:20251026T010000
END:STANDARD
BEGIN:DAYLIGHT
TZOFFSETFROM:+0100
TZOFFSETTO:+0200
TZNAME:CEST
DTSTART:20260329T010000
END:DAYLIGHT
BEGIN:STANDARD
TZOFFSETFROM:+0200
TZOFFSETTO:+0100
TZNAME:CET
DTSTART:20261025T010000
END:STANDARD
END:VTIMEZONE
BEGIN:VEVENT
DTSTART;TZID=Europe/Berlin:20250929T193000
DTEND;TZID=Europe/Berlin:20250929T210000
DTSTAMP:20260424T061443
CREATED:20250828T065823Z
LAST-MODIFIED:20250828T065927Z
UID:15963-1759174200-1759179600@weltladen-darmstadt.de
SUMMARY:Once I had a dream
DESCRIPTION:Ein ereignisreiches Musical-Drama der PREDA Youth Group über die Rechte und Würde der Kinder dieser Welt (in deutscher Sprache). \n\n\n\nOrt: Goetheschule Dieburg \n\n\n\nmehr Infos: weltladen-dieburg.de/prod2/index.php/event/theaterstueck-once-i-had-a-dream.html
URL:https://weltladen-darmstadt.de/event/once-i-had-a-dream/
ATTACH;FMTTYPE=image/jpeg:https://weltladen-darmstadt.de/wp-content/uploads/2025/08/Theater-1.jpg
END:VEVENT
END:VCALENDAR