BEGIN:VCALENDAR
VERSION:2.0
PRODID:-//Weltladen Darmstadt - Solidarisch handeln e.V. - ECPv6.15.20//NONSGML v1.0//EN
CALSCALE:GREGORIAN
METHOD:PUBLISH
X-ORIGINAL-URL:https://weltladen-darmstadt.de
X-WR-CALDESC:Veranstaltungen für Weltladen Darmstadt - Solidarisch handeln e.V.
REFRESH-INTERVAL;VALUE=DURATION:PT1H
X-Robots-Tag:noindex
X-PUBLISHED-TTL:PT1H
BEGIN:VTIMEZONE
TZID:Europe/Berlin
BEGIN:DAYLIGHT
TZOFFSETFROM:+0100
TZOFFSETTO:+0200
TZNAME:CEST
DTSTART:20240331T010000
END:DAYLIGHT
BEGIN:STANDARD
TZOFFSETFROM:+0200
TZOFFSETTO:+0100
TZNAME:CET
DTSTART:20241027T010000
END:STANDARD
BEGIN:DAYLIGHT
TZOFFSETFROM:+0100
TZOFFSETTO:+0200
TZNAME:CEST
DTSTART:20250330T010000
END:DAYLIGHT
BEGIN:STANDARD
TZOFFSETFROM:+0200
TZOFFSETTO:+0100
TZNAME:CET
DTSTART:20251026T010000
END:STANDARD
BEGIN:DAYLIGHT
TZOFFSETFROM:+0100
TZOFFSETTO:+0200
TZNAME:CEST
DTSTART:20260329T010000
END:DAYLIGHT
BEGIN:STANDARD
TZOFFSETFROM:+0200
TZOFFSETTO:+0100
TZNAME:CET
DTSTART:20261025T010000
END:STANDARD
END:VTIMEZONE
BEGIN:VEVENT
DTSTART;TZID=Europe/Berlin:20251120T190000
DTEND;TZID=Europe/Berlin:20251120T213000
DTSTAMP:20260422T082721
CREATED:20251105T171928Z
LAST-MODIFIED:20251105T171928Z
UID:17032-1763665200-1763674200@weltladen-darmstadt.de
SUMMARY:Chocolate war - Film und Gespräch
DESCRIPTION:Seit über zwanzig Jahren versprechen die großen Schokoladenkonzerne eine faire Produktion – doch noch immer schuften hunderttausende Kinder auf Kakaoplantagen in Westafrika. Der Dokumentarfilm „The Chocolate War“ folgt dem Menschenrechtsanwalt Terry Collingsworth über fünf Jahre in seinem beharrlichen juristischen Kampf gegen Nestlé und Cargill. Mit eindrucksvollen Bildern und bewegenden Zeugnissen zeigt der Film\, wie schwer es ist\, Gerechtigkeit gegen globale Wirtschaftsmächte zu erstreiten – und warum der süße Geschmack von Schokolade oft bittere Wahrheiten verbirgt. \n\n\n\nIm Anschluss: Gespräch mit Annika Waymann\, Fachpromotorin für Fairen Handelund nachhaltige Beschaffung in Hessen\, über Verantwortung\, Transparenz und Handlungsmöglichkeiten für Konsument*innen und Politik.
URL:https://weltladen-darmstadt.de/event/chocolate-war-film-und-gespraech/
LOCATION:Liebfrauenkirche\, Herzbergstr. 34\, Oberursel
ATTACH;FMTTYPE=image/jpeg:https://weltladen-darmstadt.de/wp-content/uploads/2025/11/Chocolate-war.jpg
END:VEVENT
END:VCALENDAR