BEGIN:VCALENDAR
VERSION:2.0
PRODID:-//Weltladen Darmstadt - Solidarisch handeln e.V. - ECPv6.15.20//NONSGML v1.0//EN
CALSCALE:GREGORIAN
METHOD:PUBLISH
X-ORIGINAL-URL:https://weltladen-darmstadt.de
X-WR-CALDESC:Veranstaltungen für Weltladen Darmstadt - Solidarisch handeln e.V.
REFRESH-INTERVAL;VALUE=DURATION:PT1H
X-Robots-Tag:noindex
X-PUBLISHED-TTL:PT1H
BEGIN:VTIMEZONE
TZID:Europe/Berlin
BEGIN:DAYLIGHT
TZOFFSETFROM:+0100
TZOFFSETTO:+0200
TZNAME:CEST
DTSTART:20240331T010000
END:DAYLIGHT
BEGIN:STANDARD
TZOFFSETFROM:+0200
TZOFFSETTO:+0100
TZNAME:CET
DTSTART:20241027T010000
END:STANDARD
BEGIN:DAYLIGHT
TZOFFSETFROM:+0100
TZOFFSETTO:+0200
TZNAME:CEST
DTSTART:20250330T010000
END:DAYLIGHT
BEGIN:STANDARD
TZOFFSETFROM:+0200
TZOFFSETTO:+0100
TZNAME:CET
DTSTART:20251026T010000
END:STANDARD
BEGIN:DAYLIGHT
TZOFFSETFROM:+0100
TZOFFSETTO:+0200
TZNAME:CEST
DTSTART:20260329T010000
END:DAYLIGHT
BEGIN:STANDARD
TZOFFSETFROM:+0200
TZOFFSETTO:+0100
TZNAME:CET
DTSTART:20261025T010000
END:STANDARD
END:VTIMEZONE
BEGIN:VEVENT
DTSTART;TZID=Europe/Berlin:20251121T193000
DTEND;TZID=Europe/Berlin:20251121T210000
DTSTAMP:20260422T082633
CREATED:20251029T100411Z
LAST-MODIFIED:20251031T164010Z
UID:16921-1763753400-1763758800@weltladen-darmstadt.de
SUMMARY:Faszination Ostafrika – Multivisionsshow in Dieburg
DESCRIPTION:Der Eine Welt-Verein Dieburg lädt am Freitag\, 21. November\, um 19:30 Uhr zu einer eindrucksvollen Multivisionsshow in der Römerhalle Dieburg ein. Die Fotojournalist:innen Dr. Jutta Ulmer und Dr. Michael Wolfsteiner nehmen das Publikum mit auf eine farbenprächtige Reise durch Uganda\, Kenia und Tansania – von den Nebelwäldern der Berggorillas über die Savannen der Serengeti bis zu den weißen Stränden Sansibars. \n\n\n\nIn ihrer live kommentierten Show verbinden sie grandiose Naturaufnahmen\, authentische Klänge und berührende Geschichten von Begegnungen mit Fair-Trade-Produzenten\, Umweltschützern und Alltagshelden. Entstanden ist ein lebendiges Porträt Ostafrikas\, das zum Staunen\, Nachdenken und Träumen einlädt. \n\n\n\nSie durften die Lebens- und Arbeitswelt folgender Fair-Handels-Organisationen fotografisch dokumentieren: \n\n\n\n\nVanille (RFCU|Esco\, Uganda)\n\n\n\nRosen (Bilashaka Flowers\, Kenia)\n\n\n\nSpeckstein-Produkte (Undugu\, Kenia)\n\n\n\nPerlenschmuck (BeadWORKS\, Kenia)\n\n\n\nDigitale Dienstleistungen (Digital Lions\, Kenia)\n\n\n\nTrockenananas (Matunda Mema\, Tansania)\n\n\n\nSchwarzer Tee (RBTC-JE|WATCO\, Tansania)\n\n\n\nUpcycling-Glaswaren (CHAKO\, Tansania)\n\n\n\n\nEintritt: 15\,00 € / 7\,50 € ermäßigt – freie Platzwahl. \n\n\n\nRömerhalle\, In der Altstadt 5\, Dieburg
URL:https://weltladen-darmstadt.de/event/faszination-ostafrika-multivisionsshow-in-dieburg/
LOCATION:Römerhalle\, In der Altstadt 5\, Dieburg\, Germany
ATTACH;FMTTYPE=image/jpeg:https://weltladen-darmstadt.de/wp-content/uploads/2025/10/Ostafrika-Dieburg.jpg
END:VEVENT
END:VCALENDAR