BEGIN:VCALENDAR
VERSION:2.0
PRODID:-//Weltladen Darmstadt - Solidarisch handeln e.V. - ECPv6.15.20//NONSGML v1.0//EN
CALSCALE:GREGORIAN
METHOD:PUBLISH
X-WR-CALNAME:Weltladen Darmstadt - Solidarisch handeln e.V.
X-ORIGINAL-URL:https://weltladen-darmstadt.de
X-WR-CALDESC:Veranstaltungen für Weltladen Darmstadt - Solidarisch handeln e.V.
REFRESH-INTERVAL;VALUE=DURATION:PT1H
X-Robots-Tag:noindex
X-PUBLISHED-TTL:PT1H
BEGIN:VTIMEZONE
TZID:Europe/Berlin
BEGIN:DAYLIGHT
TZOFFSETFROM:+0100
TZOFFSETTO:+0200
TZNAME:CEST
DTSTART:20240331T010000
END:DAYLIGHT
BEGIN:STANDARD
TZOFFSETFROM:+0200
TZOFFSETTO:+0100
TZNAME:CET
DTSTART:20241027T010000
END:STANDARD
BEGIN:DAYLIGHT
TZOFFSETFROM:+0100
TZOFFSETTO:+0200
TZNAME:CEST
DTSTART:20250330T010000
END:DAYLIGHT
BEGIN:STANDARD
TZOFFSETFROM:+0200
TZOFFSETTO:+0100
TZNAME:CET
DTSTART:20251026T010000
END:STANDARD
BEGIN:DAYLIGHT
TZOFFSETFROM:+0100
TZOFFSETTO:+0200
TZNAME:CEST
DTSTART:20260329T010000
END:DAYLIGHT
BEGIN:STANDARD
TZOFFSETFROM:+0200
TZOFFSETTO:+0100
TZNAME:CET
DTSTART:20261025T010000
END:STANDARD
END:VTIMEZONE
BEGIN:VEVENT
DTSTART;TZID=Europe/Berlin:20251124T110000
DTEND;TZID=Europe/Berlin:20251124T170000
DTSTAMP:20260422T082345
CREATED:20251017T103354Z
LAST-MODIFIED:20251017T103621Z
UID:16780-1763982000-1764003600@weltladen-darmstadt.de
SUMMARY:Tag der Nachhaltigkeit
DESCRIPTION:Gemeinsam laden Hochschulen\, Bildungseinrichtungen und engagierte Partner:innen zu einem transdisziplinären Abenteuer ein: Entdecken – Diskutieren – Mitmachen!Du kannst erforschen\, wie Ökologie\, Technik\, Wirtschaft und Soziales zusammenwirken – und nachhaltige Zukunftsfragen aktiv mitgestalten. \n\n\n\nOrt: Evangelische Hochschule Darmstadt\, Zweifalltorweg 12\, 64293 Darmstadt \n\n\n\nmehr Infos: https://alumni.eh-darmstadt.de/termine/tag-der-nachhaltigkeit-an-der-ehd/
URL:https://weltladen-darmstadt.de/event/tag-der-nachhaltigkeit/
LOCATION:evangelische Hochschule\, Zweifalltorweg 12\, Darmstadt
ATTACH;FMTTYPE=image/jpeg:https://weltladen-darmstadt.de/wp-content/uploads/2025/10/Tag-der-Nachhaltigkeit-EHD-2025.jpg
END:VEVENT
END:VCALENDAR