BEGIN:VCALENDAR
VERSION:2.0
PRODID:-//Weltladen Darmstadt - Solidarisch handeln e.V. - ECPv6.15.20//NONSGML v1.0//EN
CALSCALE:GREGORIAN
METHOD:PUBLISH
X-ORIGINAL-URL:https://weltladen-darmstadt.de
X-WR-CALDESC:Veranstaltungen für Weltladen Darmstadt - Solidarisch handeln e.V.
REFRESH-INTERVAL;VALUE=DURATION:PT1H
X-Robots-Tag:noindex
X-PUBLISHED-TTL:PT1H
BEGIN:VTIMEZONE
TZID:Europe/Berlin
BEGIN:DAYLIGHT
TZOFFSETFROM:+0100
TZOFFSETTO:+0200
TZNAME:CEST
DTSTART:20240331T010000
END:DAYLIGHT
BEGIN:STANDARD
TZOFFSETFROM:+0200
TZOFFSETTO:+0100
TZNAME:CET
DTSTART:20241027T010000
END:STANDARD
BEGIN:DAYLIGHT
TZOFFSETFROM:+0100
TZOFFSETTO:+0200
TZNAME:CEST
DTSTART:20250330T010000
END:DAYLIGHT
BEGIN:STANDARD
TZOFFSETFROM:+0200
TZOFFSETTO:+0100
TZNAME:CET
DTSTART:20251026T010000
END:STANDARD
BEGIN:DAYLIGHT
TZOFFSETFROM:+0100
TZOFFSETTO:+0200
TZNAME:CEST
DTSTART:20260329T010000
END:DAYLIGHT
BEGIN:STANDARD
TZOFFSETFROM:+0200
TZOFFSETTO:+0100
TZNAME:CET
DTSTART:20261025T010000
END:STANDARD
END:VTIMEZONE
BEGIN:VEVENT
DTSTART;TZID=Europe/Berlin:20251128T183000
DTEND;TZID=Europe/Berlin:20251128T210000
DTSTAMP:20260422T083656
CREATED:20251017T093000Z
LAST-MODIFIED:20251031T114657Z
UID:16573-1764354600-1764363600@weltladen-darmstadt.de
SUMMARY:Süße FAIRführung - Schokoladenwerkstatt für Erwachsene
DESCRIPTION:Wenn der Duft frisch gerösteter Kakaobohnen durch den Weltladen zieht\, dann steht eines fest: Es wird süß\, kreativ und fair! Ende November laden wir Kinder und Erwachsene ein\, die Welt der Schokolade mit allen Sinnen zu entdecken – vom Kakaobaum bis zur eigenen\, handgemachten Weihnachtsschokolade. \n\n\n\n Süße Fairführung – Stell deine eigene Weihnachtsschokolade herEin genussvoller Abend im Zeichen des Fairen Handels:Teilnehmer:innen erfahren\, wie aus Kakaobohnen köstliche Schokolade entsteht – und stellen ihre eigene\, fair gehandelte Weihnachtsschokolade her.Begleitet von spannenden Geschichten über den Kakaoanbau\, den Fairen Handel und nachhaltigen Genuss\, entsteht ein unvergessliches Geschmackserlebnis in adventlicher Atmosphäre. \n\n\n\nErwachsene | 8 € Materialkosten Freitag\, 28. November 2025 | 18:30–21:00 UhrWeltladen Darmstadt\, Elisabethenstraße 51 \n\n\n\n \n\n\n\n\n\n\n\nAnmeldung für beide Werkstätten bis 21. November möglich: \n\n\nBitte aktiviere JavaScript in deinem Browser\, um dieses Formular fertigzustellen.Bitte aktiviere JavaScript in deinem Browser\, um dieses Formular fertigzustellen.Name (Absender) *E-Mail-Adresse *Name\, Vorname (Teilnehmer:in) *Bitte eine Veranstaltung auswählen: *— Auswahl treffen —Schokoladenwerkstatt für Kinder am 27.11.2025Schokoladenwerkstatt für Erwachsene am 28.11.2025DSGVO-Einverständnis *Ich willige ein\, dass diese Website meine übermittelten Informationen speichert\, sodass meine Anfrage beantwortet werden kann.\n		You need to enable Javascript for the anti-spam check.Nachricht senden
URL:https://weltladen-darmstadt.de/event/suesse-fairfuehrung-schokoladenwerkstatt-fuer-erwachsene/
LOCATION:Weltladen Darmstadt\, Elisabethenstraße 51\, Darmstadt\, 64283\, Deutschland
ATTACH;FMTTYPE=image/jpeg:https://weltladen-darmstadt.de/wp-content/uploads/2025/10/Suesse-Fairfuehrung.jpg
ORGANIZER;CN="Weltladen Darmstadt":MAILTO:mail[at]weltladen-darmstadt.de
END:VEVENT
END:VCALENDAR