BEGIN:VCALENDAR
VERSION:2.0
PRODID:-//Weltladen Darmstadt - Solidarisch handeln e.V. - ECPv6.15.20//NONSGML v1.0//EN
CALSCALE:GREGORIAN
METHOD:PUBLISH
X-WR-CALNAME:Weltladen Darmstadt - Solidarisch handeln e.V.
X-ORIGINAL-URL:https://weltladen-darmstadt.de
X-WR-CALDESC:Veranstaltungen für Weltladen Darmstadt - Solidarisch handeln e.V.
REFRESH-INTERVAL;VALUE=DURATION:PT1H
X-Robots-Tag:noindex
X-PUBLISHED-TTL:PT1H
BEGIN:VTIMEZONE
TZID:Europe/Berlin
BEGIN:DAYLIGHT
TZOFFSETFROM:+0100
TZOFFSETTO:+0200
TZNAME:CEST
DTSTART:20250330T010000
END:DAYLIGHT
BEGIN:STANDARD
TZOFFSETFROM:+0200
TZOFFSETTO:+0100
TZNAME:CET
DTSTART:20251026T010000
END:STANDARD
BEGIN:DAYLIGHT
TZOFFSETFROM:+0100
TZOFFSETTO:+0200
TZNAME:CEST
DTSTART:20260329T010000
END:DAYLIGHT
BEGIN:STANDARD
TZOFFSETFROM:+0200
TZOFFSETTO:+0100
TZNAME:CET
DTSTART:20261025T010000
END:STANDARD
BEGIN:DAYLIGHT
TZOFFSETFROM:+0100
TZOFFSETTO:+0200
TZNAME:CEST
DTSTART:20270328T010000
END:DAYLIGHT
BEGIN:STANDARD
TZOFFSETFROM:+0200
TZOFFSETTO:+0100
TZNAME:CET
DTSTART:20271031T010000
END:STANDARD
END:VTIMEZONE
BEGIN:VEVENT
DTSTART;TZID=Europe/Berlin:20260308T100000
DTEND;TZID=Europe/Berlin:20260309T183000
DTSTAMP:20260422T005959
CREATED:20260204T105235Z
LAST-MODIFIED:20260214T155756Z
UID:17695-1772964000-1773081000@weltladen-darmstadt.de
SUMMARY:Feministische Aktionstage in Darmstadt: 8. und 9. März
DESCRIPTION:Der Weltladen Darmstadt ist ein Ort zum Ankommen\n\n\n\n\n\nWenn Frauen streiken\, steht die Welt still.Am 9. März 2026\, einen Tag nach dem Internationalen Frauentag\, legen Frauen* weltweit ihre bezahlte und unbezahlte Arbeit nieder. Sie machen sichtbar\, was sonst oft übersehen wird: Care-Arbeit\, Sorgearbeit\, emotionale Arbeit – das Fundament unserer Gesellschaft. \n\n\n\nDer Weltladen Darmstadt versteht sich an diesem Tag ab 10 Uhr als offener\, solidarischer Rückzugsort.Ein Ort zum Durchatmen\, Aufwärmen\, Austauschen.Ein Ort\, an dem Frauen* zwischen Aktionen\, Demonstrationen oder Streikmomenten zusammenkommen und einen fair gehandelten Kaffee trinken können. \n\n\n\nFrauenstreiks haben Geschichte – und Wirkung:Von Island 1975\, als 90 % der Frauen das Land lahmlegten\, über Argentinien\, Polen und die Schweiz bis heute. Auch in Deutschland wächst die Bewegung.  \n\n\n\nDer globale Frauen*generalstreik 2026\, ausgerufen von ENOUGH! GENUG!\, knüpft an diese Tradition an und sagt klar: Es reicht. \n\n\n\nEs reicht mit: \n\n\n\n\nLohnungleichheit\n\n\n\nUnsichtbarer Care-Arbeit\n\n\n\nGewalt gegen Frauen\n\n\n\nPolitischen Rückschritten bei Frauenrechten\n\n\n\n\nDer Weltladen Darmstadt steht für globale Gerechtigkeit\, Solidarität und faire Strukturen – lokal wie international. Deshalb öffnen wir am 9. März bewusst unsere Türen als Raum der Begegnung und Stärkung. \n\n\n\nKomm vorbei. Setz dich. Trink einen fairen Kaffee oder Tee.Und sei Teil einer Bewegung\, die zeigt: Ohne Frauen läuft hier gar nichts. \n\n\n\nWährend am 9. März gestreikt wird\, steht der 8. März\, der Internationale Frauentag\, im Zeichen des Kampfes. Mit verschiedenen Aktionen wird ein Zeichen gegen patriarchale Strukturen gesetzt. \n\n\n\nKontakt und Infos:https://www.instagram.com/p/DUOoU5FCsqr/?img_index=5feministischstreikendarmstadt(at)gmail.com \n\n\n\n\n\n\n\nAblauf Darmstadt: \n\n\n\n8. März\, Feministischer Kampftag: \n\n\n\n13:30-15 UhrDemo und Performance UNsichtbar – Georg-Büchner-Platz \n\n\n\n16-19 UhrZwischen Unterdrückung und Flucht(Hoffart-Theater) \n\n\n\nab 21 UhrFeministische Party Musik und Drinks(BAR der Kammerspiele) \n\n\n\n9. März\, Feministisches Streiken: \n\n\n\n10-12 Uhr Demonstration in der Innenstadt\, Start am Friedensplatzanschließend: Zusammenkommen mit Musik\, Kreativem\, Bewegung\, Tee & Kaffee (z.B. im Weltladen von 13-15 Uhr )
URL:https://weltladen-darmstadt.de/event/frauenstreik-9-maerz/
ATTACH;FMTTYPE=image/jpeg:https://weltladen-darmstadt.de/wp-content/uploads/2026/02/signal-2026-02-11-12-32-50-666.jpg
END:VEVENT
BEGIN:VEVENT
DTSTART;TZID=Europe/Berlin:20260309T130000
DTEND;TZID=Europe/Berlin:20260309T150000
DTSTAMP:20260422T005959
CREATED:20260303T080257Z
LAST-MODIFIED:20260303T080326Z
UID:18062-1773061200-1773068400@weltladen-darmstadt.de
SUMMARY:Frauenstreik am 9. März – Strickworkshop im Weltladen
DESCRIPTION:Der Weltladen Darmstadt versteht sich am 9. März ab 10 Uhr als offener\, solidarischer Rückzugsort für alle. Ein Ort zum Durchatmen\, Aufwärmen\, Austauschen. Ein Ort\, an dem Menschen zwischen Aktionen\, Demonstrationen oder Streikmomenten zusammenkommen und einen fair gehandelten Kaffee oder Tee trinken können. \n\n\n\nZwischen 13 Uhr 15 Uhr wird hier auch ein Strickworkshop stattfinden. Wolle und Nadeln stehen zur Verfügung. Der Workshop ist geeignet für alle – sowohl erfahrene Stricker:innen als auch Menschen\, die es zum Ersten Mal ausprobieren wollen \n\n\n\nMehr Infos zu den Aktionen am 8. und 9. März unter: https://weltladen-darmstadt.de/event/frauenstreik-9-maerz/
URL:https://weltladen-darmstadt.de/event/frauenstreik-am-9-maerz-auch-im-weltladen/
LOCATION:Weltladen Darmstadt\, Elisabethenstraße 51\, Darmstadt\, 64283\, Deutschland
ATTACH;FMTTYPE=image/jpeg:https://weltladen-darmstadt.de/wp-content/uploads/2026/02/Frauenstreik-1.jpg
ORGANIZER;CN="Weltladen Darmstadt":MAILTO:mail[at]weltladen-darmstadt.de
END:VEVENT
END:VCALENDAR