BEGIN:VCALENDAR
VERSION:2.0
PRODID:-//Weltladen Darmstadt - Solidarisch handeln e.V. - ECPv6.15.20//NONSGML v1.0//EN
CALSCALE:GREGORIAN
METHOD:PUBLISH
X-ORIGINAL-URL:https://weltladen-darmstadt.de
X-WR-CALDESC:Veranstaltungen für Weltladen Darmstadt - Solidarisch handeln e.V.
REFRESH-INTERVAL;VALUE=DURATION:PT1H
X-Robots-Tag:noindex
X-PUBLISHED-TTL:PT1H
BEGIN:VTIMEZONE
TZID:Europe/Berlin
BEGIN:DAYLIGHT
TZOFFSETFROM:+0100
TZOFFSETTO:+0200
TZNAME:CEST
DTSTART:20250330T010000
END:DAYLIGHT
BEGIN:STANDARD
TZOFFSETFROM:+0200
TZOFFSETTO:+0100
TZNAME:CET
DTSTART:20251026T010000
END:STANDARD
BEGIN:DAYLIGHT
TZOFFSETFROM:+0100
TZOFFSETTO:+0200
TZNAME:CEST
DTSTART:20260329T010000
END:DAYLIGHT
BEGIN:STANDARD
TZOFFSETFROM:+0200
TZOFFSETTO:+0100
TZNAME:CET
DTSTART:20261025T010000
END:STANDARD
BEGIN:DAYLIGHT
TZOFFSETFROM:+0100
TZOFFSETTO:+0200
TZNAME:CEST
DTSTART:20270328T010000
END:DAYLIGHT
BEGIN:STANDARD
TZOFFSETFROM:+0200
TZOFFSETTO:+0100
TZNAME:CET
DTSTART:20271031T010000
END:STANDARD
END:VTIMEZONE
BEGIN:VEVENT
DTSTART;TZID=Europe/Berlin:20260330T080000
DTEND;TZID=Europe/Berlin:20260414T170000
DTSTAMP:20260421T232225
CREATED:20260317T193143Z
LAST-MODIFIED:20260409T050237Z
UID:18474-1774857600-1776186000@weltladen-darmstadt.de
SUMMARY:Ausstellung: MODE. MACHT. WELT. Aber welche? Verlängert!
DESCRIPTION:– eine Ausstellung über die Wahrheit hinter unserer Kleidung \n\n\n\nJustus-Liebig-Haus (Foyer)\, Große Bachgasse 2 (Öffnungszeiten der Stadtbücherei) \n\n\n\nWas kostet unsere Kleidung wirklich? \n\n\n\nHinter jedem T-Shirt\, jeder Jeans\, jedem Trend versteckt sich eine globale Geschichte – von Ausbeutung und Umweltzerstörung\, aber auch von Hoffnung und Veränderung. Die Ausstellung führt dich in fünf Themenblöcken durch die dunkle Seite der Modeindustrie – und zeigt Lösungen für eine faire Zukunft. \n\n\n\nDie fünf Themenblöcke: Wissen\, das bewegt \n\n\n\n\nFashion Revolution: Warum wir einen Wandel brauchenWie alles begann – und warum Transparenz und Gerechtigkeit in der Mode kein Luxus\, sondern eine Notwendigkeit sind.\n\n\n\nMode & Klima: Die dreckige WahrheitDie Textilindustrie ist einer der größten Klimakiller. Wie unsere Kaufentscheidungen Flüsse vergiften\, Wälder zerstören und das Klima aufheizen.\n\n\n\nArbeitsbedingungen: Wer zahlt den Preis für unsere Kleidung?Hungerlöhne\, Zwangsüberstunden\, Diskriminierung – die Realität der Menschen\, die unsere Kleidung herstellen.\n\n\n\nAltkleider\, Secondhand & Circular Fashion: Gibt es ein Leben nach der Wegwerfmode?Was passiert mit unserer Kleidung\, wenn wir sie nicht mehr wollen? Und wie kann Kreislaufwirtschaft die Lösung sein?\n\n\n\nKonsumalternativen: Jede:r kann etwas ändern!Praktische Tipps\, wie du nachhaltiger leben kannst – von Secondhand über Upcycling bis zu politischer Forderung.\n\n\n\n\nDie Ausstellung ist interaktiv\, leicht verständlich und lädt zum Mitdenken ein. QR-Codes vertiefen die Inhalte – bring dein Smartphone mit! \n\n\n\nMode ist mehr als Stoff. Sie ist Politik\, Ökologie\, Menschenrechte.Die Zukunft der Mode liegt in unseren Händen – und diese Ausstellung zeigt\, wie du sie mitgestalten kannst. \n\n\n\n\nalle Veranstaltungen der Fashion Revolution Week …\n\n\n\n\n \n\n\n\n\n\n\n\n\n\n \n\n\n\n\nDie Fashion Revolution Week Darmstadt 2026 wird unterstützt von:\n\n\n\n\n\n\n\n\n\n\n\n\n\n\n\n\n\n\n\n\n\n\n\n\n\n\n\n\n\n\n\n\n\n\n\n\n\n\n\n\n\n\n\n\n\n\n\n\n\n\n\n\n\n\n\n\n\n\n\n\n\n\n\n\n\n\n\n\n\n\n\n\n\n\n\n\n\n\n\n\n\n\n\n\n\n\n\n\n\n\n\n\n\n\n\n\n\n\n\n\n\n\n\n\n\n\n\n\n\n\n\n\n\n\n\n\n\n\n\n\n\n\n\n\n\n\n\n\n\n\n\nDanke an: \n\n\n\n\n\n\n\n\n\n\n\ngefördert durch ENGAGEMENT GLOBAL mit Mitteln des:
URL:https://weltladen-darmstadt.de/event/mode-macht-welt-aber-welche/
ATTACH;FMTTYPE=image/jpeg:https://weltladen-darmstadt.de/wp-content/uploads/2026/03/5a.jpg
END:VEVENT
BEGIN:VEVENT
DTSTART;TZID=Europe/Berlin:20260411T150000
DTEND;TZID=Europe/Berlin:20260411T170000
DTSTAMP:20260421T232225
CREATED:20260203T192951Z
LAST-MODIFIED:20260410T115837Z
UID:17637-1775919600-1775926800@weltladen-darmstadt.de
SUMMARY:Nachhaltige Stadtführung – Kranichstein
DESCRIPTION:Wer: Alle\, die Interesse haben \n\n\n\nStadtführer: Martin Huth \n\n\n\nVeranstalter: Transition Town Darmstadt \n\n\n\nDarmstadt ist voll von Orten und Menschen\, die mit kreativen Ideen und Leidenschaft zeigen\, dass eine andere Art des Wirtschaftens möglich ist: fair\, ressourcenschonend und klimatauglich. Mit diesem nachhaltigen Stadtrundgang auf den Spuren der Wandelkarte möchten wir dazu einladen\, einige dieser Orte in Kranichstein kennenzulernen. \n\n\n\nKranichstein ist ein sehr innovativer Stadtteil! Wir besichtigen Stationen zu folgenden Themengebieten: \n\n\n\n\nGemeinschaftliche Nutzung von Brachflächen (Menschenskinder\, Permakulturwiese)\n\n\n\nSharing (Umsonst-Hütte Kleiner Kost-Nix\, Carsharing\, Bikesharing)\n\n\n\nHaus heizen mit Kerzen bei hoher Behaglichkeit (Besichtigung Passivhaus)\n\n\n\nPhotovoltaikanlagen gemeinschaftlich finanzieren (Energiegenossenschaft)\n\n\n\nautofreies Wohnquartier mit hoher Lebensqualität (Rundgang durchs K6)\n\n\n\nLeben im Wohnprojekt (Besichtigung WohnArt 3)\n\n\n\n\nKosten: keine\, Spenden willkommen. \n\n\n\nWir bitten um Anmeldung bis zum 10. April (max. 20 Personen) an:wandelkarte(at)transition-darmstadt.de oder über das Kontaktformular: \n\n\n\n\n\n\n\n\n\n\nBitte aktiviere JavaScript in deinem Browser\, um dieses Formular fertigzustellen.Bitte aktiviere JavaScript in deinem Browser\, um dieses Formular fertigzustellen.Name\, Vorname (Teilnehmer:in) *E-Mail-Adresse *Mobilnummer *Checkboxen *Orte des Wandels 11. April\, 15 – 17 UhrDSGVO-Einverständnis *Ich willige ein\, dass diese Website meine übermittelten Informationen speichert\, sodass meine Anfrage beantwortet werden kann.\n		You need to enable Javascript for the anti-spam check.Nachricht senden  \n\n\n\n\n\n\n\n\n\nGefördert durch ENGAGEMENT GLOBAL mit Mitteln des:
URL:https://weltladen-darmstadt.de/event/nachhaltige-stadtfuehrung-18-04/
ATTACH;FMTTYPE=image/png:https://weltladen-darmstadt.de/wp-content/uploads/2026/02/20260411_Orte_des_Wandels_Stadtfuehrung_Sharepic.png
ORGANIZER;CN="Weltladen Darmstadt":MAILTO:mail[at]weltladen-darmstadt.de
END:VEVENT
END:VCALENDAR