BEGIN:VCALENDAR
VERSION:2.0
PRODID:-//Weltladen Darmstadt - Solidarisch handeln e.V. - ECPv6.15.20//NONSGML v1.0//EN
CALSCALE:GREGORIAN
METHOD:PUBLISH
X-ORIGINAL-URL:https://weltladen-darmstadt.de
X-WR-CALDESC:Veranstaltungen für Weltladen Darmstadt - Solidarisch handeln e.V.
REFRESH-INTERVAL;VALUE=DURATION:PT1H
X-Robots-Tag:noindex
X-PUBLISHED-TTL:PT1H
BEGIN:VTIMEZONE
TZID:Europe/Berlin
BEGIN:DAYLIGHT
TZOFFSETFROM:+0100
TZOFFSETTO:+0200
TZNAME:CEST
DTSTART:20250330T010000
END:DAYLIGHT
BEGIN:STANDARD
TZOFFSETFROM:+0200
TZOFFSETTO:+0100
TZNAME:CET
DTSTART:20251026T010000
END:STANDARD
BEGIN:DAYLIGHT
TZOFFSETFROM:+0100
TZOFFSETTO:+0200
TZNAME:CEST
DTSTART:20260329T010000
END:DAYLIGHT
BEGIN:STANDARD
TZOFFSETFROM:+0200
TZOFFSETTO:+0100
TZNAME:CET
DTSTART:20261025T010000
END:STANDARD
BEGIN:DAYLIGHT
TZOFFSETFROM:+0100
TZOFFSETTO:+0200
TZNAME:CEST
DTSTART:20270328T010000
END:DAYLIGHT
BEGIN:STANDARD
TZOFFSETFROM:+0200
TZOFFSETTO:+0100
TZNAME:CET
DTSTART:20271031T010000
END:STANDARD
END:VTIMEZONE
BEGIN:VEVENT
DTSTART;TZID=Europe/Berlin:20260509T100000
DTEND;TZID=Europe/Berlin:20260509T120000
DTSTAMP:20260422T010400
CREATED:20260203T193040Z
LAST-MODIFIED:20260410T115931Z
UID:17639-1778320800-1778328000@weltladen-darmstadt.de
SUMMARY:Nachhaltige Stadtführung – Innenstadt
DESCRIPTION:Wer: Alle\, die Interesse haben \n\n\n\nStadtführerinnen: Annika Waymann und Petra Schefzyk \n\n\n\nVeranstalter: Weltladen Darmstadt (Werkstatt Globales Lernen) \n\n\n\nin Kooperation mit der VHS Darmstadt \n\n\n\nDarmstadt ist voll von Orten und Menschen\, die mit kreativen Ideen und Leidenschaft zeigen\, dass eine andere Art des Wirtschaftens möglich ist: fair\, ressourcenschonend und klimatauglich. Mit unserem nachhaltigen Stadtrundgang auf den Spuren der Wandelkarte möchten wir dazu einladen\, einige dieser Orte kennenzulernen. \n\n\n\n \n\n\n\nKosten: keine\, Spenden willkommen. \n\n\n\nWir bitten um Anmeldung bis zum 8. Mai (max. 20 Personen) an:wandelkarte(at)transition-darmstadt.de oder über das Kontaktformular: \n\n\n\n\n\n\n\n\n\n\nBitte aktiviere JavaScript in deinem Browser\, um dieses Formular fertigzustellen.Bitte aktiviere JavaScript in deinem Browser\, um dieses Formular fertigzustellen.Name\, Vorname (Teilnehmer:in) *E-Mail-Adresse *Mobilnummer *Checkboxen *Orte des Wandels 9. Mail\, 10 UhrDSGVO-Einverständnis *Ich willige ein\, dass diese Website meine übermittelten Informationen speichert\, sodass meine Anfrage beantwortet werden kann.\n		You need to enable Javascript for the anti-spam check.Nachricht senden  \n\n\n\n\n\n\n\n\n\nGefördert durch ENGAGEMENT GLOBAL mit Mitteln des:
URL:https://weltladen-darmstadt.de/event/nachhaltige-stadtfuehrung-09-05/
ATTACH;FMTTYPE=image/png:https://weltladen-darmstadt.de/wp-content/uploads/2026/02/20260509_Orte_des_Wandels_Stadtfuehrung_Sharepic.png
END:VEVENT
BEGIN:VEVENT
DTSTART;TZID=Europe/Berlin:20260509T100000
DTEND;TZID=Europe/Berlin:20260509T160000
DTSTAMP:20260422T010400
CREATED:20260211T100007Z
LAST-MODIFIED:20260326T111136Z
UID:17849-1778320800-1778342400@weltladen-darmstadt.de
SUMMARY:Weltladentag 2026
DESCRIPTION:Fair fruchtet! \n\n\n\nAm 9. Mai 2026 feiern wir den Weltladentag unter dem Motto „Fair Fruchtet!“. Früchte stehen für Vielfalt\, Genuss und Lebensfreude – doch ihre Produktion ist oft mit Ausbeutung und ungerechten Arbeitsbedingungen verbunden. Der Faire Handel zeigt\, wie es anders geht: mit fairen Löhnen\, Transparenz und partnerschaftlichen Handelsbeziehungen. \n\n\n\nWarum „Fair Fruchtet“?\n\n\n\n\nGlobale Ungerechtigkeit: Viele Produzent:innen von Bananen\, Orangen oder Ananas erhalten nur einen Bruchteil des Verkaufspreises.\n\n\n\nPrekäre Arbeitsbedingungen: Auch in Europa arbeiten Saisonarbeiter:innen oft ohne faire Verträge\, soziale Absicherung und mit Löhnen\, die nicht existenzsichernd sind.\n\n\n\nMarktmacht der Konzerne: Wenige Großunternehmen bestimmen die Preise – auf Kosten der Produzent:innen.\n\n\n\n\nUnser Beitrag: Faire Früchte & Fruchtprodukte\n\n\n\nAm Weltladentag laden wir dich ein\, fair gehandelte Früchte und Fruchtprodukte zu probieren! Entdecke\, wie lecker Gerechtigkeit schmeckt – von Bananenchips über Fruchtaufstriche bis hin zu exotischem Obst oder Trockenfrüchten. \n\n\n\nProgramm am 9. Mai 2026:\n\n\n\n– Verkostung fairer Früchte & Fruchtprodukte– Infos zu Lieferketten und fairen Handelsmodellen– Gespräche mit unserem Team – wir beantworten deine Fragen! \n\n\n\nÖffnungszeiten: 10–16 UhrOrt: Weltladen Darmstadt\, Elisabethenstr. 51 \n\n\n\nKomm vorbei und feiere mit uns den fairen Genuss!
URL:https://weltladen-darmstadt.de/event/weltladentag-2026/
LOCATION:Weltladen Darmstadt\, Elisabethenstraße 51\, Darmstadt\, 64283\, Deutschland
ATTACH;FMTTYPE=image/jpeg:https://weltladen-darmstadt.de/wp-content/uploads/2026/02/Weltladentag-09-05-26.jpg
ORGANIZER;CN="Weltladen Darmstadt":MAILTO:mail[at]weltladen-darmstadt.de
END:VEVENT
END:VCALENDAR