BEGIN:VCALENDAR
VERSION:2.0
PRODID:-//Weltladen Darmstadt - Solidarisch handeln e.V. - ECPv6.15.20//NONSGML v1.0//EN
CALSCALE:GREGORIAN
METHOD:PUBLISH
X-WR-CALNAME:Weltladen Darmstadt - Solidarisch handeln e.V.
X-ORIGINAL-URL:https://weltladen-darmstadt.de
X-WR-CALDESC:Veranstaltungen für Weltladen Darmstadt - Solidarisch handeln e.V.
REFRESH-INTERVAL;VALUE=DURATION:PT1H
X-Robots-Tag:noindex
X-PUBLISHED-TTL:PT1H
BEGIN:VTIMEZONE
TZID:Europe/Berlin
BEGIN:DAYLIGHT
TZOFFSETFROM:+0100
TZOFFSETTO:+0200
TZNAME:CEST
DTSTART:20250330T010000
END:DAYLIGHT
BEGIN:STANDARD
TZOFFSETFROM:+0200
TZOFFSETTO:+0100
TZNAME:CET
DTSTART:20251026T010000
END:STANDARD
BEGIN:DAYLIGHT
TZOFFSETFROM:+0100
TZOFFSETTO:+0200
TZNAME:CEST
DTSTART:20260329T010000
END:DAYLIGHT
BEGIN:STANDARD
TZOFFSETFROM:+0200
TZOFFSETTO:+0100
TZNAME:CET
DTSTART:20261025T010000
END:STANDARD
BEGIN:DAYLIGHT
TZOFFSETFROM:+0100
TZOFFSETTO:+0200
TZNAME:CEST
DTSTART:20270328T010000
END:DAYLIGHT
BEGIN:STANDARD
TZOFFSETFROM:+0200
TZOFFSETTO:+0100
TZNAME:CET
DTSTART:20271031T010000
END:STANDARD
END:VTIMEZONE
BEGIN:VEVENT
DTSTART;TZID=Europe/Berlin:20260528T150000
DTEND;TZID=Europe/Berlin:20260528T173000
DTSTAMP:20260422T005729
CREATED:20260211T104645Z
LAST-MODIFIED:20260211T193005Z
UID:17865-1779980400-1779989400@weltladen-darmstadt.de
SUMMARY:Umweltdiplom Faire Bälle
DESCRIPTION:🌍⚽ Fairplay für Mensch und Umwelt: Das Darmstädter Umweltdiplom im Weltladen Darmstadt! \n\n\n\nDie Fußball-WM steht vor der Tür – und mit ihr die Begeisterung für den schönsten Sport der Welt! Doch wer näht eigentlich die Bälle\, mit denen wir spielen? Und unter welchen Bedingungen entstehen sie? Im Weltladen Darmstadt dreht sich beim Umweltdiplom alles um faire Bälle – und wie wir mit kleinen Schritten Großes bewegen können! \n\n\n\nWas erwartet euch?\n\n\n\nIn zwei spannenden Werkstätten lernt ihr nicht nur\, wie ein Fußball in Handarbeit entsteht\, sondern auch\, was es bedeutet\, fair zu produzieren und zu konsumieren. Ihr könnt selbst aktiv werden\, Fragen stellen und mitnehmen\, wie ihr im Alltag einen Unterschied machen könnt. \n\n\n\nFairplay beginnt beim Ball – und bei dir! Das Darmstädter Umweltdiplom ist mehr als ein Programm – es ist eine Einladung\, Umweltbewusstsein und globale Verantwortung mit Spaß und Kreativität zu verbinden. Macht mit und zeigt\, dass Fußball nicht nur ein Spiel\, sondern auch eine Haltung ist! \n\n\n\nGemeinsam für eine gerechtere Zukunft – auf dem Platz und darüber hinaus! ⚽💚 \n\n\n\nAlle Kinder können mitmachen\, wenn oder die Lehrkraft die gesamte Klasse zum Projekt anmeldet und sie: \n\n\n\n\ndie 4.\, 5. oder 6. Klasse besuchen\n\n\n\nin Darmstadt wohnen oder zur Schule gehen\n\n\n\ndie Erziehungsberechtigten einverstanden sind und sie zu mindestens vier Terminen anmelden\n\n\n\n\nMehr Infos und Anmeldung unter:www.darmstadt.de/leben/umwelt/mitmachen-aktiv-dabei/umweltdiplom
URL:https://weltladen-darmstadt.de/event/umweltdiplom-faire-baelle/
LOCATION:Weltladen Darmstadt\, Elisabethenstraße 51\, Darmstadt\, 64283\, Deutschland
ATTACH;FMTTYPE=image/jpeg:https://weltladen-darmstadt.de/wp-content/uploads/2025/10/Umweltdiplom.jpg
END:VEVENT
END:VCALENDAR