BEGIN:VCALENDAR
VERSION:2.0
PRODID:-//Weltladen Darmstadt - Solidarisch handeln e.V. - ECPv6.15.20//NONSGML v1.0//EN
CALSCALE:GREGORIAN
METHOD:PUBLISH
X-WR-CALNAME:Weltladen Darmstadt - Solidarisch handeln e.V.
X-ORIGINAL-URL:https://weltladen-darmstadt.de
X-WR-CALDESC:Veranstaltungen für Weltladen Darmstadt - Solidarisch handeln e.V.
REFRESH-INTERVAL;VALUE=DURATION:PT1H
X-Robots-Tag:noindex
X-PUBLISHED-TTL:PT1H
BEGIN:VTIMEZONE
TZID:Europe/Berlin
BEGIN:DAYLIGHT
TZOFFSETFROM:+0100
TZOFFSETTO:+0200
TZNAME:CEST
DTSTART:20250330T010000
END:DAYLIGHT
BEGIN:STANDARD
TZOFFSETFROM:+0200
TZOFFSETTO:+0100
TZNAME:CET
DTSTART:20251026T010000
END:STANDARD
BEGIN:DAYLIGHT
TZOFFSETFROM:+0100
TZOFFSETTO:+0200
TZNAME:CEST
DTSTART:20260329T010000
END:DAYLIGHT
BEGIN:STANDARD
TZOFFSETFROM:+0200
TZOFFSETTO:+0100
TZNAME:CET
DTSTART:20261025T010000
END:STANDARD
BEGIN:DAYLIGHT
TZOFFSETFROM:+0100
TZOFFSETTO:+0200
TZNAME:CEST
DTSTART:20270328T010000
END:DAYLIGHT
BEGIN:STANDARD
TZOFFSETFROM:+0200
TZOFFSETTO:+0100
TZNAME:CET
DTSTART:20271031T010000
END:STANDARD
END:VTIMEZONE
BEGIN:VEVENT
DTSTART;TZID=Europe/Berlin:20260612T080000
DTEND;TZID=Europe/Berlin:20260613T170000
DTSTAMP:20260422T023711
CREATED:20251216T172701Z
LAST-MODIFIED:20251216T172728Z
UID:17237-1781251200-1781370000@weltladen-darmstadt.de
SUMMARY:Weltladen Fachtage
DESCRIPTION:Ein Wochenende im Zeichen des Fairen Handels \n\n\n\nVom 12. bis 13. Juni 2026 trifft sich die Fair-Handels-Gemeinschaft erneut zu den Weltladen-Fachtagen in Bad Hersfeld. Zwei Tage voller Inspiration\, Begegnung und neuer Impulse erwarten alle\, die den Fairen Handel mit Herz und Engagement leben. \n\n\n\nFreut euch auf lebendigen Austausch\, spannende Fortbildungen und besondere Produkthighlights – ein Wochenende\, das verbindet\, stärkt und Lust auf mehr macht. Gemeinsam gestalten wir eine gerechtere Welt. \n\n\n\nErfahrt bald mehr hier: https://www.weltladen.de/fuer-weltlaeden/fachtage/
URL:https://weltladen-darmstadt.de/event/weltladen-fachtage/
ATTACH;FMTTYPE=image/jpeg:https://weltladen-darmstadt.de/wp-content/uploads/2025/12/weltladen-fachtage-.jpg
ORGANIZER;CN="Weltladen Dachverband":MAILTO:info@weltladen.de
END:VEVENT
END:VCALENDAR