BEGIN:VCALENDAR
VERSION:2.0
PRODID:-//Weltladen Darmstadt - Solidarisch handeln e.V. - ECPv6.15.20//NONSGML v1.0//EN
CALSCALE:GREGORIAN
METHOD:PUBLISH
X-WR-CALNAME:Weltladen Darmstadt - Solidarisch handeln e.V.
X-ORIGINAL-URL:https://weltladen-darmstadt.de
X-WR-CALDESC:Veranstaltungen für Weltladen Darmstadt - Solidarisch handeln e.V.
REFRESH-INTERVAL;VALUE=DURATION:PT1H
X-Robots-Tag:noindex
X-PUBLISHED-TTL:PT1H
BEGIN:VTIMEZONE
TZID:Europe/Berlin
BEGIN:DAYLIGHT
TZOFFSETFROM:+0100
TZOFFSETTO:+0200
TZNAME:CEST
DTSTART:20250330T010000
END:DAYLIGHT
BEGIN:STANDARD
TZOFFSETFROM:+0200
TZOFFSETTO:+0100
TZNAME:CET
DTSTART:20251026T010000
END:STANDARD
BEGIN:DAYLIGHT
TZOFFSETFROM:+0100
TZOFFSETTO:+0200
TZNAME:CEST
DTSTART:20260329T010000
END:DAYLIGHT
BEGIN:STANDARD
TZOFFSETFROM:+0200
TZOFFSETTO:+0100
TZNAME:CET
DTSTART:20261025T010000
END:STANDARD
BEGIN:DAYLIGHT
TZOFFSETFROM:+0100
TZOFFSETTO:+0200
TZNAME:CEST
DTSTART:20270328T010000
END:DAYLIGHT
BEGIN:STANDARD
TZOFFSETFROM:+0200
TZOFFSETTO:+0100
TZNAME:CET
DTSTART:20271031T010000
END:STANDARD
END:VTIMEZONE
BEGIN:VEVENT
DTSTART;TZID=Europe/Berlin:20260530T140000
DTEND;TZID=Europe/Berlin:20260530T160000
DTSTAMP:20260421T212841
CREATED:20260203T193407Z
LAST-MODIFIED:20260328T163947Z
UID:17642-1780149600-1780156800@weltladen-darmstadt.de
SUMMARY:Nachhaltige Stadtführung – dem fairen Kaffee auf der Spur
DESCRIPTION:Wer: Alle\, die Interesse haben \n\n\n\nStadtführerin: Maria Bätzing \n\n\n\nVeranstalter: Oikocredit – Ökumenische Entwicklungsgenossenschaft \n\n\n\nDarmstadt ist voll von Orten und Menschen\, die mit kreativen Ideen und Leidenschaft zeigen\, dass eine andere Art des Wirtschaftens möglich ist: fair\, ressourcenschonend und klimatauglich. Mit diesem nachhaltigen Stadtrundgang zur Wandelkarte möchten wir dazu einladen\, dich mit uns auf die Spuren des Kaffees zu begeben.  \n\n\n\nAuf der zweistündigen interaktiven Tour\, wirst du Wissenswertes und Kurioses rund um das Thema erfahren. Welche Rolle spielen Klimawandel\, Börsenkurse\, Zölle\, Siegel\, Gerechtigkeitsfragen und unser Sparschwein?  \n\n\n\nVon der Schader-Stiftung aus gehen wir in den Wolfskehl’schen Park\, dann zu Kaffee Heiping und anschließend an St. Ludwig vorbei zur nächsten Station am Alicedenkmal mit Blick auf die Innenstadt und zum Schluss zum Weltladen. \n\n\n\nNatürlich wird es während des Rundgangs auch eine Kaffeeverkostung geben. \n\n\n\nDie Stadtführung wird gefördert durch ENGAGEMENTGLOBAL mit den Mitteln des: \n\n\n\n\n\n\n\nKosten: keine\, Spenden willkommen. \n\n\n\nTreffpunkt: Schader-Stiftung\, Goethestr. 2\, Haltestelle Goethestraße der Linie 3 \n\n\n\nTeilnahme nur mit Anmeldung bis zum 28. Mai (max. 20 Personen) an:wandelkarte(at)transition-darmstadt.de oder über das Kontaktformular: \n\n\n\n\n\n\n\n\n\n\nBitte aktiviere JavaScript in deinem Browser\, um dieses Formular fertigzustellen.Bitte aktiviere JavaScript in deinem Browser\, um dieses Formular fertigzustellen.Name\, Vorname (Teilnehmer:in) *E-Mail-Adresse *Mobilnummer *Checkboxen *Orte des Wandels 30. Mai\, 14 UhrDSGVO-Einverständnis *Ich willige ein\, dass diese Website meine übermittelten Informationen speichert\, sodass meine Anfrage beantwortet werden kann.\n		You need to enable Javascript for the anti-spam check.Nachricht senden  \n\n\n\n\n\n\n\n\n\nGefördert durch ENGAGEMENT GLOBAL mit Mitteln des:
URL:https://weltladen-darmstadt.de/event/nachhaltige-stadtfuehrung-30-05/
ATTACH;FMTTYPE=image/png:https://weltladen-darmstadt.de/wp-content/uploads/2026/02/20260530_Orte_des_Wandels_Stadtfuehrung_Sharepic.png
END:VEVENT
BEGIN:VEVENT
DTSTART;TZID=Europe/Berlin:20260612T080000
DTEND;TZID=Europe/Berlin:20260613T170000
DTSTAMP:20260421T212841
CREATED:20251216T172701Z
LAST-MODIFIED:20251216T172728Z
UID:17237-1781251200-1781370000@weltladen-darmstadt.de
SUMMARY:Weltladen Fachtage
DESCRIPTION:Ein Wochenende im Zeichen des Fairen Handels \n\n\n\nVom 12. bis 13. Juni 2026 trifft sich die Fair-Handels-Gemeinschaft erneut zu den Weltladen-Fachtagen in Bad Hersfeld. Zwei Tage voller Inspiration\, Begegnung und neuer Impulse erwarten alle\, die den Fairen Handel mit Herz und Engagement leben. \n\n\n\nFreut euch auf lebendigen Austausch\, spannende Fortbildungen und besondere Produkthighlights – ein Wochenende\, das verbindet\, stärkt und Lust auf mehr macht. Gemeinsam gestalten wir eine gerechtere Welt. \n\n\n\nErfahrt bald mehr hier: https://www.weltladen.de/fuer-weltlaeden/fachtage/
URL:https://weltladen-darmstadt.de/event/weltladen-fachtage/
ATTACH;FMTTYPE=image/jpeg:https://weltladen-darmstadt.de/wp-content/uploads/2025/12/weltladen-fachtage-.jpg
ORGANIZER;CN="Weltladen Dachverband":MAILTO:info@weltladen.de
END:VEVENT
BEGIN:VEVENT
DTSTART;TZID=Europe/Berlin:20260617T150000
DTEND;TZID=Europe/Berlin:20260617T173000
DTSTAMP:20260421T212841
CREATED:20260211T104851Z
LAST-MODIFIED:20260331T160530Z
UID:17871-1781708400-1781717400@weltladen-darmstadt.de
SUMMARY:Umweltdiplom Faire Bälle
DESCRIPTION:🌍⚽ Fairplay für Mensch und Umwelt: Das Darmstädter Umweltdiplom im Weltladen Darmstadt! \n\n\n\nDie Fußball-WM steht vor der Tür – und mit ihr die Begeisterung für den schönsten Sport der Welt! Doch wer näht eigentlich die Bälle\, mit denen wir spielen? Und unter welchen Bedingungen entstehen sie? Im Weltladen Darmstadt dreht sich beim Umweltdiplom alles um faire Bälle – und wie wir mit kleinen Schritten Großes bewegen können! \n\n\n\nWas erwartet euch?\n\n\n\nIn zwei spannenden Werkstätten lernt ihr nicht nur\, wie ein Fußball in Handarbeit entsteht\, sondern auch\, was es bedeutet\, fair zu produzieren und zu konsumieren. Ihr könnt selbst aktiv werden\, Fragen stellen und mitnehmen\, wie ihr im Alltag einen Unterschied machen könnt. \n\n\n\nFairplay beginnt beim Ball – und bei dir! Das Darmstädter Umweltdiplom ist mehr als ein Programm – es ist eine Einladung\, Umweltbewusstsein und globale Verantwortung mit Spaß und Kreativität zu verbinden. Macht mit und zeigt\, dass Fußball nicht nur ein Spiel\, sondern auch eine Haltung ist! \n\n\n\nGemeinsam für eine gerechtere Zukunft – auf dem Platz und darüber hinaus! ⚽💚 \n\n\n\nAlle Kinder können mitmachen\, wenn oder die Lehrkraft die gesamte Klasse zum Projekt anmeldet und sie: \n\n\n\n\ndie 4.\, 5. oder 6. Klasse besuchen\n\n\n\nin Darmstadt wohnen oder zur Schule gehen\n\n\n\ndie Erziehungsberechtigten einverstanden sind und sie zu mindestens vier Terminen anmelden\n\n\n\n\nMehr Infos und Anmeldung unter:www.darmstadt.de/leben/umwelt/mitmachen-aktiv-dabei/umweltdiplom
URL:https://weltladen-darmstadt.de/event/umweltdiplom-faire-baelle-2/
LOCATION:Weltladen Darmstadt\, Elisabethenstraße 51\, Darmstadt\, 64283\, Deutschland
ATTACH;FMTTYPE=image/jpeg:https://weltladen-darmstadt.de/wp-content/uploads/2025/10/Umweltdiplom.jpg
END:VEVENT
END:VCALENDAR