BEGIN:VCALENDAR
VERSION:2.0
PRODID:-//Weltladen Darmstadt - Solidarisch handeln e.V. - ECPv6.15.20//NONSGML v1.0//EN
CALSCALE:GREGORIAN
METHOD:PUBLISH
X-WR-CALNAME:Weltladen Darmstadt - Solidarisch handeln e.V.
X-ORIGINAL-URL:https://weltladen-darmstadt.de
X-WR-CALDESC:Veranstaltungen für Weltladen Darmstadt - Solidarisch handeln e.V.
REFRESH-INTERVAL;VALUE=DURATION:PT1H
X-Robots-Tag:noindex
X-PUBLISHED-TTL:PT1H
BEGIN:VTIMEZONE
TZID:Europe/Berlin
BEGIN:DAYLIGHT
TZOFFSETFROM:+0100
TZOFFSETTO:+0200
TZNAME:CEST
DTSTART:20240331T010000
END:DAYLIGHT
BEGIN:STANDARD
TZOFFSETFROM:+0200
TZOFFSETTO:+0100
TZNAME:CET
DTSTART:20241027T010000
END:STANDARD
BEGIN:DAYLIGHT
TZOFFSETFROM:+0100
TZOFFSETTO:+0200
TZNAME:CEST
DTSTART:20250330T010000
END:DAYLIGHT
BEGIN:STANDARD
TZOFFSETFROM:+0200
TZOFFSETTO:+0100
TZNAME:CET
DTSTART:20251026T010000
END:STANDARD
BEGIN:DAYLIGHT
TZOFFSETFROM:+0100
TZOFFSETTO:+0200
TZNAME:CEST
DTSTART:20260329T010000
END:DAYLIGHT
BEGIN:STANDARD
TZOFFSETFROM:+0200
TZOFFSETTO:+0100
TZNAME:CET
DTSTART:20261025T010000
END:STANDARD
END:VTIMEZONE
BEGIN:VEVENT
DTSTART;TZID=Europe/Berlin:20250603T100000
DTEND;TZID=Europe/Berlin:20250603T163000
DTSTAMP:20260424T111000
CREATED:20250312T160131Z
LAST-MODIFIED:20250508T123155Z
UID:14352-1748944800-1748968200@weltladen-darmstadt.de
SUMMARY:Vernetzungstreffen der hessischen Fairtrade-Kommunen und -Kreise 2025
DESCRIPTION:Das diesjährigeVernetzungstreffen der hessischen Fairtrade-Kommunen und -Kreise findet im Gießener Rathaus als Kooperation des Entwicklungspolitischen Netzwerks Hessen (epn) mit der Fairtrade-Town Gießen und dem Fairtrade-Landkreis Gießen statt. Die Teilnehmenden erwarten wieder spannende Workshops und Vorträge sowie viel Raum zum Austausch. \n\n\n\nZur Anmeldung\, zu weiteren Informationen und zum Programm: \n\n\n\n\nVernetzungstreffen 2025…
URL:https://weltladen-darmstadt.de/event/vernetzungstreffen-der-hessischen-fairtrade-kommunen-und-kreise-2025/
ATTACH;FMTTYPE=image/jpeg:https://weltladen-darmstadt.de/wp-content/uploads/2025/03/Vernetzungstreffen-FFT-2025-2.jpg
END:VEVENT
BEGIN:VEVENT
DTSTART;TZID=Europe/Berlin:20250613T080000
DTEND;TZID=Europe/Berlin:20250626T170000
DTSTAMP:20260424T111000
CREATED:20250606T213333Z
LAST-MODIFIED:20250606T213358Z
UID:15400-1749801600-1750957200@weltladen-darmstadt.de
SUMMARY:Weltläden in Hessen beim Hessentag
DESCRIPTION:Auch in diesem Jahr beteiligt sich Weltläden in Hessen e. V. am Hessentag und macht dort auf die Anliegen des Fairen Handels aufmerksam. In Kooperation mit den örtlichen Weltläden werden Aktionen wie das Weltkarten-Spiel\, das Kakao-Quiz\, Bodenplakate und vieles mehr organisiert\, um die Vision einer gerechteren Welt in die breite Öffentlichkeit zu tragen. Die aktuelle Kampagne des Weltladen Dachverbandes und des Forum Fairer Handel wird beworben\, Unterschriften werden gesammelt und viele interessante Gespräche mit den Passant:innen geführt.
URL:https://weltladen-darmstadt.de/event/weltlaeden-in-hessen-beim-hessentag/
ATTACH;FMTTYPE=image/jpeg:https://weltladen-darmstadt.de/wp-content/uploads/2025/06/Hessentag.jpg
END:VEVENT
BEGIN:VEVENT
DTSTART;TZID=Europe/Berlin:20250613T190000
DTEND;TZID=Europe/Berlin:20250613T200000
DTSTAMP:20260424T111000
CREATED:20250312T100149Z
LAST-MODIFIED:20250331T083503Z
UID:14240-1749841200-1749844800@weltladen-darmstadt.de
SUMMARY:Nacht der Kirchen: Infostand zu Kakao und Schokolade
DESCRIPTION:Info- und Mitmachstand der Werkstatt Globales Lernen.mehr Infos: https://www.atlas.emk.de/emk-darmstadt/
URL:https://weltladen-darmstadt.de/event/nacht-der-kirchen-infostand-zu-kakao-und-schokolade/
LOCATION:Evangelisch-methodistische Gemeinde Darmstadt\, Scheppallee 2\, Darmstadt
END:VEVENT
BEGIN:VEVENT
DTSTART;TZID=Europe/Berlin:20250623T100000
DTEND;TZID=Europe/Berlin:20250629T183000
DTSTAMP:20260424T111000
CREATED:20250617T150939Z
LAST-MODIFIED:20250617T151713Z
UID:15474-1750672800-1751221800@weltladen-darmstadt.de
SUMMARY:Weltladen bleibt vom 23. – 28. Juni geschlossen
DESCRIPTION:Eine wichtige Veränderung: Wir stellen um! \n\n\n\nIm Juni steht bei uns eine große Veränderung an: Wir führen ein neues Warenwirtschaftssystem ein! Damit möchten wir unsere internen Abläufe verbessern – und euch künftig noch effizienter\, serviceorientierter und moderner bedienen. \n\n\n\nDaher bleibt der Weltladen von Montag\, 23. Juni\, bis einschließlich Sonntag\, 29. Juni geschlossen. \n\n\n\nIn dieser Zeit: \n\n\n\n\nwerden unsere ehrenamtlichen Mitarbeiter:innen intensiv im neuen Kassensystem geschult\,\n\n\n\nrichten wir die neue Technik ein\,\n\n\n\nund nutzen die Gelegenheit für eine kleine Umgestaltung des Ladens – lasst euch überraschen!\n\n\n\n\nWir bitten herzlich um euer Verständnis für die vorübergehende Schließung und freuen uns schon jetzt darauf\, euch ab Montag\, 30. Juni wieder zu unseren Öffnungszeiten begrüßen zu dürfen – mit frischem Schwung\, neuen Abläufen und natürlich wie immer mit einem Lächeln! \n\n\n\nDanke\, dass ihr diesen Schritt mit uns geht – für einen starken Fairen Handel in Darmstadt! \n\n\n\nÖffnungszeiten: \n\n\n\n\n\nMo\,Di\,Do\,Fr:Sa:Mi: \n\n\n\n\n\n10.00 – 18.3010.00 – 16.00geschlossen
URL:https://weltladen-darmstadt.de/event/weltladen-bleibt-vom-23-29-juni-geschlossen/
LOCATION:Weltladen Darmstadt\, Elisabethenstraße 51\, Darmstadt\, 64283\, Deutschland
ATTACH;FMTTYPE=image/jpeg:https://weltladen-darmstadt.de/wp-content/uploads/2025/06/Schliesszeit-Juni-25.jpg
ORGANIZER;CN="Weltladen Darmstadt":MAILTO:mail[at]weltladen-darmstadt.de
END:VEVENT
BEGIN:VEVENT
DTSTART;TZID=Europe/Berlin:20250627T160000
DTEND;TZID=Europe/Berlin:20250627T180000
DTSTAMP:20260424T111000
CREATED:20250517T152642Z
LAST-MODIFIED:20250607T080706Z
UID:15027-1751040000-1751047200@weltladen-darmstadt.de
SUMMARY:Nachhaltige Stadtführung – Martinsviertel
DESCRIPTION:Nachhaltige Stadtführung „Orte des Wandels“ – MartinsviertelFreitag\, 27. Juni 2025\, 16 bis 18 Uhr \n\n\n\nDarmstadt ist voll von Orten und Menschen\, die mit kreativen Ideen und Leidenschaft zeigen\, dass eine andere Art des Lebens und Wirtschaftens möglich ist: fair\, ressourcenschonend und klimatauglich. Mit unserem nachhaltigen Stadtrundgang möchten wir dich einladen\, einige dieser Orte kennenzulernen. \n\n\n\nDer nächste „Orte-des -Wandels“-Stadtrundgang findet am Freitag\, 27. Juni\, im Martinsviertel statt. Wirstarten um 16 Uhr und besuchen den Unverpackt-Laden in der Gutenbergstr\, anschließend Lejlas Second-Hand\, die Ubuntu-Inititive mit ihrem Material-Bus\, Thildas Eiscafé\, das First- und Secondhand-Modegeschäft Pompadour und abschließend das Schuhknecht-Café. Jede Station hat ihre Geschichte und unterwegs werden weitere tolle Initiativen\, Verschenk-\, Reparatur- und Tauschgelegenheiten in Darmstadt thematisiert.Der Treffpunkt wird nach der Anmeldung bekanntgegeben. \n\n\n\nKosten: keine\, Spenden willkommen.Anmeldung (max. 20 Personen) an: veranstaltungen(at)weltladen-darmstadt.de \n\n\n\nVeranstalter: Gemeinwohl-Ökonomie Darmstadt\, Weltladen Darmstadt\, Transition Town Darmstadt \n\n\n\n\n\n\n\n\ngefördert vonENGAGEMENT GLOBALmit Mitteln des:
URL:https://weltladen-darmstadt.de/event/nachhaltige-stadtfuehrung-innenstadt-5/
ATTACH;FMTTYPE=image/jpeg:https://weltladen-darmstadt.de/wp-content/uploads/2025/05/27-06-25.jpg
END:VEVENT
BEGIN:VEVENT
DTSTART;TZID=Europe/Berlin:20250628T100000
DTEND;TZID=Europe/Berlin:20250628T150000
DTSTAMP:20260424T111000
CREATED:20250331T082242Z
LAST-MODIFIED:20250331T082242Z
UID:14583-1751104800-1751122800@weltladen-darmstadt.de
SUMMARY:Selbsthilfe- und Engagementtag
DESCRIPTION:Stand des Weltladens Darmstadt auf dem Luisenplatz
URL:https://weltladen-darmstadt.de/event/selbsthilfe-und-engagementtag/
LOCATION:Luisenplatz\, Luisenplatz\, Darmstadt
ATTACH;FMTTYPE=image/jpeg:https://weltladen-darmstadt.de/wp-content/uploads/2025/03/Selbsthilfetag-2025.jpg
END:VEVENT
BEGIN:VEVENT
DTSTART;TZID=Europe/Berlin:20250630T100000
DTEND;TZID=Europe/Berlin:20250705T183000
DTSTAMP:20260424T111000
CREATED:20250617T151457Z
LAST-MODIFIED:20250701T085559Z
UID:15477-1751277600-1751740200@weltladen-darmstadt.de
SUMMARY:Weltladen hat wieder geöffnet
DESCRIPTION:
URL:https://weltladen-darmstadt.de/event/weltladen-hat-wieder-geoeffnet/
ATTACH;FMTTYPE=image/jpeg:https://weltladen-darmstadt.de/wp-content/uploads/2025/06/Oeffnung-Juni-25.jpg
END:VEVENT
END:VCALENDAR