BEGIN:VCALENDAR
VERSION:2.0
PRODID:-//Weltladen Darmstadt - Solidarisch handeln e.V. - ECPv6.15.20//NONSGML v1.0//EN
CALSCALE:GREGORIAN
METHOD:PUBLISH
X-WR-CALNAME:Weltladen Darmstadt - Solidarisch handeln e.V.
X-ORIGINAL-URL:https://weltladen-darmstadt.de
X-WR-CALDESC:Veranstaltungen für Weltladen Darmstadt - Solidarisch handeln e.V.
REFRESH-INTERVAL;VALUE=DURATION:PT1H
X-Robots-Tag:noindex
X-PUBLISHED-TTL:PT1H
BEGIN:VTIMEZONE
TZID:Europe/Berlin
BEGIN:DAYLIGHT
TZOFFSETFROM:+0100
TZOFFSETTO:+0200
TZNAME:CEST
DTSTART:20240331T010000
END:DAYLIGHT
BEGIN:STANDARD
TZOFFSETFROM:+0200
TZOFFSETTO:+0100
TZNAME:CET
DTSTART:20241027T010000
END:STANDARD
BEGIN:DAYLIGHT
TZOFFSETFROM:+0100
TZOFFSETTO:+0200
TZNAME:CEST
DTSTART:20250330T010000
END:DAYLIGHT
BEGIN:STANDARD
TZOFFSETFROM:+0200
TZOFFSETTO:+0100
TZNAME:CET
DTSTART:20251026T010000
END:STANDARD
BEGIN:DAYLIGHT
TZOFFSETFROM:+0100
TZOFFSETTO:+0200
TZNAME:CEST
DTSTART:20260329T010000
END:DAYLIGHT
BEGIN:STANDARD
TZOFFSETFROM:+0200
TZOFFSETTO:+0100
TZNAME:CET
DTSTART:20261025T010000
END:STANDARD
END:VTIMEZONE
BEGIN:VEVENT
DTSTART;TZID=Europe/Berlin:20251004T120000
DTEND;TZID=Europe/Berlin:20251004T160000
DTSTAMP:20260424T043839
CREATED:20250827T122459Z
LAST-MODIFIED:20250827T143323Z
UID:15942-1759579200-1759593600@weltladen-darmstadt.de
SUMMARY:Schokoladenwerkstatt beim Fairen Fest
DESCRIPTION:Schokoladenwerkstatt der Werkstatt Globales Lernen beim Fairen Fest auf dem Rathausplatz Büttelborn.Veranstalter:in: Steuerungsgruppe Fairtrade Gemeinde Büttelborn
URL:https://weltladen-darmstadt.de/event/schokoladenwerkstatt-beim-fairen-fest/
END:VEVENT
BEGIN:VEVENT
DTSTART;TZID=Europe/Berlin:20251016T140000
DTEND;TZID=Europe/Berlin:20251016T170000
DTSTAMP:20260424T043839
CREATED:20250815T155647Z
LAST-MODIFIED:20250815T160125Z
UID:15845-1760623200-1760634000@weltladen-darmstadt.de
SUMMARY:Schokoladenwerkstatt
DESCRIPTION:Angebot der Kinder- und Jugendförderung Ober-Ramstadt im Rahmen der Interkulturellen Wochen. Anmeldung: Kinder- und Jugendförderung Ober-Ramstadt
URL:https://weltladen-darmstadt.de/event/schokoladenwerkstatt/
ATTACH;FMTTYPE=image/jpeg:https://weltladen-darmstadt.de/wp-content/uploads/2025/08/Schokowerkstatt-2-1.jpg
ORGANIZER;CN="Kinder- und Jugendf%C3%B6rderung Ober-Ramstadt":MAILTO:trio@ober-ramstadt.de
END:VEVENT
BEGIN:VEVENT
DTSTART;TZID=Europe/Berlin:20251017T180000
DTEND;TZID=Europe/Berlin:20251017T200000
DTSTAMP:20260424T043839
CREATED:20251013T153023Z
LAST-MODIFIED:20251014T072343Z
UID:16614-1760724000-1760731200@weltladen-darmstadt.de
SUMMARY:Podiumsdiskussion zur EU-Lieferkettenrichtlinie
DESCRIPTION:Schutz für ausgebeutete Menschen\, Klima und Umwelt oder unzumutbare Bürde für Unternehmen? Die EU-Lieferkettenrichtlinie spaltet. Im Frühjahr 2024 wurde sie beschlossen. Die Pflicht zur      Umsetzung der Richtlinie ist für Unternehmen mittlerweile um ein Jahr auf 2028 verschoben worden. Außerdem wird die Richtlinie von der EU noch einmal überarbeitet. Sie soll abgeschwächt werden und für weniger Unternehmen gelten.Gut so\, sagen Unternehmensverbände. Lieferketten ließen sich ohnehin nur schwer kontrollieren und der bürokratische Aufwand sei zu hoch. Anders sehen das NGOs und Gewerkschaften. Sie befürchten\, dass die neue Version der Lieferkettenrichtlinie ein zahnloser Tiger zu werden droht. \n\n\n\nPodiumsdiskussion zur EU-Lieferkettenrichtlinie \n\n\n\nEU-Kommission und -Rat haben bereits ihre Positionen zur Überarbeitung der Richtlinie verabschiedet. Sobald sich das EU-Parlament auf seine Position geeinigt hat\, folgt die letzte Abstimmungsphase zwischen diesen drei Gesetzgebern der EU\, das so genannte Trilog-Verfahren. Was sollte im neuem Gesetzentwurf enthalten sein und was nicht? Das wollen wir nach einem Einführungsvortrag von Arbeitsrechtsexpertin Prof. Dr. Reingard Zimmer diskutieren. \n\n\n\nWann: Freitag\, 17. Oktober 2025\, 18:00 Uhr \n\n\n\nWo: Gewerkschaftshaus\, Wilhelm-Leuschner-Str. 69-77\, 60329 Frankfurt am Main\,Willy-Richter-SaalMit:Prof. Dr. Reingard Zimmer\, Hochschule für Wirtschaft und Recht BerlinDr. Jürgen Ratzinger\, IHK Frankfurt am MainChristian Weis\, IG MetallAnne Sträßer\, Romero Initiative (CIR) \n\n\n\nVeranstalter: Initiative Lieferkettengesetz Hessen (https://www.epn-hessen.de/buendnisse/initiative-lieferkettengesetz/)
URL:https://weltladen-darmstadt.de/event/podiumsdiskussion-zur-eu-lieferkettenrichtlinie/
ATTACH;FMTTYPE=image/jpeg:https://weltladen-darmstadt.de/wp-content/uploads/2025/10/galerie-1.jpg
END:VEVENT
BEGIN:VEVENT
DTSTART;TZID=Europe/Berlin:20251018T080000
DTEND;TZID=Europe/Berlin:20251025T170000
DTSTAMP:20260424T043839
CREATED:20251014T072207Z
LAST-MODIFIED:20251017T195342Z
UID:16634-1760774400-1761411600@weltladen-darmstadt.de
SUMMARY:Fashion Week im KAGEL
DESCRIPTION:Nachhaltige Modenschau am 18.10. 10 bis 15 Uhr\, außerdem gibt es in der ganzen Woche Fashion week Rabatte.
URL:https://weltladen-darmstadt.de/event/fashion-week-im-kagel/
LOCATION:KAGEL\, Pallaswiesenstr. 122\, Darmstadt
ATTACH;FMTTYPE=image/png:https://weltladen-darmstadt.de/wp-content/uploads/2025/10/fashion-week-1.png
ORGANIZER;CN="KAGEL":MAILTO:info@ka-gel.de
END:VEVENT
BEGIN:VEVENT
DTSTART;TZID=Europe/Berlin:20251019T140000
DTEND;TZID=Europe/Berlin:20251019T170000
DTSTAMP:20260424T043839
CREATED:20241113T125442Z
LAST-MODIFIED:20251002T081153Z
UID:10957-1760882400-1760893200@weltladen-darmstadt.de
SUMMARY:Kleidertauschparty mit Infostand zu Fair und Fast Fashion
DESCRIPTION:Die Werkstatt Globales Lernen bietet bei der Kleidertauschparty am 19. Oktober 2025 von Agora am mit Infostand zu Fair und Fast Fashion an.
URL:https://weltladen-darmstadt.de/event/kleidertauschboerde-mit-infostand-zu-fair-und-fast-fashion/
LOCATION:Agora\, Erbacher Str. 89\, Darmstadt
ATTACH;FMTTYPE=image/jpeg:https://weltladen-darmstadt.de/wp-content/uploads/2024/11/Kleidertauschparty-Agora-Okt-25.jpg
ORGANIZER;CN="Agora Kultur e.V.":MAILTO:agora(at)agora-da.de
END:VEVENT
BEGIN:VEVENT
DTSTART;TZID=Europe/Berlin:20251024T160000
DTEND;TZID=Europe/Berlin:20251024T180000
DTSTAMP:20260424T043839
CREATED:20250606T202033Z
LAST-MODIFIED:20251225T102922Z
UID:15397-1761321600-1761328800@weltladen-darmstadt.de
SUMMARY:Nachhaltige Stadtführung - Innenstadt
DESCRIPTION:Nachhaltige Stadtführung „Orte des Wandels“ – Innenstadt:Freitag\, 24. Oktober 2025\, 16 bis 18 UhrWann: Freitag\, 24. Oktober 2025\, 16:00-18:00 Uhr \n\n\n\nWer: Alle\, die Interesse haben \n\n\n\nVeranstalter: Gemeinwohl-Ökonomie Darmstadt\, Weltladen Darmstadt\, Transition Town Darmstadt\, VHS \n\n\n\nDarmstadt ist voll von Orten und Menschen\, die mit kreativen Ideen und Leidenschaft zeigen\, dass eine andere Art des Wirtschaftens möglich ist: fair\, ressourcenschonend und klimatauglich. Mit unserem nachhaltigen Stadtrundgang auf den Spuren der Wandelkarte möchten wir dazu einladen\, einige dieser Orte kennenzulernen. \n\n\n\nDer nächste „Orte-des -Wandels“-Stadtrundgang findet am 24. Oktober statt. Wir starten um 16 Uhr auf dem Stadtkirchplatz vor der Stadtkirche. Von da aus geht es vorbei an Djavas Second Hand zum Bekleidungsgeschäft Numero 5\, wo uns die Besitzerin des Ladens erzählt\, warum sie nachhaltige und faire Mode verkauft.  Weiter geht es zu einem Handygeschäft. Thema hier unter anderem: das neue „Recht auf Reparatur“. Die Führung endet am Weltladen in der Elisabethenstraße\, wo wir uns fairen Handel in Form von Schokolade auf der Zunge zergehen lassen. Unterwegs werden weitere tolle Initiativen\, Verschenk-\, Reparatur- und Tauschgelegenheiten in Darmstadt thematisiert. \n\n\n\nKosten: keine\, Spenden willkommen. \n\n\n\nWir bitten um Anmeldung bis zum 23.Oktober.2025 (max. 20 Personen) an:veranstaltungen(at)weltladen-darmstadt.de \n\n\n\n\n\n\n\n\ngefördert vonENGAGEMENT GLOBALmit Mitteln des:
URL:https://weltladen-darmstadt.de/event/nachhaltige-stadtfuehrung-innenstadt-7/
ATTACH;FMTTYPE=image/jpeg:https://weltladen-darmstadt.de/wp-content/uploads/2025/06/24-10-25.jpg
ORGANIZER;CN="Weltladen Darmstadt":MAILTO:mail[at]weltladen-darmstadt.de
END:VEVENT
BEGIN:VEVENT
DTSTART;TZID=Europe/Berlin:20251026T100000
DTEND;TZID=Europe/Berlin:20251026T123000
DTSTAMP:20260424T043839
CREATED:20251013T193149Z
LAST-MODIFIED:20251021T082539Z
UID:16623-1761472800-1761481800@weltladen-darmstadt.de
SUMMARY:Weihnachtliche Schokoladenwerkstatt für die Familie
DESCRIPTION:Schokoladenwerkstatt für Kinder von 6-11 Jahren mit ihrer Begleitperson \n\n\n\nWer isst nicht gerne Schokolade\, doch was steckt alles hinter einer Tafel Schokolade? In der Schokoladenwerkstatt erfahrt ihr jede Menge über den langen Weg der Schokolade vom Kakaobaum bis ins Geschäft und am Schluss werdet ihr wissen\, was das Besondere an einer „fairen Schokolade“ ist. Außerdem stellen wir aus den Originalzutaten unsere eigene Schokolade her\, die wir zum Schluss gemeinsam genießen werden. \n\n\n\nReferentin: Petra Schefzyk\,Werkstatt Globales Lernen im Weltladen Darmstadt \n\n\n\nTeilnahmebeitrag: 5\,00 Euro/Kind (Materialkosten) \n\n\n\nalle Infos: https://www.awo-darmstadt.de/veranstaltungen/details/veranstaltung/weihnachtliche-schokoladenwerkstatt-fuer-die-familie
URL:https://weltladen-darmstadt.de/event/weihnachtliche-schokoladenwerkstatt-fuer-die-familie/
LOCATION:Heiner-Lehr-Zentrum\, Kopernikusplatz 1\, Darmstadt
ATTACH;FMTTYPE=image/jpeg:https://weltladen-darmstadt.de/wp-content/uploads/2025/10/Schokowerkstatt-Okt-2025.jpg
END:VEVENT
BEGIN:VEVENT
DTSTART;TZID=Europe/Berlin:20251029T130000
DTEND;TZID=Europe/Berlin:20251029T203000
DTSTAMP:20260424T043839
CREATED:20250901T192122Z
LAST-MODIFIED:20251021T145516Z
UID:16052-1761742800-1761769800@weltladen-darmstadt.de
SUMMARY:Re:think Plastik
DESCRIPTION:Mach mit beim Aktionstag Re:think Plastic und entdecke\, wie einfach du Plastik in deinem Alltag reduzieren kannst! Dich erwarten eine bunte Kleidertauschparty\, inspirierende Vorträge\, ein mitreißender Filmabend\, nachhaltige DIY-Aktionen und ein spannender Markt der Möglichkeiten mit regionalen Initiativen. Komm vorbei\, tausche dich aus\, entdecke Neues und lass dich motivieren\, gemeinsam etwas zu verändern. Eine Anmeldung ist nicht nötig – einfach spontan vorbeischauen und dabei sein! \n\n\n\nDer Weltladen Darmstadt und Greenpeace Darmstadt sind mit einem Infostand vor Ort und oragnisieren die Kleidertauschparty mit. \n\n\n\nMehr Informationen: \n\n\n\nhttps://www.verbraucherzentrale-hessen.de/plastiksparen/aktionstag-rethink-plastic-darmstadt-109608 \n\n\n\nCafé Glaskasten\, Schöfferstr. 3
URL:https://weltladen-darmstadt.de/event/rethink-plastik/
LOCATION:Café Glaskasten\, Schöfferstraße 3\, Darmstadt
ATTACH;FMTTYPE=image/jpeg:https://weltladen-darmstadt.de/wp-content/uploads/2025/09/Postkarte-Rethink-Plastic-fuer-Displays-scaled.jpg
END:VEVENT
BEGIN:VEVENT
DTSTART;TZID=Europe/Berlin:20251029T143000
DTEND;TZID=Europe/Berlin:20251029T173000
DTSTAMP:20260424T043839
CREATED:20251002T222722Z
LAST-MODIFIED:20251025T110751Z
UID:16302-1761748200-1761759000@weltladen-darmstadt.de
SUMMARY:Kleidertauschparty
DESCRIPTION:Bring bis zu 5 Teile mit\, Abgabe ab 14 Uhr.Du kannst auch teilnehmen\, ohne eigene Kleidung mitzubringen. \n\n\n\nOrt: Café Glaskasten\, Schöfferstr. 3
URL:https://weltladen-darmstadt.de/event/kleidertauschparty-2/
LOCATION:Café Glaskasten\, Schöfferstraße 3\, Darmstadt
ATTACH;FMTTYPE=image/jpeg:https://weltladen-darmstadt.de/wp-content/uploads/2025/10/Kleidertauschparty_19.10.25_-1.jpg
END:VEVENT
END:VCALENDAR