BEGIN:VCALENDAR
VERSION:2.0
PRODID:-//Weltladen Darmstadt - Solidarisch handeln e.V. - ECPv6.15.20//NONSGML v1.0//EN
CALSCALE:GREGORIAN
METHOD:PUBLISH
X-ORIGINAL-URL:https://weltladen-darmstadt.de
X-WR-CALDESC:Veranstaltungen für Weltladen Darmstadt - Solidarisch handeln e.V.
REFRESH-INTERVAL;VALUE=DURATION:PT1H
X-Robots-Tag:noindex
X-PUBLISHED-TTL:PT1H
BEGIN:VTIMEZONE
TZID:Europe/Berlin
BEGIN:DAYLIGHT
TZOFFSETFROM:+0100
TZOFFSETTO:+0200
TZNAME:CEST
DTSTART:20240331T010000
END:DAYLIGHT
BEGIN:STANDARD
TZOFFSETFROM:+0200
TZOFFSETTO:+0100
TZNAME:CET
DTSTART:20241027T010000
END:STANDARD
BEGIN:DAYLIGHT
TZOFFSETFROM:+0100
TZOFFSETTO:+0200
TZNAME:CEST
DTSTART:20250330T010000
END:DAYLIGHT
BEGIN:STANDARD
TZOFFSETFROM:+0200
TZOFFSETTO:+0100
TZNAME:CET
DTSTART:20251026T010000
END:STANDARD
BEGIN:DAYLIGHT
TZOFFSETFROM:+0100
TZOFFSETTO:+0200
TZNAME:CEST
DTSTART:20260329T010000
END:DAYLIGHT
BEGIN:STANDARD
TZOFFSETFROM:+0200
TZOFFSETTO:+0100
TZNAME:CET
DTSTART:20261025T010000
END:STANDARD
END:VTIMEZONE
BEGIN:VEVENT
DTSTART;TZID=Europe/Berlin:20251103T190000
DTEND;TZID=Europe/Berlin:20251103T210000
DTSTAMP:20260422T063519
CREATED:20250826T120736Z
LAST-MODIFIED:20251029T101103Z
UID:15925-1762196400-1762203600@weltladen-darmstadt.de
SUMMARY:Made in Bangladesh
DESCRIPTION:Filmvorführung und Gespräch (fern:welt:nah)FSK 12 I Länge: 95 Minuten \n\n\n\nVeranstaltungsort: Haus am Dom\, Domplatz 3\, Frankfurt \,  \n\n\n\nDer Spielfilm erzählt die ergreifende Geschichte einer jungen Textilarbeiterin\, der es gelingt\, sich gegen Diskriminierung und Widerstände durchzusetzen. Die 23-jährige Shimu arbeitet in einer Textilfabrik in Dhaka\, der Hauptstadt von Bangladesch\, unter ausbeuterischen Bedingungen. Doch sie setzt sich zur Wehr\, indem sie\, zusammen mit ihren Kolleg:innen\, eine Gewerkschaft gründet. Daraufhin übt ihr Ehemann Druck auf sie aus und die Fabrikleitung beginnt ihr zu drohen. Aber Shimu lässt sich nicht entmutigen. \n\n\n\nMit Annika Wayman – Eine Welt-Fachpromotorin „Fairer Handel und nachhaltige Beschaffung“ und Inge Schönhardt von Greenpeace Darmstadt. \n\n\n\nMehr zur Veranstaltungsreihe: fern:welt:nah \n\n\n\nveranstaltet von:
URL:https://weltladen-darmstadt.de/event/15925/
LOCATION:Haus am Dom\, Domplatz 3\, Frankfurt
ORGANIZER;CN="Weltladen Darmstadt":MAILTO:mail[at]weltladen-darmstadt.de
END:VEVENT
BEGIN:VEVENT
DTSTART;TZID=Europe/Berlin:20251113T190000
DTEND;TZID=Europe/Berlin:20251113T213000
DTSTAMP:20260422T063519
CREATED:20251105T172410Z
LAST-MODIFIED:20251105T172422Z
UID:17040-1763060400-1763069400@weltladen-darmstadt.de
SUMMARY:Chocolate war - Film und Gespräch
DESCRIPTION:Seit über zwanzig Jahren versprechen die großen Schokoladenkonzerne eine faire Produktion – doch noch immer schuften hunderttausende Kinder auf Kakaoplantagen in Westafrika. Der Dokumentarfilm „The Chocolate War“ folgt dem Menschenrechtsanwalt Terry Collingsworth über fünf Jahre in seinem beharrlichen juristischen Kampf gegen Nestlé und Cargill. Mit eindrucksvollen Bildern und bewegenden Zeugnissen zeigt der Film\, wie schwer es ist\, Gerechtigkeit gegen globale Wirtschaftsmächte zu erstreiten – und warum der süße Geschmack von Schokolade oft bittere Wahrheiten verbirgt. \n\n\n\nIm Anschluss: Gespräch über Verantwortung\, Transparenz und Handlungsmöglichkeiten für Konsument*innen und Politik.
URL:https://weltladen-darmstadt.de/event/chocolate-war-film-und-gespraech-2/
LOCATION:Gemeindezentrum Sankt Josef\, Berger Str. 135 (Romerosaal)\, Frankfurt
ATTACH;FMTTYPE=image/jpeg:https://weltladen-darmstadt.de/wp-content/uploads/2025/11/Chocolate-war.jpg
END:VEVENT
BEGIN:VEVENT
DTSTART;TZID=Europe/Berlin:20251114T160000
DTEND;TZID=Europe/Berlin:20251114T180000
DTSTAMP:20260422T063519
CREATED:20251101T212357Z
LAST-MODIFIED:20251101T212541Z
UID:17023-1763136000-1763143200@weltladen-darmstadt.de
SUMMARY:Globaler Klimastreik
DESCRIPTION:Klimastreik am 14. November 2025 – Wir sind dabei! \n\n\n\nDie Klimakrise eskaliert – und noch immer wird nicht das getan\, was nötig ist. Deutschland trägt als eines der reichsten Länder der Welt eine besondere Verantwortung\, doch stattdessen werden weiterhin fossile Projekte genehmigt und internationale Verpflichtungen ignoriert. \n\n\n\nAm 14. November 2025 gehen wir weltweit und auch in Frankfurt auf die Straße. Gemeinsam fordern wir echten Wandel\, internationale Solidarität und eine Politik\, die endlich handelt. \n\n\n\nZehn Jahre nach dem Pariser Klimaabkommen zeigt sich: Die Industriestaaten müssen ihrer globalen Verantwortung gerecht werden. Während Menschen im Globalen Süden am stärksten unter den Folgen der Klimakrise leiden\, profitieren fossile Konzerne und ihre politischen Verbündeten weiterhin von der Zerstörung. \n\n\n\nWir sagen: Klimagerechtigkeit jetzt!Deutschland muss den fossilen Ausstieg konsequent umsetzen und sich auf der Weltklimakonferenz für faire Klimafinanzierung und den Schutz indigener Gemeinschaften stark machen. \n\n\n\nVon Belém bis Berlin – wir stehen vereint für eine gerechte Zukunft für alle.Kommt mit uns auf die Straße – für Klimaschutz\, Solidarität und Gerechtigkeit! \n\n\n\nmehr Infos: https://fridaysforfuture.de/klimastreik/
URL:https://weltladen-darmstadt.de/event/globaler-klimastreik-2/
LOCATION:Alte Oper\, Frankfurt
ATTACH;FMTTYPE=image/jpeg:https://weltladen-darmstadt.de/wp-content/uploads/2025/11/Klimastreik-14-11-25.jpg
END:VEVENT
BEGIN:VEVENT
DTSTART;TZID=Europe/Berlin:20251120T190000
DTEND;TZID=Europe/Berlin:20251120T213000
DTSTAMP:20260422T063519
CREATED:20251105T171928Z
LAST-MODIFIED:20251105T171928Z
UID:17032-1763665200-1763674200@weltladen-darmstadt.de
SUMMARY:Chocolate war - Film und Gespräch
DESCRIPTION:Seit über zwanzig Jahren versprechen die großen Schokoladenkonzerne eine faire Produktion – doch noch immer schuften hunderttausende Kinder auf Kakaoplantagen in Westafrika. Der Dokumentarfilm „The Chocolate War“ folgt dem Menschenrechtsanwalt Terry Collingsworth über fünf Jahre in seinem beharrlichen juristischen Kampf gegen Nestlé und Cargill. Mit eindrucksvollen Bildern und bewegenden Zeugnissen zeigt der Film\, wie schwer es ist\, Gerechtigkeit gegen globale Wirtschaftsmächte zu erstreiten – und warum der süße Geschmack von Schokolade oft bittere Wahrheiten verbirgt. \n\n\n\nIm Anschluss: Gespräch mit Annika Waymann\, Fachpromotorin für Fairen Handelund nachhaltige Beschaffung in Hessen\, über Verantwortung\, Transparenz und Handlungsmöglichkeiten für Konsument*innen und Politik.
URL:https://weltladen-darmstadt.de/event/chocolate-war-film-und-gespraech/
LOCATION:Liebfrauenkirche\, Herzbergstr. 34\, Oberursel
ATTACH;FMTTYPE=image/jpeg:https://weltladen-darmstadt.de/wp-content/uploads/2025/11/Chocolate-war.jpg
END:VEVENT
BEGIN:VEVENT
DTSTART;TZID=Europe/Berlin:20251121T193000
DTEND;TZID=Europe/Berlin:20251121T210000
DTSTAMP:20260422T063519
CREATED:20251029T100411Z
LAST-MODIFIED:20251031T164010Z
UID:16921-1763753400-1763758800@weltladen-darmstadt.de
SUMMARY:Faszination Ostafrika – Multivisionsshow in Dieburg
DESCRIPTION:Der Eine Welt-Verein Dieburg lädt am Freitag\, 21. November\, um 19:30 Uhr zu einer eindrucksvollen Multivisionsshow in der Römerhalle Dieburg ein. Die Fotojournalist:innen Dr. Jutta Ulmer und Dr. Michael Wolfsteiner nehmen das Publikum mit auf eine farbenprächtige Reise durch Uganda\, Kenia und Tansania – von den Nebelwäldern der Berggorillas über die Savannen der Serengeti bis zu den weißen Stränden Sansibars. \n\n\n\nIn ihrer live kommentierten Show verbinden sie grandiose Naturaufnahmen\, authentische Klänge und berührende Geschichten von Begegnungen mit Fair-Trade-Produzenten\, Umweltschützern und Alltagshelden. Entstanden ist ein lebendiges Porträt Ostafrikas\, das zum Staunen\, Nachdenken und Träumen einlädt. \n\n\n\nSie durften die Lebens- und Arbeitswelt folgender Fair-Handels-Organisationen fotografisch dokumentieren: \n\n\n\n\nVanille (RFCU|Esco\, Uganda)\n\n\n\nRosen (Bilashaka Flowers\, Kenia)\n\n\n\nSpeckstein-Produkte (Undugu\, Kenia)\n\n\n\nPerlenschmuck (BeadWORKS\, Kenia)\n\n\n\nDigitale Dienstleistungen (Digital Lions\, Kenia)\n\n\n\nTrockenananas (Matunda Mema\, Tansania)\n\n\n\nSchwarzer Tee (RBTC-JE|WATCO\, Tansania)\n\n\n\nUpcycling-Glaswaren (CHAKO\, Tansania)\n\n\n\n\nEintritt: 15\,00 € / 7\,50 € ermäßigt – freie Platzwahl. \n\n\n\nRömerhalle\, In der Altstadt 5\, Dieburg
URL:https://weltladen-darmstadt.de/event/faszination-ostafrika-multivisionsshow-in-dieburg/
LOCATION:Römerhalle\, In der Altstadt 5\, Dieburg\, Germany
ATTACH;FMTTYPE=image/jpeg:https://weltladen-darmstadt.de/wp-content/uploads/2025/10/Ostafrika-Dieburg.jpg
END:VEVENT
BEGIN:VEVENT
DTSTART;TZID=Europe/Berlin:20251122T140000
DTEND;TZID=Europe/Berlin:20251122T163000
DTSTAMP:20260422T063519
CREATED:20251021T203553Z
LAST-MODIFIED:20251021T203553Z
UID:16859-1763820000-1763829000@weltladen-darmstadt.de
SUMMARY:Schokoladenwerkstatt - vom Kakaobaum zur Schokolade!
DESCRIPTION:Woher kommt eigentlich unsere Schokolade? In der SchokoladenWerkstatt entdecken Kinder von 6 bis 11 Jahren den spannenden Weg der Kakaobohne – vom Baum bis ins Geschäft – und erfahren\, was faire Schokolade so besonders macht. Natürlich stellen wir zusammen auch selbst Schokolade her und naschen gemeinsam. \n\n\n\nSamstag\, 22. November | 14–16:30 UhrWerkstatt MenschenskinderKostenbeitrag: 5 € Kursgebühr + 3 € Materialkosten (bitte am Kurstag mitbringen)Anmeldung: anmeldung(at)menschenskinder-darmstadt.de
URL:https://weltladen-darmstadt.de/event/schokoladenwerkstatt-vom-kakaobaum-zur-schokolade/
LOCATION:menschenskinder\, Siemensstraße 3a\, Darmstadt-Kranichstein\, 64289
ATTACH;FMTTYPE=image/jpeg:https://weltladen-darmstadt.de/wp-content/uploads/2025/10/Schokoladenwerkstat-22-11.jpg
ORGANIZER;CN="Menschenskinder":MAILTO:info(at)menschenskinder-darmstadt.de
END:VEVENT
BEGIN:VEVENT
DTSTART;TZID=Europe/Berlin:20251124T110000
DTEND;TZID=Europe/Berlin:20251124T170000
DTSTAMP:20260422T063519
CREATED:20251017T103354Z
LAST-MODIFIED:20251017T103621Z
UID:16780-1763982000-1764003600@weltladen-darmstadt.de
SUMMARY:Tag der Nachhaltigkeit
DESCRIPTION:Gemeinsam laden Hochschulen\, Bildungseinrichtungen und engagierte Partner:innen zu einem transdisziplinären Abenteuer ein: Entdecken – Diskutieren – Mitmachen!Du kannst erforschen\, wie Ökologie\, Technik\, Wirtschaft und Soziales zusammenwirken – und nachhaltige Zukunftsfragen aktiv mitgestalten. \n\n\n\nOrt: Evangelische Hochschule Darmstadt\, Zweifalltorweg 12\, 64293 Darmstadt \n\n\n\nmehr Infos: https://alumni.eh-darmstadt.de/termine/tag-der-nachhaltigkeit-an-der-ehd/
URL:https://weltladen-darmstadt.de/event/tag-der-nachhaltigkeit/
LOCATION:evangelische Hochschule\, Zweifalltorweg 12\, Darmstadt
ATTACH;FMTTYPE=image/jpeg:https://weltladen-darmstadt.de/wp-content/uploads/2025/10/Tag-der-Nachhaltigkeit-EHD-2025.jpg
END:VEVENT
BEGIN:VEVENT
DTSTART;TZID=Europe/Berlin:20251127T160000
DTEND;TZID=Europe/Berlin:20251127T183000
DTSTAMP:20260422T063519
CREATED:20251017T093000Z
LAST-MODIFIED:20251031T114627Z
UID:16569-1764259200-1764268200@weltladen-darmstadt.de
SUMMARY:Süße FAIRführung - Schokoladenwerkstatt für Kinder
DESCRIPTION:Wenn der Duft frisch gerösteter Kakaobohnen durch den Weltladen zieht\, dann steht eines fest: Es wird süß\, kreativ und fair! Ende November laden wir Kinder und Erwachsene ein\, die Welt der Schokolade mit allen Sinnen zu entdecken – vom Kakaobaum bis zur eigenen\, handgemachten Weihnachtsschokolade. \n\n\n\n  Schokoladenwerkstatt für Kinder – Von der Kakaobohne zur SchokoladeIn unserer beliebten Schokoladenwerkstatt erleben Kinder ab 6 Jahren\, wie Schokolade wirklich entsteht – von der Kakaobohne bis zur fertigen Tafel.Gemeinsam rösten und mahlen wir Kakaobohnen\, lernen Spannendes über das Leben der Kakaobäuer:innen und erfahren\, warum fair gehandelte Schokolade so besonders ist.Am Ende entsteht die eigene\, selbstgemachte Weihnachtsschokolade – natürlich zum Mitnehmen und Probieren. \n\n\n\nKinder ab 6 Jahren | 8 € Materialkosten Donnerstag\, 27. November 2025 | 16 – 18:30 UhrWeltladen Darmstadt\, Elisabethenstraße 51 \n\n\n\n\n\n\n\nAnmeldung für beide Werkstätten bis 21. November möglich: \n\n\nBitte aktiviere JavaScript in deinem Browser\, um dieses Formular fertigzustellen.Bitte aktiviere JavaScript in deinem Browser\, um dieses Formular fertigzustellen.Name (Absender) *E-Mail-Adresse *Name\, Vorname (Teilnehmer:in) *Bitte eine Veranstaltung auswählen: *— Auswahl treffen —Schokoladenwerkstatt für Kinder am 27.11.2025Schokoladenwerkstatt für Erwachsene am 28.11.2025DSGVO-Einverständnis *Ich willige ein\, dass diese Website meine übermittelten Informationen speichert\, sodass meine Anfrage beantwortet werden kann.\n		You need to enable Javascript for the anti-spam check.Nachricht senden
URL:https://weltladen-darmstadt.de/event/suesse-fairfuehrung-schokoladenwerkstatt-fuer-kinder/
LOCATION:Weltladen Darmstadt\, Elisabethenstraße 51\, Darmstadt\, 64283\, Deutschland
CATEGORIES:Werkstatt Globales Lernen
ATTACH;FMTTYPE=image/jpeg:https://weltladen-darmstadt.de/wp-content/uploads/2025/10/Suesse-Fairfuehrung.jpg
ORGANIZER;CN="Weltladen Darmstadt":MAILTO:mail[at]weltladen-darmstadt.de
END:VEVENT
BEGIN:VEVENT
DTSTART;TZID=Europe/Berlin:20251128T183000
DTEND;TZID=Europe/Berlin:20251128T210000
DTSTAMP:20260422T063519
CREATED:20251017T093000Z
LAST-MODIFIED:20251031T114657Z
UID:16573-1764354600-1764363600@weltladen-darmstadt.de
SUMMARY:Süße FAIRführung - Schokoladenwerkstatt für Erwachsene
DESCRIPTION:Wenn der Duft frisch gerösteter Kakaobohnen durch den Weltladen zieht\, dann steht eines fest: Es wird süß\, kreativ und fair! Ende November laden wir Kinder und Erwachsene ein\, die Welt der Schokolade mit allen Sinnen zu entdecken – vom Kakaobaum bis zur eigenen\, handgemachten Weihnachtsschokolade. \n\n\n\n Süße Fairführung – Stell deine eigene Weihnachtsschokolade herEin genussvoller Abend im Zeichen des Fairen Handels:Teilnehmer:innen erfahren\, wie aus Kakaobohnen köstliche Schokolade entsteht – und stellen ihre eigene\, fair gehandelte Weihnachtsschokolade her.Begleitet von spannenden Geschichten über den Kakaoanbau\, den Fairen Handel und nachhaltigen Genuss\, entsteht ein unvergessliches Geschmackserlebnis in adventlicher Atmosphäre. \n\n\n\nErwachsene | 8 € Materialkosten Freitag\, 28. November 2025 | 18:30–21:00 UhrWeltladen Darmstadt\, Elisabethenstraße 51 \n\n\n\n \n\n\n\n\n\n\n\nAnmeldung für beide Werkstätten bis 21. November möglich: \n\n\nBitte aktiviere JavaScript in deinem Browser\, um dieses Formular fertigzustellen.Bitte aktiviere JavaScript in deinem Browser\, um dieses Formular fertigzustellen.Name (Absender) *E-Mail-Adresse *Name\, Vorname (Teilnehmer:in) *Bitte eine Veranstaltung auswählen: *— Auswahl treffen —Schokoladenwerkstatt für Kinder am 27.11.2025Schokoladenwerkstatt für Erwachsene am 28.11.2025DSGVO-Einverständnis *Ich willige ein\, dass diese Website meine übermittelten Informationen speichert\, sodass meine Anfrage beantwortet werden kann.\n		You need to enable Javascript for the anti-spam check.Nachricht senden
URL:https://weltladen-darmstadt.de/event/suesse-fairfuehrung-schokoladenwerkstatt-fuer-erwachsene/
LOCATION:Weltladen Darmstadt\, Elisabethenstraße 51\, Darmstadt\, 64283\, Deutschland
ATTACH;FMTTYPE=image/jpeg:https://weltladen-darmstadt.de/wp-content/uploads/2025/10/Suesse-Fairfuehrung.jpg
ORGANIZER;CN="Weltladen Darmstadt":MAILTO:mail[at]weltladen-darmstadt.de
END:VEVENT
BEGIN:VEVENT
DTSTART;TZID=Europe/Berlin:20251129T100000
DTEND;TZID=Europe/Berlin:20251129T123000
DTSTAMP:20260422T063519
CREATED:20251023T113346Z
LAST-MODIFIED:20251031T164158Z
UID:16881-1764410400-1764419400@weltladen-darmstadt.de
SUMMARY:Schokoladenwerkstatt
DESCRIPTION:Obwohl wir fast täglich Kakao zum Frühstück trinken oder leckere Schokolade zwischendurch genießen\, wissen wir wenig über die lange Geschichte und den weiten Weg des Kakaos.In dieser Schokoladenwerkstatt begeben wir uns auf Spurensuche und erfahren beispielsweise\, dass Kakao auf Bäumen wächst und welche harte und schwierige Arbeit die Kakaobauern mit ihren Familien leisten.Gestärkt nach einer Schokoladenmeditation stellen wir aus den Originalzutaten unsere eigene Schokolade her\, die wir zum Schluss gemeinsam probieren werden.Informationen über die Besonderheiten von fair gehandelter Schokolade runden diese Schokoladenwerkstatt für Groß und Klein ab. \n\n\n\nIn Kooperation mit dem Weltladen Darmstadt \n\n\n\nKursort: Frankfurter Str. 71\, Raum 0.02 – Lehrküche \n\n\n\nGebühr: neu_Kursentgelt 5-6 TN: 25\,31 € ab 5 Eltern-Kind-Paaren: 25\,31 €ab 7 Eltern-Kind-Paaren: 21\,98 €weiteres Kind: 9\,99 € \n\n\n\nZur Website des Veranstalters
URL:https://weltladen-darmstadt.de/event/schokoladenwerkstatt-2/
LOCATION:Familienzentrum Darmstadt\, Frankfurter Str. 71\, Darmstadt
ATTACH;FMTTYPE=image/jpeg:https://weltladen-darmstadt.de/wp-content/uploads/2025/10/Schokoladenwerkstatt-allgemein.jpg
ORGANIZER;CN="Familienzentrum Darmstadt":MAILTO:familienbildung[at]darmstadt.de
END:VEVENT
BEGIN:VEVENT
DTSTART;TZID=Europe/Berlin:20251129T130000
DTEND;TZID=Europe/Berlin:20251129T170000
DTSTAMP:20260422T063519
CREATED:20251015T152259Z
LAST-MODIFIED:20251031T114555Z
UID:16269-1764421200-1764435600@weltladen-darmstadt.de
SUMMARY:Make something day
DESCRIPTION:MAKE SMTHNG DAY – am 29. November\, 13 bis 17 Uhr    im Heiner-Lehr-Zentrum\, Kopernikusplatz 1 \n\n\n\nStatt Konsumrausch zu Black Friday & Co. laden wir ein\, gemeinsam etwas zu tun: Upcycling\, kreativ werden\, Foodsharing\, Neues ausprobieren. \n\n\n\nZeigt\, dass nachhaltiges Leben möglich ist – und Spaß macht! Kommt vorbei und macht mit\, solange ihr möchtet. \n\n\n\nAlle Infos zu den Workshops und Angeboten findet Ihr hier
URL:https://weltladen-darmstadt.de/event/make-something-day-25/
LOCATION:Heiner-Lehr-Zentrum\, Kopernikusplatz 1\, Darmstadt
ATTACH;FMTTYPE=image/jpeg:https://weltladen-darmstadt.de/wp-content/uploads/2025/10/Make-something-day.jpg
END:VEVENT
BEGIN:VEVENT
DTSTART;TZID=Europe/Berlin:20251129T160000
DTEND;TZID=Europe/Berlin:20251129T164500
DTSTAMP:20260422T063519
CREATED:20251030T145247Z
LAST-MODIFIED:20251124T184126Z
UID:16950-1764432000-1764434700@weltladen-darmstadt.de
SUMMARY:Make Something Day – Schokoladenwerkstatt statt Black Friday
DESCRIPTION:Black Friday? Nein danke.Am 29. November 2025 zeigen wir gemeinsam mit vielen anderen Engagierten im Heiner-Lehr-Zentrum Darmstadt\, dass es auch anders geht: kreativ\, nachhaltig\, gemeinschaftlich und ressourcenbewusst. \n\n\n\nBeim MAKE SOMETHING DAY wird repariert\, gestaltet\, geteilt und Neues ausprobiert – ganz nach dem Motto: Weniger konsumieren\, mehr erschaffen! \n\n\n\nUnd wir vom Weltladen Darmstadt sind natürlich mit dabei – mit einer duftenden\, fairen und wunderbar leckeren Aktion: \n\n\n\n\n\nWeihnachtsschokolade – selbstgemacht\n\n\n\nAus Fair-Trade-Kakaobohnen\, Kakaobutter und weiteren Zutaten stellen wir weihnachtliche Schokoladenfiguren her\, die wir zum Beispiel für einen persönlichen fairen Adventskalender nutzen können. Dazu gibt es Informationen rund um den Kakaoanbau und weshalb Fairer Handel besonders bei Schokolade so wichtig ist. \n\n\n\nSchokowerkstatt 1: 15 – 15.45 Uhr (ausgebucht) \n\n\n\nSchokowerkstatt 2: 16 – 16.45 UhrGruppengröße: max. 12 Personen\, Erwachsene\, Kinder (ab 6 Jahren mit Begleitperson) \n\n\n\nMaterialgebühr: 4 Euro pro PersonMitbringen: kleine Silikonformen\, leere Adventskalender (falls vorhanden)Teilnahme nur mit Anmeldung unter info(at)weltladen-darmstadt.de oder: \n\n\n\n\n\nAnmeldung:\n\n\n\n\n\n\n\n📍 Ort: Heiner-Lehr-Zentrum\, Darmstadt👧 Für Kinder ab 6 Jahren mit Begleitperson💶 Materialgebühr: 4 Euro pro Person🧁 Mitbringen: kleine Silikonformen oder leere Adventskalender (falls vorhanden)
URL:https://weltladen-darmstadt.de/event/make-something-day-zwei-mal-schokoladenwerkstatt-statt-black-friday/
LOCATION:Heiner-Lehr-Zentrum\, Kopernikusplatz 1\, Darmstadt
ATTACH;FMTTYPE=image/jpeg:https://weltladen-darmstadt.de/wp-content/uploads/2025/10/Make-somethin-day-Schokoladenwerkstatt-1.jpg
ORGANIZER;CN="Werkstatt Globales Lernen":MAILTO:bldung[at]weltladen-darmstadt.de
END:VEVENT
BEGIN:VEVENT
DTSTART;TZID=Europe/Berlin:20251130T100000
DTEND;TZID=Europe/Berlin:20251130T123000
DTSTAMP:20260422T063519
CREATED:20251023T113427Z
LAST-MODIFIED:20251031T164544Z
UID:16883-1764496800-1764505800@weltladen-darmstadt.de
SUMMARY:Schokoladenwerkstatt
DESCRIPTION:Obwohl wir fast täglich Kakao zum Frühstück trinken oder leckere Schokolade zwischendurch genießen\, wissen wir wenig über die lange Geschichte und den weiten Weg des Kakaos.In dieser Schokoladenwerkstatt begeben wir uns auf Spurensuche und erfahren beispielsweise\, dass Kakao auf Bäumen wächst und welche harte und schwierige Arbeit die Kakaobauern mit ihren Familien leisten.Gestärkt nach einer Schokoladenmeditation stellen wir aus den Originalzutaten unsere eigene Schokolade her\, die wir zum Schluss gemeinsam probieren werden.Informationen über die Besonderheiten von fair gehandelter Schokolade runden diese Schokoladenwerkstatt für Groß und Klein ab. \n\n\n\nIN KOOPERATION MIT DEM WELTLADEN DARMSTADT \n\n\n\nKursort: Frankfurter Str. 71\, Raum 0.02 – Lehrküche \n\n\n\nGebühr: neu_Kursentgelt 5-6 TN: 25\,31 € ab 5 Eltern-Kind-Paaren: 25\,31 €ab 7 Eltern-Kind-Paaren: 21\,98 €weiteres Kind: 9\,99 € \n\n\n\nZur Website des Veranstalters
URL:https://weltladen-darmstadt.de/event/schokoladenwerkstatt-4/
LOCATION:Familienzentrum Darmstadt\, Frankfurter Str. 71\, Darmstadt
CATEGORIES:Werkstatt Globales Lernen
ATTACH;FMTTYPE=image/jpeg:https://weltladen-darmstadt.de/wp-content/uploads/2025/10/Schokoladenwerkstatt-allgemein.jpg
ORGANIZER;CN="Familienzentrum Darmstadt":MAILTO:familienbildung[at]darmstadt.de
END:VEVENT
END:VCALENDAR