BEGIN:VCALENDAR
VERSION:2.0
PRODID:-//Weltladen Darmstadt - Solidarisch handeln e.V. - ECPv6.15.20//NONSGML v1.0//EN
CALSCALE:GREGORIAN
METHOD:PUBLISH
X-ORIGINAL-URL:https://weltladen-darmstadt.de
X-WR-CALDESC:Veranstaltungen für Weltladen Darmstadt - Solidarisch handeln e.V.
REFRESH-INTERVAL;VALUE=DURATION:PT1H
X-Robots-Tag:noindex
X-PUBLISHED-TTL:PT1H
BEGIN:VTIMEZONE
TZID:Europe/Berlin
BEGIN:DAYLIGHT
TZOFFSETFROM:+0100
TZOFFSETTO:+0200
TZNAME:CEST
DTSTART:20250330T010000
END:DAYLIGHT
BEGIN:STANDARD
TZOFFSETFROM:+0200
TZOFFSETTO:+0100
TZNAME:CET
DTSTART:20251026T010000
END:STANDARD
BEGIN:DAYLIGHT
TZOFFSETFROM:+0100
TZOFFSETTO:+0200
TZNAME:CEST
DTSTART:20260329T010000
END:DAYLIGHT
BEGIN:STANDARD
TZOFFSETFROM:+0200
TZOFFSETTO:+0100
TZNAME:CET
DTSTART:20261025T010000
END:STANDARD
BEGIN:DAYLIGHT
TZOFFSETFROM:+0100
TZOFFSETTO:+0200
TZNAME:CEST
DTSTART:20270328T010000
END:DAYLIGHT
BEGIN:STANDARD
TZOFFSETFROM:+0200
TZOFFSETTO:+0100
TZNAME:CET
DTSTART:20271031T010000
END:STANDARD
END:VTIMEZONE
BEGIN:VEVENT
DTSTART;TZID=Europe/Berlin:20260205T170000
DTEND;TZID=Europe/Berlin:20260205T183000
DTSTAMP:20260422T010335
CREATED:20260114T104303Z
LAST-MODIFIED:20260114T214024Z
UID:17483-1770310800-1770316200@weltladen-darmstadt.de
SUMMARY:Fairplay nicht nur auf dem Spielfeld
DESCRIPTION:– aktiv werden zur Fußball-WM \n\n\n\n\n\nwo: Online via Zoom \n\n\n\nVeranstalter: EPN Hessen e. V. und Weltläden in Hessen e. V. \n\n\n\nZur Anmeldung: https://us06web.zoom.us/meeting/register/66kPJ3UNRAe1sCX6nPwF2g  \n\n\n\nAnmeldefrist: bis 4. Februar \n\n\n\n\n\nDie Fußball-WM der Männer steht wieder vor der Tür. Fairplay\, internationale Freundschaft und Solidarität spielen beim Fußball eine große Rolle. Ein guter Anknüpfungspunkt für den Fairen Handel. \n\n\n\nWie können Fairtrade-Towns und Weltläden die WM nutzen\, um auf Fairplay in den globalen Sportlieferketten aufmerksam zu machen? Auf faire Bedingungen für die Menschen\, die in Pakistan\, China\, Bangladesch etc. für Hungerlöhne schuften\, um unsere Bälle\, Trikots und Fanartikel herzustellen? Wie kann man die WM nutzen\, um Vereine für diese Thematik anzusprechen? Welche Bildungsformate gibt es? Welche gelungenen Veranstaltungen wurden in der Vergangenheit in Hessen durchgeführt? \n\n\n\nDarüber möchten wir uns mit Ihnen austauschen. Christina Schlag (Weltläden in Hessen u. Weltladen Oberursel) und Jens Gessner (Umweltbeauftragter der Stadt Oberursel) berichten von der Zusammenarbeit der Stadt mit dem SC Eintracht Oberursel. Annika Waymann (Fachpromotorin für Fairen Handel und nachhaltige Beschaffung) teilt die Erfahrungen von einem fairen Public Viewing in Darmstadt bei der EM 2024. Anschließend wird Benjamin Zeise die Unterstützungsangebote von Sport handelt Fair vorstellen – Bildungsmaterialien\, einen Produktfinder für faire Sportprodukte und eine Austauschplattform für Vereine. Außerdem wird es Zeit geben\, sich über Ideen und Projekte in 2026 auszutauschen. \n\n\n\nModeration: Annika Waymann \n\n\n\n\n\n\n\n\n\n\n\n\n\n\n\nIm Rahmen des Promotor*innenprogrammes“ gefördert von ENGAGEMENT GLOBAL mit Mitteln des Bundesministeriums für wirtschaftliche Zusammenarbeit und Entwicklung und des Hessischen Ministeriums für Wirtschaft\, Energie\, Verkehr\, Wohnen und ländlichen Raum. \n\n\n\n\n\n\n\n\n\n\n\n\n\n\n\n\n\nVeranstaltet von:
URL:https://weltladen-darmstadt.de/event/fairplay-nicht-nur-auf-dem-spielfeld/
ATTACH;FMTTYPE=image/jpeg:https://weltladen-darmstadt.de/wp-content/uploads/2026/01/Fair-Play-1.jpg
END:VEVENT
BEGIN:VEVENT
DTSTART;TZID=Europe/Berlin:20260222T150000
DTEND;TZID=Europe/Berlin:20260222T173000
DTSTAMP:20260422T010335
CREATED:20260205T085519Z
LAST-MODIFIED:20260217T151933Z
UID:17714-1771772400-1771781400@weltladen-darmstadt.de
SUMMARY:Sozialverträgliche Wärmewende - Podiumsdiskussion zur Kommunalwahl
DESCRIPTION:Öl\, und Gas heizen nicht nur die Wohung\, sondern auch das Klima. \n\n\n\nWelche Schritte brauchen wir jetzt für zukunftsfähiges\, bezahlbares Heizen in Darmstadt?Podiumsdiskussion mit Vetreter:innen der Kommunalparteien Grüne\, CDU\, SPD\, Linke\, Volt\, Ufbasse und FDP. \n\n\n\nModeration: Julia Jäger\, Energieberaterin und Prof. Sven Linow\, Wärmelehre unnd Umwelttechnik \n\n\n\nAula evangelische Hochschule\, Zweifalltorweg 12\, Darmstadt
URL:https://weltladen-darmstadt.de/event/sozialvertraegliche-waermewende/
ATTACH;FMTTYPE=image/jpeg:https://weltladen-darmstadt.de/wp-content/uploads/2026/02/Waermewende-1.jpg
END:VEVENT
BEGIN:VEVENT
DTSTART;TZID=Europe/Berlin:20260227T170000
DTEND;TZID=Europe/Berlin:20260227T170000
DTSTAMP:20260422T010335
CREATED:20260220T170856Z
LAST-MODIFIED:20260220T171022Z
UID:18039-1772211600-1772211600@weltladen-darmstadt.de
SUMMARY:Klimastreik in Frankfurt
DESCRIPTION:Fridays for future rufen zum Klimastreik zur Kommunalwahl auf. Treffpunkt: Alte Oper\, Frankfurt.
URL:https://weltladen-darmstadt.de/event/klimastreik-in-frankfurt/
ATTACH;FMTTYPE=image/jpeg:https://weltladen-darmstadt.de/wp-content/uploads/2026/02/Klimastreik-27-02.jpg
END:VEVENT
END:VCALENDAR