BEGIN:VCALENDAR
VERSION:2.0
PRODID:-//Weltladen Darmstadt - Solidarisch handeln e.V. - ECPv6.15.20//NONSGML v1.0//EN
CALSCALE:GREGORIAN
METHOD:PUBLISH
X-WR-CALNAME:Weltladen Darmstadt - Solidarisch handeln e.V.
X-ORIGINAL-URL:https://weltladen-darmstadt.de
X-WR-CALDESC:Veranstaltungen für Weltladen Darmstadt - Solidarisch handeln e.V.
REFRESH-INTERVAL;VALUE=DURATION:PT1H
X-Robots-Tag:noindex
X-PUBLISHED-TTL:PT1H
BEGIN:VTIMEZONE
TZID:Europe/Berlin
BEGIN:DAYLIGHT
TZOFFSETFROM:+0100
TZOFFSETTO:+0200
TZNAME:CEST
DTSTART:20250330T010000
END:DAYLIGHT
BEGIN:STANDARD
TZOFFSETFROM:+0200
TZOFFSETTO:+0100
TZNAME:CET
DTSTART:20251026T010000
END:STANDARD
BEGIN:DAYLIGHT
TZOFFSETFROM:+0100
TZOFFSETTO:+0200
TZNAME:CEST
DTSTART:20260329T010000
END:DAYLIGHT
BEGIN:STANDARD
TZOFFSETFROM:+0200
TZOFFSETTO:+0100
TZNAME:CET
DTSTART:20261025T010000
END:STANDARD
BEGIN:DAYLIGHT
TZOFFSETFROM:+0100
TZOFFSETTO:+0200
TZNAME:CEST
DTSTART:20270328T010000
END:DAYLIGHT
BEGIN:STANDARD
TZOFFSETFROM:+0200
TZOFFSETTO:+0100
TZNAME:CET
DTSTART:20271031T010000
END:STANDARD
END:VTIMEZONE
BEGIN:VEVENT
DTSTART;TZID=Europe/Berlin:20260301T100000
DTEND;TZID=Europe/Berlin:20260301T123000
DTSTAMP:20260421T232041
CREATED:20251216T173352Z
LAST-MODIFIED:20260114T214212Z
UID:17243-1772359200-1772368200@weltladen-darmstadt.de
SUMMARY:Schokoladenwerkstatt
DESCRIPTION:Obwohl wir fast täglich Kakao zum Frühstück trinken oder leckere Schokolade zwischendurch genießen\, wissen wir wenig über die lange Geschichte und den weiten Weg des Kakaos.In dieser Schokoladenwerkstatt begeben wir uns auf Spurensuche und erfahren beispielsweise\, dass Kakao auf Bäumen wächst und welche harte und schwierige Arbeit die Kakaobauern mit ihren Familien leisten.Gestärkt nach einer Schokoladenmeditation stellen wir aus den Originalzutaten unsere eigene Schokolade her\, die wir zum Schluss gemeinsam probieren werden.Informationen über die Besonderheiten von fair gehandelter Schokolade runden diese Schokoladenwerkstatt für Groß und Klein ab. \n\n\n\nIn Kooperation mit dem Weltladen Darmstadt \n\n\n\nKursort: Frankfurter Str. 71\, Raum 0.02 – Lehrküche \n\n\n\nGebühr: neu_Kursentgelt 5-6 TN: 25\,31 € ab 5 Eltern-Kind-Paaren: 25\,31 €ab 7 Eltern-Kind-Paaren: 21\,98 €\, weiteres Kind: 9\,99 € \n\n\n\nAnmeldung und weitere Infos
URL:https://weltladen-darmstadt.de/event/schokoladenwerkstatt-5/
LOCATION:Familienzentrum Darmstadt\, Frankfurter Str. 71\, Darmstadt
ATTACH;FMTTYPE=image/jpeg:https://weltladen-darmstadt.de/wp-content/uploads/2025/10/Schokoladenwerkstatt-allgemein.jpg
ORGANIZER;CN="Familienzentrum Darmstadt":MAILTO:familienbildung[at]darmstadt.de
END:VEVENT
BEGIN:VEVENT
DTSTART;TZID=Europe/Berlin:20260307T140000
DTEND;TZID=Europe/Berlin:20260307T160000
DTSTAMP:20260421T232041
CREATED:20251216T171304Z
LAST-MODIFIED:20260211T091021Z
UID:17234-1772892000-1772899200@weltladen-darmstadt.de
SUMMARY:Nachhaltige Stadtführung - Innenstadt
DESCRIPTION:Wer: Alle\, die Interesse haben \n\n\n\nVeranstalter:  Weltladen Darmstadt\, VHS Darmstadt\, Transition Town Darmstadt\, Oikocredit Förderkreis Hessen-Pfalz e. V. \n\n\n\nDarmstadt ist voll von Orten und Menschen\, die mit kreativen Ideen und Leidenschaft zeigen\, dass eine andere Art des Wirtschaftens möglich ist: fair\, ressourcenschonend und klimatauglich. Mit unserem nachhaltigen Stadtrundgang auf den Spuren der Wandelkarte möchten wir dazu einladen\, einige dieser Orte kennenzulernen. \n\n\n\nDer nächste „Orte-des -Wandels“-Stadtrundgang findet am 7. März statt. Wir starten um 14 Uhr auf dem Stadtkirchplatz vor der Stadtkirche mit einem Quiz zur Fast Fashion. Von da aus geht es zu Djavas Second Hand und zum Bekleidungsgeschäft Numero 5. Bei einem Handygeschäft beschäftigen wir uns unter anderem mit dem neuen „Recht auf Reparatur“. Die Führung endet am Weltladen in der Elisabethenstraße\, wo wir uns fairen Handel in Form von Schokolade auf der Zunge zergehen lassen. Unterwegs werden weitere tolle Initiativen\, Verschenk-\, Reparatur- und Tauschgelegenheiten in Darmstadt thematisiert. \n\n\n\nKosten: keine\, Spenden willkommen. \n\n\n\nWir bitten um Anmeldung bis zum 6. März (max. 20 Personen) an:wandelkarte(at)transition-darmstadt.de oder über das Kontaktformular: \n\n\n\n\n\n\n\n\n\n\nBitte aktiviere JavaScript in deinem Browser\, um dieses Formular fertigzustellen.Bitte aktiviere JavaScript in deinem Browser\, um dieses Formular fertigzustellen.Name\, Vorname (Teilnehmer:in) *E-Mail-Adresse *Mobilnummer *Checkboxen *Orte des Wandels 7. März\, 14 UhrDSGVO-Einverständnis *Ich willige ein\, dass diese Website meine übermittelten Informationen speichert\, sodass meine Anfrage beantwortet werden kann.\n		You need to enable Javascript for the anti-spam check.Nachricht senden  \n\n\n\n\n\n\n\n\n\nim Rahmen des Promotor:innenprogramms gefördert von ENGAGEMENT GLOBAL mit Mitteln des:
URL:https://weltladen-darmstadt.de/event/nachhaltige-stadtfuehrung-07-03/
ATTACH;FMTTYPE=image/png:https://weltladen-darmstadt.de/wp-content/uploads/2025/12/260307_Orte_des_Wandels_Stadtfuehrung_Sharepic.png
ORGANIZER;CN="Weltladen Darmstadt":MAILTO:mail[at]weltladen-darmstadt.de
END:VEVENT
BEGIN:VEVENT
DTSTART;TZID=Europe/Berlin:20260308T100000
DTEND;TZID=Europe/Berlin:20260309T183000
DTSTAMP:20260421T232041
CREATED:20260204T105235Z
LAST-MODIFIED:20260214T155756Z
UID:17695-1772964000-1773081000@weltladen-darmstadt.de
SUMMARY:Feministische Aktionstage in Darmstadt: 8. und 9. März
DESCRIPTION:Der Weltladen Darmstadt ist ein Ort zum Ankommen\n\n\n\n\n\nWenn Frauen streiken\, steht die Welt still.Am 9. März 2026\, einen Tag nach dem Internationalen Frauentag\, legen Frauen* weltweit ihre bezahlte und unbezahlte Arbeit nieder. Sie machen sichtbar\, was sonst oft übersehen wird: Care-Arbeit\, Sorgearbeit\, emotionale Arbeit – das Fundament unserer Gesellschaft. \n\n\n\nDer Weltladen Darmstadt versteht sich an diesem Tag ab 10 Uhr als offener\, solidarischer Rückzugsort.Ein Ort zum Durchatmen\, Aufwärmen\, Austauschen.Ein Ort\, an dem Frauen* zwischen Aktionen\, Demonstrationen oder Streikmomenten zusammenkommen und einen fair gehandelten Kaffee trinken können. \n\n\n\nFrauenstreiks haben Geschichte – und Wirkung:Von Island 1975\, als 90 % der Frauen das Land lahmlegten\, über Argentinien\, Polen und die Schweiz bis heute. Auch in Deutschland wächst die Bewegung.  \n\n\n\nDer globale Frauen*generalstreik 2026\, ausgerufen von ENOUGH! GENUG!\, knüpft an diese Tradition an und sagt klar: Es reicht. \n\n\n\nEs reicht mit: \n\n\n\n\nLohnungleichheit\n\n\n\nUnsichtbarer Care-Arbeit\n\n\n\nGewalt gegen Frauen\n\n\n\nPolitischen Rückschritten bei Frauenrechten\n\n\n\n\nDer Weltladen Darmstadt steht für globale Gerechtigkeit\, Solidarität und faire Strukturen – lokal wie international. Deshalb öffnen wir am 9. März bewusst unsere Türen als Raum der Begegnung und Stärkung. \n\n\n\nKomm vorbei. Setz dich. Trink einen fairen Kaffee oder Tee.Und sei Teil einer Bewegung\, die zeigt: Ohne Frauen läuft hier gar nichts. \n\n\n\nWährend am 9. März gestreikt wird\, steht der 8. März\, der Internationale Frauentag\, im Zeichen des Kampfes. Mit verschiedenen Aktionen wird ein Zeichen gegen patriarchale Strukturen gesetzt. \n\n\n\nKontakt und Infos:https://www.instagram.com/p/DUOoU5FCsqr/?img_index=5feministischstreikendarmstadt(at)gmail.com \n\n\n\n\n\n\n\nAblauf Darmstadt: \n\n\n\n8. März\, Feministischer Kampftag: \n\n\n\n13:30-15 UhrDemo und Performance UNsichtbar – Georg-Büchner-Platz \n\n\n\n16-19 UhrZwischen Unterdrückung und Flucht(Hoffart-Theater) \n\n\n\nab 21 UhrFeministische Party Musik und Drinks(BAR der Kammerspiele) \n\n\n\n9. März\, Feministisches Streiken: \n\n\n\n10-12 Uhr Demonstration in der Innenstadt\, Start am Friedensplatzanschließend: Zusammenkommen mit Musik\, Kreativem\, Bewegung\, Tee & Kaffee (z.B. im Weltladen von 13-15 Uhr )
URL:https://weltladen-darmstadt.de/event/frauenstreik-9-maerz/
ATTACH;FMTTYPE=image/jpeg:https://weltladen-darmstadt.de/wp-content/uploads/2026/02/signal-2026-02-11-12-32-50-666.jpg
END:VEVENT
BEGIN:VEVENT
DTSTART;TZID=Europe/Berlin:20260309T130000
DTEND;TZID=Europe/Berlin:20260309T150000
DTSTAMP:20260421T232041
CREATED:20260303T080257Z
LAST-MODIFIED:20260303T080326Z
UID:18062-1773061200-1773068400@weltladen-darmstadt.de
SUMMARY:Frauenstreik am 9. März – Strickworkshop im Weltladen
DESCRIPTION:Der Weltladen Darmstadt versteht sich am 9. März ab 10 Uhr als offener\, solidarischer Rückzugsort für alle. Ein Ort zum Durchatmen\, Aufwärmen\, Austauschen. Ein Ort\, an dem Menschen zwischen Aktionen\, Demonstrationen oder Streikmomenten zusammenkommen und einen fair gehandelten Kaffee oder Tee trinken können. \n\n\n\nZwischen 13 Uhr 15 Uhr wird hier auch ein Strickworkshop stattfinden. Wolle und Nadeln stehen zur Verfügung. Der Workshop ist geeignet für alle – sowohl erfahrene Stricker:innen als auch Menschen\, die es zum Ersten Mal ausprobieren wollen \n\n\n\nMehr Infos zu den Aktionen am 8. und 9. März unter: https://weltladen-darmstadt.de/event/frauenstreik-9-maerz/
URL:https://weltladen-darmstadt.de/event/frauenstreik-am-9-maerz-auch-im-weltladen/
LOCATION:Weltladen Darmstadt\, Elisabethenstraße 51\, Darmstadt\, 64283\, Deutschland
ATTACH;FMTTYPE=image/jpeg:https://weltladen-darmstadt.de/wp-content/uploads/2026/02/Frauenstreik-1.jpg
ORGANIZER;CN="Weltladen Darmstadt":MAILTO:mail[at]weltladen-darmstadt.de
END:VEVENT
BEGIN:VEVENT
DTSTART;TZID=Europe/Berlin:20260313T173000
DTEND;TZID=Europe/Berlin:20260313T200000
DTSTAMP:20260421T232041
CREATED:20251216T184636Z
LAST-MODIFIED:20260212T101412Z
UID:17246-1773423000-1773432000@weltladen-darmstadt.de
SUMMARY:Schokoladenwerkstatt für Erwachsene
DESCRIPTION:Schokoladenwerkstatt für Erwachsene \n\n\n\nWer isst nicht gerne Schokolade\, doch was steckt alles hinter einer Tafel Schokolade? Die Teilnehmer:innen erwartet ein genussvoller Abend im Zeichen des Fairen Handels. Sie erfahren\, wie aus Kakaobohnen köstliche Schokolade entsteht – und stellen ihre eigene\, fair gehandelte Schokolade her.Begleitet von spannenden Geschichten über den Kakaoanbau\, den Fairen Handel und nachhaltigen Genuss\, entsteht ein Geschmackserlebnis in gemütlicher Atmosphäre. \n\n\n\nReferentin: Petra Schefzyk\,Werkstatt Globales Lernen im Weltladen Darmstadt \n\n\n\nTeilnahmebeitrag\, alle Infos und Anmeldung: https://www.awo-darmstadt.de/veranstaltungen
URL:https://weltladen-darmstadt.de/event/schokoladenwerkstatt-fuer-erwachsene/
LOCATION:Heiner-Lehr-Zentrum\, Kopernikusplatz 1\, Darmstadt
ATTACH;FMTTYPE=image/jpeg:https://weltladen-darmstadt.de/wp-content/uploads/2025/12/Schokoladenwerkstatt-allgemein-Erwachsene-1.jpg
END:VEVENT
BEGIN:VEVENT
DTSTART;TZID=Europe/Berlin:20260314T100000
DTEND;TZID=Europe/Berlin:20260314T120000
DTSTAMP:20260421T232041
CREATED:20260211T101950Z
LAST-MODIFIED:20260214T184301Z
UID:17853-1773482400-1773489600@weltladen-darmstadt.de
SUMMARY:Kindervorlesung: "Von der der Kakaobohne zur Schokolade"
DESCRIPTION:In der Vorlesung der Kinderuniversität erfahren Kinder ab 6 Jahren\, wo Schokolade wirklich wächst\, warum sie früher „glückliches Geld“ hieß und wie viel Arbeit in einer Tafel steckt. Gezeigt werden mit Fotos und kleinen Filmclips die einzelnen Schritte vom Kakaobaum zur Schokolade.  \n\n\n\nAußerdem gibt’s spannende Geschichten und Infos über den Fairen Handel\, das Leben der Kakaobäuer:innen und welchen Unterschied der Faire Handel macht. \n\n\n\nAlle Infos: https://www.buergerstiftung-darmstadt.de/veranstaltung/von-der-kakaobohne-zur-schokolade/
URL:https://weltladen-darmstadt.de/event/kindervorlesung-von-der-der-kakaobohne-zur-schokolade/
LOCATION:Schloss Darmstadt\, Hörsaal 30\, Innenstadt\, Darmstadt
ATTACH;FMTTYPE=image/jpeg:https://weltladen-darmstadt.de/wp-content/uploads/2026/02/Kinderuni-14-03-26-2.jpg
ORGANIZER;CN="B%C3%BCrgerstiftung Darmstadt":MAILTO:info@buergerstiftung-darmstadt.de
END:VEVENT
BEGIN:VEVENT
DTSTART;TZID=Europe/Berlin:20260320T153000
DTEND;TZID=Europe/Berlin:20260320T180000
DTSTAMP:20260421T232041
CREATED:20260214T155547Z
LAST-MODIFIED:20260317T201732Z
UID:17986-1774020600-1774029600@weltladen-darmstadt.de
SUMMARY:ausgebucht: Eltern-Kind-Schokoladenwerkstatt: Von der Kakaobohne zur Schokolade
DESCRIPTION:Wächst Schokolade wirklich auf Bäumen? Und warum nannte man Schokolade früher glückliches Geld? Antworten auf diese und andere Fragen gibt es in unserer Eltern-Kind-Schokoladenwerkstatt. \n\n\n\nDu erfährst mit deinen Eltern\, wie viel Arbeit in einer Tafel Schokolade steckt\, bis sie nach einer langen Reise in unseren Geschäften ankommt und wie die Kakaobäuer:innen und ihre Familien arbeiten und leben. \n\n\n\nAus Kakaobohnen und anderen Zutaten stellen wir gemeinsam Schokolade selbst her und probieren sie. Nach dieser Reise mit allen Sinnen in die Welt der Schokolade weißt du\, wie wertvoll Schokolade ist und was das Besondere an einer fair hergestellten und gehandelten Schokolade ist. \n\n\n\nFreitag\, 20. März\, 15:30 bis 18:00 UhrWeltladen Darmstadt\, Elisabethenstraße 51\, \n\n\n\nwer: Kinder ab 6 Jahren und ihre Eltern\, maximal 10 Personen \n\n\n\nMaterialkosten: 8 Euro/pro Person \n\n\n\nAnmeldeschluss: 16. März 2025 \n\n\n\nAnmeldung: veranstaltungen(at)weltladen-darmstadt.de oder über unser Kontaktformular: \n\n\n\n\n\n\n\n\n\n\n\n\nBitte aktiviere JavaScript in deinem Browser\, um dieses Formular fertigzustellen.Bitte aktiviere JavaScript in deinem Browser\, um dieses Formular fertigzustellen.Name (Absender) *E-Mail-Adresse *Mobil-/Telefonnummer *Name\, Vorname *Bitte ankreuzen: *Fairer Freitag – Früchte – im Weltladen 8.5.2026\, 18:00 UhrDSGVO-Einverständnis *Ich willige ein\, dass diese Website meine übermittelten Informationen speichert\, sodass meine Anfrage beantwortet werden kann.\n		You need to enable Javascript for the anti-spam check.Nachricht senden
URL:https://weltladen-darmstadt.de/event/eltern-kind-schokoladenwerkstattvon-der-kakaobohne-zur-schokolade/
LOCATION:Weltladen Darmstadt\, Elisabethenstraße 51\, Darmstadt\, 64283\, Deutschland
ATTACH;FMTTYPE=image/jpeg:https://weltladen-darmstadt.de/wp-content/uploads/2026/02/Schokowerkstatt20-03-Instagram.jpg
ORGANIZER;CN="Weltladen Darmstadt":MAILTO:mail[at]weltladen-darmstadt.de
END:VEVENT
BEGIN:VEVENT
DTSTART;TZID=Europe/Berlin:20260321T150000
DTEND;TZID=Europe/Berlin:20260321T173000
DTSTAMP:20260421T232041
CREATED:20251216T185216Z
LAST-MODIFIED:20251216T185217Z
UID:17250-1774105200-1774114200@weltladen-darmstadt.de
SUMMARY:Schokoladenwerkstatt
DESCRIPTION:Die Werkstatt Globales Lernen bietet eine Schokoladenwerkstatt im Naturschutzzentrum Bensheim für Kinder im Grundschulalter an. Der Kurs ist geeignet für Kinder ab dem Grundschulalter mit den Eltern. Informationen und Anmeldung
URL:https://weltladen-darmstadt.de/event/schokoladenwerkstatt-6/
LOCATION:Naturschutzzentrum Bensheim\, An der Erlache 17\, Bensheim\, Hessen\, 64625\, Deutschland
ATTACH;FMTTYPE=image/jpeg:https://weltladen-darmstadt.de/wp-content/uploads/2025/10/Schokoladenwerkstatt-allgemein.jpg
ORGANIZER;CN="Naturschutzzentrum Bensheim":MAILTO:info[at]naturschutzzentrum-bergstrasse.de
END:VEVENT
BEGIN:VEVENT
DTSTART;TZID=Europe/Berlin:20260322T100000
DTEND;TZID=Europe/Berlin:20260322T123000
DTSTAMP:20260421T232041
CREATED:20251216T191123Z
LAST-MODIFIED:20260304T155443Z
UID:17254-1774173600-1774182600@weltladen-darmstadt.de
SUMMARY:ausgebucht: Schokoladenwerkstatt für die ganze Familie
DESCRIPTION:Schokoladenwerkstatt für Eltern mit Kindern \n\n\n\nWer isst nicht gerne Schokolade\, doch was steckt alles hinter einer Tafel Schokolade? In unserer beliebten Schokoladenwerkstatt erleben Kinder ab 6 Jahren mit ihren Eltern\, wie Schokolade wirklich entsteht – von der Kakaobohne bis zur fertigen Tafel.Gemeinsam rösten und mahlen wir Kakaobohnen\, lernen Spannendes über das Leben der Kakaobäuer:innen und erfahren\, warum fair gehandelte Schokolade so besonders ist.Am Ende entsteht die eigene\, selbstgemachte Schokolade – natürlich zum Mitnehmen und Probieren. \n\n\n\nReferentin: Petra Schefzyk\,Werkstatt Globales Lernen im Weltladen Darmstadt \n\n\n\nTeilnahmebeitrag\,\,alle Infos und Anmeldung: https://www.awo-darmstadt.de/veranstaltungen/details/veranstaltung/schokoladenwerkstatt-2026-fuer-die-familie
URL:https://weltladen-darmstadt.de/event/schokoladenwerkstatt-fuer-erwachsene-2/
LOCATION:Heiner-Lehr-Zentrum\, Kopernikusplatz 1\, Darmstadt
ATTACH;FMTTYPE=image/jpeg:https://weltladen-darmstadt.de/wp-content/uploads/2025/10/Schokoladenwerkstatt-allgemein.jpg
END:VEVENT
BEGIN:VEVENT
DTSTART;TZID=Europe/Berlin:20260325T170000
DTEND;TZID=Europe/Berlin:20260325T183000
DTSTAMP:20260421T232041
CREATED:20260121T105516Z
LAST-MODIFIED:20260121T111623Z
UID:17577-1774458000-1774463400@weltladen-darmstadt.de
SUMMARY:Online-Austausch: Orte des Wandels sichtbar machen ­– nachhaltige Stadtpläne erstellen
DESCRIPTION:wo: Online via Zoom \n\n\n\nVeranstalter: Annika Waymann\,Fachpromotorin für Fairen Handel und nachhaltige Beschaffung \n\n\n\nZur Anmeldung: https://us02web.zoom.us/meeting/register/Dp488J4NQzCcoDbKRs1kFA \n\n\n\nNachhaltige Stadtpläne und Einkaufsführer können „enkeltaugliche“ Alternativen vor Ort für die breite Bevölkerung sichtbar machen. Viele Städte und Gemeinden in Hessen haben bereits einen alternativen Stadtplan oder sind dabei\, einen zu erstellen. Bei diesem Online-Treffen wollen wir uns städteübergreifend darüber austauschen\, was es dabei zu beachten gilt. Welche Kriterien sind sinnvoll? Wie kann man einen nachhaltigen Stadtplan finanzieren? Wie kommt das Layout zustande? Wie geht man in kleinen und großen Kommunen mit einer geringen bzw. sehr großen Zahl an nachhaltigen Orten um? \n\n\n\nMartin Huth vom Team der Wandelkarte Darmstadt wird kurz von seinen Erfahrungen berichten und für Fragen zur Verfügung stehen. Außerdem stellt Helmut Wolman das Angebot von Ideen³ e.V. vor. Mit dem Projekt kartevonmorgen.org wird sowohl die digitale Kartierung ermöglicht als auch bei der Erstellung einer druckfertigen Papierkarte unterstützt. \n\n\n\nZu dem Treffen sind alle Interessierten eingeladen\, egal ob mit fertigem Stadtplan oder nur mit der Idee für einen solchen!
URL:https://weltladen-darmstadt.de/event/online-austausch-orte-des-wandels-sichtbar-machen-nachhaltige-stadtplaene-erstellen/
ATTACH;FMTTYPE=image/png:https://weltladen-darmstadt.de/wp-content/uploads/2026/01/2026-03-25-Austausch_nachhaltige_Stadtplaene.png
END:VEVENT
BEGIN:VEVENT
DTSTART;TZID=Europe/Berlin:20260326T140000
DTEND;TZID=Europe/Berlin:20260326T160000
DTSTAMP:20260421T232041
CREATED:20260318T113110Z
LAST-MODIFIED:20260318T113111Z
UID:18517-1774533600-1774540800@weltladen-darmstadt.de
SUMMARY:Osterhasenstreik
DESCRIPTION:Warum streiken die Osterhasen?Weil Kakao ohne Kinderarbeit und faire Löhne keine Ausnahme\, sondern selbstverständlich sein sollten! \n\n\n\nJedes Jahr machen Schokoladenkonzerne Milliardengewinne – während Kakaobauernfamilien in Westafrika in extremer Armut leben. Kinderarbeit\, Hungerlöhne und Ausbeutung sind die bittere Wahrheit hinter konventioneller Schokolade. \n\n\n\nDas INKOTA-Netzwerk und Aktionsgruppen fordern wir die sieben größten Schokoladenhersteller auf\, endlich faire Kakaopreise zu zahlen – für ein Leben in Würde!. Trotz Rekordpreisen auf dem Weltmarkt kommt bei den Bauern kaum etwas an. \n\n\n\nDer Weltladen Darmstadt ruft zur Aktion auf:– Kommt zum Osterhasenstreik! (26. April\, 14–16 Uhr\, Innenstadt)– Unterschreibt die Petition für faire Kakaopreise!– Macht mit – auch online: www.inkota.de/news/faire-kakaopreise-jetzt
URL:https://weltladen-darmstadt.de/event/osterhasenstreik/
LOCATION:Weltladen Darmstadt\, Elisabethenstraße 51\, Darmstadt\, 64283\, Deutschland
ATTACH;FMTTYPE=image/jpeg:https://weltladen-darmstadt.de/wp-content/uploads/2026/03/Osterhasenstreik-2026.jpg
ORGANIZER;CN="Weltladen Darmstadt":MAILTO:mail[at]weltladen-darmstadt.de
END:VEVENT
BEGIN:VEVENT
DTSTART;TZID=Europe/Berlin:20260330T080000
DTEND;TZID=Europe/Berlin:20260414T170000
DTSTAMP:20260421T232041
CREATED:20260317T193143Z
LAST-MODIFIED:20260409T050237Z
UID:18474-1774857600-1776186000@weltladen-darmstadt.de
SUMMARY:Ausstellung: MODE. MACHT. WELT. Aber welche? Verlängert!
DESCRIPTION:– eine Ausstellung über die Wahrheit hinter unserer Kleidung \n\n\n\nJustus-Liebig-Haus (Foyer)\, Große Bachgasse 2 (Öffnungszeiten der Stadtbücherei) \n\n\n\nWas kostet unsere Kleidung wirklich? \n\n\n\nHinter jedem T-Shirt\, jeder Jeans\, jedem Trend versteckt sich eine globale Geschichte – von Ausbeutung und Umweltzerstörung\, aber auch von Hoffnung und Veränderung. Die Ausstellung führt dich in fünf Themenblöcken durch die dunkle Seite der Modeindustrie – und zeigt Lösungen für eine faire Zukunft. \n\n\n\nDie fünf Themenblöcke: Wissen\, das bewegt \n\n\n\n\nFashion Revolution: Warum wir einen Wandel brauchenWie alles begann – und warum Transparenz und Gerechtigkeit in der Mode kein Luxus\, sondern eine Notwendigkeit sind.\n\n\n\nMode & Klima: Die dreckige WahrheitDie Textilindustrie ist einer der größten Klimakiller. Wie unsere Kaufentscheidungen Flüsse vergiften\, Wälder zerstören und das Klima aufheizen.\n\n\n\nArbeitsbedingungen: Wer zahlt den Preis für unsere Kleidung?Hungerlöhne\, Zwangsüberstunden\, Diskriminierung – die Realität der Menschen\, die unsere Kleidung herstellen.\n\n\n\nAltkleider\, Secondhand & Circular Fashion: Gibt es ein Leben nach der Wegwerfmode?Was passiert mit unserer Kleidung\, wenn wir sie nicht mehr wollen? Und wie kann Kreislaufwirtschaft die Lösung sein?\n\n\n\nKonsumalternativen: Jede:r kann etwas ändern!Praktische Tipps\, wie du nachhaltiger leben kannst – von Secondhand über Upcycling bis zu politischer Forderung.\n\n\n\n\nDie Ausstellung ist interaktiv\, leicht verständlich und lädt zum Mitdenken ein. QR-Codes vertiefen die Inhalte – bring dein Smartphone mit! \n\n\n\nMode ist mehr als Stoff. Sie ist Politik\, Ökologie\, Menschenrechte.Die Zukunft der Mode liegt in unseren Händen – und diese Ausstellung zeigt\, wie du sie mitgestalten kannst. \n\n\n\n\nalle Veranstaltungen der Fashion Revolution Week …\n\n\n\n\n \n\n\n\n\n\n\n\n\n\n \n\n\n\n\nDie Fashion Revolution Week Darmstadt 2026 wird unterstützt von:\n\n\n\n\n\n\n\n\n\n\n\n\n\n\n\n\n\n\n\n\n\n\n\n\n\n\n\n\n\n\n\n\n\n\n\n\n\n\n\n\n\n\n\n\n\n\n\n\n\n\n\n\n\n\n\n\n\n\n\n\n\n\n\n\n\n\n\n\n\n\n\n\n\n\n\n\n\n\n\n\n\n\n\n\n\n\n\n\n\n\n\n\n\n\n\n\n\n\n\n\n\n\n\n\n\n\n\n\n\n\n\n\n\n\n\n\n\n\n\n\n\n\n\n\n\n\n\n\n\n\n\nDanke an: \n\n\n\n\n\n\n\n\n\n\n\ngefördert durch ENGAGEMENT GLOBAL mit Mitteln des:
URL:https://weltladen-darmstadt.de/event/mode-macht-welt-aber-welche/
ATTACH;FMTTYPE=image/jpeg:https://weltladen-darmstadt.de/wp-content/uploads/2026/03/5a.jpg
END:VEVENT
BEGIN:VEVENT
DTSTART;TZID=Europe/Berlin:20260331T100000
DTEND;TZID=Europe/Berlin:20260331T140000
DTSTAMP:20260421T232041
CREATED:20250815T160318Z
LAST-MODIFIED:20260211T220601Z
UID:15853-1774951200-1774965600@weltladen-darmstadt.de
SUMMARY:Koch-Connection - kochen mit Gewürzen aus aller Welt
DESCRIPTION:Angebot der Kinder- und Jugendförderung Ober-Ramstadt in Zusammenarbeit mit der Werkstatt Globales Lernen im TRIO Jugendzentrum Ober-Ramstadt. \n\n\n\nAnmeldung: direkt bei der Kinder- und Jugendförderung Ober-Ramstadt
URL:https://weltladen-darmstadt.de/event/koch-connection/
ATTACH;FMTTYPE=image/jpeg:https://weltladen-darmstadt.de/wp-content/uploads/2025/08/Gewuerze-kochen-1.jpg
ORGANIZER;CN="Kinder- und Jugendf%C3%B6rderung Ober-Ramstadt":MAILTO:trio@ober-ramstadt.de
END:VEVENT
END:VCALENDAR