BEGIN:VCALENDAR
VERSION:2.0
PRODID:-//Weltladen Darmstadt - Solidarisch handeln e.V. - ECPv6.15.20//NONSGML v1.0//EN
CALSCALE:GREGORIAN
METHOD:PUBLISH
X-ORIGINAL-URL:https://weltladen-darmstadt.de
X-WR-CALDESC:Veranstaltungen für Weltladen Darmstadt - Solidarisch handeln e.V.
REFRESH-INTERVAL;VALUE=DURATION:PT1H
X-Robots-Tag:noindex
X-PUBLISHED-TTL:PT1H
BEGIN:VTIMEZONE
TZID:Europe/Berlin
BEGIN:DAYLIGHT
TZOFFSETFROM:+0100
TZOFFSETTO:+0200
TZNAME:CEST
DTSTART:20250330T010000
END:DAYLIGHT
BEGIN:STANDARD
TZOFFSETFROM:+0200
TZOFFSETTO:+0100
TZNAME:CET
DTSTART:20251026T010000
END:STANDARD
BEGIN:DAYLIGHT
TZOFFSETFROM:+0100
TZOFFSETTO:+0200
TZNAME:CEST
DTSTART:20260329T010000
END:DAYLIGHT
BEGIN:STANDARD
TZOFFSETFROM:+0200
TZOFFSETTO:+0100
TZNAME:CET
DTSTART:20261025T010000
END:STANDARD
BEGIN:DAYLIGHT
TZOFFSETFROM:+0100
TZOFFSETTO:+0200
TZNAME:CEST
DTSTART:20270328T010000
END:DAYLIGHT
BEGIN:STANDARD
TZOFFSETFROM:+0200
TZOFFSETTO:+0100
TZNAME:CET
DTSTART:20271031T010000
END:STANDARD
END:VTIMEZONE
BEGIN:VEVENT
DTSTART;TZID=Europe/Berlin:20260418T000000
DTEND;TZID=Europe/Berlin:20260425T000000
DTSTAMP:20260421T212652
CREATED:20260317T200004Z
LAST-MODIFIED:20260419T072811Z
UID:18498-1776470400-1777075200@weltladen-darmstadt.de
SUMMARY:Offene Kleiderstange
DESCRIPTION:KAGEL 24/7\, Sharing-Hub\, Eugen-Kogon-Straße (Lichtwiese) \n\n\n\ntauschen\, finden\, glücklich werden – ohne Party\, aber mit viel Spaß \n\n\n\nKleidung kann Geschichten erzählen – und manchmal braucht sie einfach ein neues Zuhause. \n\n\n\nBei unserer Offenen Kleiderstange im KAGEL 24/7 kannst du ganz unkompliziert tauschen\, stöbern und mitnehmen\, was dir gefällt. Ob gut erhaltene Lieblingsteile\, Accessoires oder besondere Fundstücke – hier findet jedes Stück einen neuen Sinn. \n\n\n\nWie es funktioniert:\n\n\n\n\nBring vorbei\, was du nicht mehr trägst – sauber und intakt.\n\n\n\nNimm mit\, was dich anspricht – aus Freude am Teilen.\n\n\n\nEntdecke Nachhaltigkeit im Alltag.\n\n\n\n\nUnd wenn du etwas an deinem neuen Teil ändern möchtest\, bring es einfach mit zu einem unserer Workshops\, zum Repariercafé oder lass dich in der Nähwerkstatt bei den beiden Kleidertauschpartys unterstützen. \n\n\n\nMehr Infos: www.ka-gel.de/kagel-24-7 \n\n\n\n\nalle Veranstaltungen der Fashion Revolution Week …\n\n\n\n\n \n\n\n\n \n\n\n\n\n\n\n\n\n\n \n\n\n\n\nDie Fashion Revolution Week Darmstadt 2026 wird unterstützt von:\n\n\n\n\n\n\n\n\n\n\n\n\n\n\n\n\n\n\n\n\n\n\n\n\n\n\n\n\n\n\n\n\n\n\n\n\n\n\n\n\n\n\n\n\n\n\n\n\n\n\n\n\n\n\n\n\n\n\n\n\n\n\n\n\n\n\n\n\n\n\n\n\n\n\n\n\n\n\n\n\n\n\n\n\n\n\n\n\n\n\n\n\n\n\n\n\n\n\n\n\n\n\n\n\n\n\n\n\n\n\n\n\n\n\n\n\n\n\n\n\n\n\n\n\n\n\n\n\n\n\n\nDanke an: \n\n\n\n\n\n\n\n\n\n\n\ngefördert durch ENGAGEMENT GLOBAL mit Mitteln des:
URL:https://weltladen-darmstadt.de/event/fashion-revolution-week-2026-offene-kleiderstange/
ATTACH;FMTTYPE=image/jpeg:https://weltladen-darmstadt.de/wp-content/uploads/2026/03/3web-1.jpg
END:VEVENT
BEGIN:VEVENT
DTSTART;TZID=Europe/Berlin:20260421T000000
DTEND;TZID=Europe/Berlin:20260425T000000
DTSTAMP:20260421T212652
CREATED:20260408T195841Z
LAST-MODIFIED:20260419T072926Z
UID:18793-1776729600-1777075200@weltladen-darmstadt.de
SUMMARY:Offene Kleiderstange für Kinder und Erwachsene
DESCRIPTION:Werkstattladen und Kaffeekiosk „Mitten-im-Martinsviertel“\, Kaupstr. 42 (Riegerplatz) \n\n\n\nKennst du das? Der Kleiderschrank ist voll\, aber nichts passt mehr. Besonders Kinder wachsen schnell – und mit ihnen die Berge an ausrangierten Klamotten. \n\n\n\nWir haben eine Lösung für dich! \n\n\n\nIn Zusammenarbeit mit der Fashion Revolution Week Darmstadt laden wir dich herzlich ein zur offenen Kleiderstange für Kinder und Erwachsene. \n\n\n\nWas dich erwartet: Ein gemütlicher Raum im Werkstattladen mit Kaffee und Kiosk-Atmosphäre. Bring deine aussortierten Schätze mit (0 bis max. 5 Teile) und entdecke\, was andere Familien abzugeben haben. Es ist kein Muss\, etwas mitzubringen – du darfst auch einfach nur stöbern und mitnehmen\, soviel du möchtest und was dir gefällt. \n\n\n\nWarum das wichtig ist: Jedes Kleidungsstück\, das weitergetragen wird\, ist ein Gewinn für unseren Planeten. Wir reduzieren Abfall\, sparen Ressourcen und stärken gleichzeitig unsere lokale Community. Genau das\, wofür die Fashion Revolution Week steht! \n\n\n\nÖffnungszeiten während der Fashion Revolution Week (21. – 25.4.):Dienstag\, Donnerstag und Samstag jeweils 16 bis 19 UhrMittwoch 9 bis 19 Uhr undFreitag 14 bis 19 Uhr \n\n\n\nmit Genuss: Kaffee und kleine Snacks sind vorhanden \n\n\n\nWeitersagen: Teile diese Einladung mit Freund:innen und Familien in deiner Nachbarschaft – gemeinsam schaffen wir Veränderung! \n\n\n\n\nalle Veranstaltungen der Fashion Revolution Week …\n\n\n\n\n \n\n\n\n \n\n\n\n\n\n\n\n\n\n \n\n\n\n\nDie Fashion Revolution Week Darmstadt 2026 wird unterstützt von:\n\n\n\n\n\n\n\n\n\n\n\n\n\n\n\n\n\n\n\n\n\n\n\n\n\n\n\n\n\n\n\n\n\n\n\n\n\n\n\n\n\n\n\n\n\n\n\n\n\n\n\n\n\n\n\n\n\n\n\n\n\n\n\n\n\n\n\n\n\n\n\n\n\n\n\n\n\n\n\n\n\n\n\n\n\n\n\n\n\n\n\n\n\n\n\n\n\n\n\n\n\n\n\n\n\n\n\n\n\n\n\n\n\n\n\n\n\n\n\n\n\n\n\n\n\n\n\n\n\n\n\nDanke an: \n\n\n\n\n\n\n\n\n\n\n\ngefördert durch ENGAGEMENT GLOBAL mit Mitteln des:
URL:https://weltladen-darmstadt.de/event/offene-kleiderstange-fuer-kinder-und-erwachsene/
ATTACH;FMTTYPE=image/jpeg:https://weltladen-darmstadt.de/wp-content/uploads/2026/04/7aweb-1.jpg
END:VEVENT
BEGIN:VEVENT
DTSTART;TZID=Europe/Berlin:20260422T153000
DTEND;TZID=Europe/Berlin:20260422T200000
DTSTAMP:20260421T212652
CREATED:20260317T194416Z
LAST-MODIFIED:20260419T072934Z
UID:18482-1776871800-1776888000@weltladen-darmstadt.de
SUMMARY:Repariercafé
DESCRIPTION:Deine Kleidung hat noch viel vor!\n\n\n\nGarngeflüster e.V.\, Kaupstr. 42 \n\n\n\nBring dein Lieblingsstück vorbei – egal ob Hose\, Shirt oder Socken. Gemeinsam geben wir deiner Kleidung ein zweites Leben. Wir zeigen dir\, wie du Hosen und Shirts kürzt\, Sockenlöcher stopfst\, Risse flickst\, Knöpfe annähst oder Flecken mit kreativer Stickerei verdeckst. Dabei gilt: Hilfe zur Selbsthilfe – wir unterstützen dich und zeigen dir die Schritte\, aber du reparierst dein Teil selbst. \n\n\n\nWas dich erwartet: \n\n\n\n\nPraktische Hilfe zur Reparatur deiner Kleidung\n\n\n\nKreative Ideen und Spaß am Ausprobieren.\n\n\n\nEtwas Neues lernen und reparieren statt wegwerfen!\n\n\n\n\nEs gibt 10 freie Plätze\, bitte anmelden: garngefluestervorstand(at)gmail.com \n\n\n\n\nalle Veranstaltungen der Fashion Revolution Week …\n\n\n\n\n \n\n\n\n \n\n\n\n\n\n\n\n\n\n \n\n\n\n\nDie Fashion Revolution Week Darmstadt 2026 wird unterstützt von:\n\n\n\n\n\n\n\n\n\n\n\n\n\n\n\n\n\n\n\n\n\n\n\n\n\n\n\n\n\n\n\n\n\n\n\n\n\n\n\n\n\n\n\n\n\n\n\n\n\n\n\n\n\n\n\n\n\n\n\n\n\n\n\n\n\n\n\n\n\n\n\n\n\n\n\n\n\n\n\n\n\n\n\n\n\n\n\n\n\n\n\n\n\n\n\n\n\n\n\n\n\n\n\n\n\n\n\n\n\n\n\n\n\n\n\n\n\n\n\n\n\n\n\n\n\n\n\n\n\n\n\nDanke an: \n\n\n\n\n\n\n\n\n\n\n\ngefördert durch ENGAGEMENT GLOBAL mit Mitteln des:
URL:https://weltladen-darmstadt.de/event/fashion-revolution-week-2026-repariercafe/
ATTACH;FMTTYPE=image/jpeg:https://weltladen-darmstadt.de/wp-content/uploads/2026/03/9.jpg
END:VEVENT
BEGIN:VEVENT
DTSTART;TZID=Europe/Berlin:20260423T120000
DTEND;TZID=Europe/Berlin:20260423T130000
DTSTAMP:20260421T212652
CREATED:20260317T194850Z
LAST-MODIFIED:20260419T072940Z
UID:18488-1776945600-1776949200@weltladen-darmstadt.de
SUMMARY:drüber gebabbelt – Online-Talk über Fair Fashion
DESCRIPTION:Fair Fashion verstehen: Hintergründe\, Herausforderungen und Handlungsmöglichkeiten\n\n\n\nJudith Becker\, epn Hessen\, spricht mit Ariane Piper\, Fashion Revolution Germany \n\n\n\nWo und unter welchen Bedingungen wird unsere Kleidung eigentlich produziert?Die Initiative Fashion Revolution Germany setzt sich weltweit für mehr Transparenz\, Gerechtigkeit und Nachhaltigkeit in der Modeindustrie ein.Bei diesem Lunch & Learn erhältst du einen Einblick in die globalen Zusammenhänge der Textilproduktion\, die sozialen und ökologischen Herausforderungen der Branche sowie konkrete Ansätze für einen bewussteren Umgang mit Mode. Gemeinsam werfen wir einen Blick darauf\, wie Konsument*innen\, Politik und Unternehmen zu einer faireren Modeindustrie beitragen können. \n\n\n\n\njetzt anmelden…\n\n\n\n\nDer Einwahllink wird nach der Anmeldung per E-Mail verschickt. \n\n\n\n\nalle Veranstaltungen der Fashion Revolution Week …\n\n\n\n\n \n\n\n\n \n\n\n\n\n\n\n\n\n\n \n\n\n\n\nDie Fashion Revolution Week Darmstadt 2026 wird unterstützt von:\n\n\n\n\n\n\n\n\n\n\n\n\n\n\n\n\n\n\n\n\n\n\n\n\n\n\n\n\n\n\n\n\n\n\n\n\n\n\n\n\n\n\n\n\n\n\n\n\n\n\n\n\n\n\n\n\n\n\n\n\n\n\n\n\n\n\n\n\n\n\n\n\n\n\n\n\n\n\n\n\n\n\n\n\n\n\n\n\n\n\n\n\n\n\n\n\n\n\n\n\n\n\n\n\n\n\n\n\n\n\n\n\n\n\n\n\n\n\n\n\n\n\n\n\n\n\n\n\n\n\n\nDanke an: \n\n\n\n\n\n\n\n\n\n\n\ngefördert durch ENGAGEMENT GLOBAL mit Mitteln des:
URL:https://weltladen-darmstadt.de/event/drueber-gebabbelt-online-talk-ueber-fair-fashion/
ATTACH;FMTTYPE=image/jpeg:https://weltladen-darmstadt.de/wp-content/uploads/2026/03/8web.jpg
END:VEVENT
BEGIN:VEVENT
DTSTART;TZID=Europe/Berlin:20260423T160000
DTEND;TZID=Europe/Berlin:20260423T190000
DTSTAMP:20260421T212652
CREATED:20260317T195143Z
LAST-MODIFIED:20260419T072856Z
UID:18490-1776960000-1776970800@weltladen-darmstadt.de
SUMMARY:Workshopabend im KAGEL
DESCRIPTION:Kaufhaus der Gelegenheiten\, Pallaswiesenstr. 122 \n\n\n\nDeine Kleidung. Dein Stil. Neuer Look.\n\n\n\nDeine Kleidung verdient ein zweites Leben – kreativ\, individuell und nachhaltig! In unseren Workshops verwandelst du alte Lieblingsteile in einzigartige Unikate. \n\n\n\nSiebdruck mit Studio Tigerblau\n\n\n\nDein Lieblingsshirt hat einen Fleck? Der weiße Pullover ist viel zu langweilig? Der Einkaufsbeutel soll etwas Besonderes werden? Bring eigene Textilien mit oder entdecke vor Ort Second-Hand-Teile\, die du mit Siebdruck neu zum Leben erweckst. Verschiedene Motive und Farben warten darauf\, von dir kombiniert zu werden. \n\n\n\nMitbringen: Pullis\, T-Shirts\, Hosen\, Taschen\, Kissen – alles\, was einen neuen Look braucht! \n\n\n\nTextiles Upcycling in Handarbeit\n\n\n\nLerne\, wie du aus einem T-Shirt eine trendige Tasche oder aus einem Hemd ein gemütliches Kissen machst. Bring eigene Stücke mit\, die du nicht mehr magst oder stöbere im KAGEL nach Material – wir zeigen dir\, wie’s geht! \n\n\n\nKomm jederzeit vorbei und mach mit\, so lange du möchtest! \n\n\n\n\nalle Veranstaltungen der Fashion Revolution Week …\n\n\n\n\n \n\n\n\n \n\n\n\n\n\n\n\n\n\n \n\n\n\n\nDie Fashion Revolution Week Darmstadt 2026 wird unterstützt von:\n\n\n\n\n\n\n\n\n\n\n\n\n\n\n\n\n\n\n\n\n\n\n\n\n\n\n\n\n\n\n\n\n\n\n\n\n\n\n\n\n\n\n\n\n\n\n\n\n\n\n\n\n\n\n\n\n\n\n\n\n\n\n\n\n\n\n\n\n\n\n\n\n\n\n\n\n\n\n\n\n\n\n\n\n\n\n\n\n\n\n\n\n\n\n\n\n\n\n\n\n\n\n\n\n\n\n\n\n\n\n\n\n\n\n\n\n\n\n\n\n\n\n\n\n\n\n\n\n\n\n\nDanke an: \n\n\n\n\n\n\n\n\n\n\n\ngefördert durch ENGAGEMENT GLOBAL mit Mitteln des:
URL:https://weltladen-darmstadt.de/event/workshopabend-im-kagel/
ATTACH;FMTTYPE=image/jpeg:https://weltladen-darmstadt.de/wp-content/uploads/2026/03/11.jpg
END:VEVENT
BEGIN:VEVENT
DTSTART;TZID=Europe/Berlin:20260424T160000
DTEND;TZID=Europe/Berlin:20260424T180000
DTSTAMP:20260421T212652
CREATED:20260414T142324Z
LAST-MODIFIED:20260419T065826Z
UID:18841-1777046400-1777053600@weltladen-darmstadt.de
SUMMARY:Demoaufruf
DESCRIPTION:Deutschlandweiter Aktionstag am 24.04.2026 auch in Darmstadt.Um 16:00 Uhr ab Marktplatz Laufdemo zu den Parteibüros von SPD und CDUEnergiewende statt Lobbygeschenke\, erneuerbare Energien ausbauen statt ausbremsen
URL:https://weltladen-darmstadt.de/event/demoaufruf/
ATTACH;FMTTYPE=image/jpeg:https://weltladen-darmstadt.de/wp-content/uploads/2026/04/2fce6752e56580ec-scaled.jpg
END:VEVENT
BEGIN:VEVENT
DTSTART;TZID=Europe/Berlin:20260424T183000
DTEND;TZID=Europe/Berlin:20260424T210000
DTSTAMP:20260421T212652
CREATED:20260317T195403Z
LAST-MODIFIED:20260419T072903Z
UID:18493-1777055400-1777064400@weltladen-darmstadt.de
SUMMARY:After-Work-Kleidertauschparty und mehr
DESCRIPTION:Heiner-Lehr-Zentrum\, Kopernikusplatz 1 \n\n\n\nMit Kleidertausch vorhandene Sachen länger nutzen – das ist gut für Mensch und Umwelt\, macht Spaß und bringt uns zusammen. Komm ohne eigene Tauschkleidung zum Stöbern oder bring maximal 5 gut erhaltene Kleidungsstücke und/oder Accessoires mit und nimm so viele schöne andere Teile mit\, wie du magst. \n\n\n\nNähwerkstatt \n\n\n\nEgal\, ob altes Lieblingsstück oder frisch getauschtes Teil – hier bekommst du Unterstützung von Expertinnen beim Reparieren\, Anpassen oder Upcycling. \n\n\n\nCocktailbar\n\n\n\nLass uns den Freitagabend und die Kleidertauschparty genießen – ohne Alkohol\, aber mit jeder Menge Inspiration! Wir haben für dich faire\, alkoholfreie Drinks\, frisch gemixt und voller Geschmack! \n\n\n\nFoodsharing\n\n\n\nFür den kleinen Hunger gibt es gerettete Lebensmittel. Bringt eigene Behältnisse und saubere Beutel mit\, um etwas mitnehmen zu können. \n\n\n\nWorkshop: Upcycling\n\n\n\nLieblingsjacke mit Riss? Loch in der Hose? Ärmel durchgescheuert? Lerne\, wie du Kleidungsstücke retten und aus alten Dingen etwas Neues und Schönes machen kannst. Du erfährst Tipps und Tricks rund ums Upcycling – kreativ\, nachhaltig und alltagstauglich. \n\n\n\nWorkshop Stricken \n\n\n\nOb Anfänger:in oder Fortgeschrittene:r –entdecke die Welt der Maschen! Gemeinsam stricken wir kleine Projekte\, tauschen Tipps aus und lassen die Nadeln klappern. Komm vorbei\, probiere Neues aus und lass dich inspirieren! Wenn du Strickzeug oder bereits angefangene Projekte hast\, bring sie gern mit. Nadeln und Wolle haben wir auch vor Ort. \n\n\n\nKomm jederzeit vorbei und mach mit\, so lange du möchtest! \n\n\n\n\nalle Veranstaltungen der Fashion Revolution Week …\n\n\n\n\n \n\n\n\n \n\n\n\n\n\n\n\n\n\n \n\n\n\n\nDie Fashion Revolution Week Darmstadt 2026 wird unterstützt von:\n\n\n\n\n\n\n\n\n\n\n\n\n\n\n\n\n\n\n\n\n\n\n\n\n\n\n\n\n\n\n\n\n\n\n\n\n\n\n\n\n\n\n\n\n\n\n\n\n\n\n\n\n\n\n\n\n\n\n\n\n\n\n\n\n\n\n\n\n\n\n\n\n\n\n\n\n\n\n\n\n\n\n\n\n\n\n\n\n\n\n\n\n\n\n\n\n\n\n\n\n\n\n\n\n\n\n\n\n\n\n\n\n\n\n\n\n\n\n\n\n\n\n\n\n\n\n\n\n\n\n\nDanke an: \n\n\n\n\n\n\n\n\n\n\n\ngefördert durch ENGAGEMENT GLOBAL mit Mitteln des:
URL:https://weltladen-darmstadt.de/event/after-work-kleidertauschparty-und-mehr/
ATTACH;FMTTYPE=image/jpeg:https://weltladen-darmstadt.de/wp-content/uploads/2026/03/17web.jpg
END:VEVENT
BEGIN:VEVENT
DTSTART;TZID=Europe/Berlin:20260425T140000
DTEND;TZID=Europe/Berlin:20260425T170000
DTSTAMP:20260421T212652
CREATED:20260317T195646Z
LAST-MODIFIED:20260419T072908Z
UID:18496-1777125600-1777136400@weltladen-darmstadt.de
SUMMARY:Kleidertauschparty und mehr
DESCRIPTION:Café Glaskasten\, Hochschule Darmstadt\, Schöfferstr. 3 \n\n\n\nKleidertausch statt Kaufrausch. Komm ohne eigene Tauschkleidung zum Stöbern oder bring maximal 5 gut erhaltene Kleidungsstücke und/oder Accessoires vorbei und nimm so viele schöne andere Teile mit\, wie du magst.– Abgabe möglich ab 13 Uhr\, Tauschbeginn um 14 Uhr. \n\n\n\nKurzfilme\n\n\n\nWir zeigen Filme rund um das Thema Fast Fashion und was wir anders machen können. \n\n\n\nInfostände und Ausstellung\n\n\n\n…zu Kleidung\, Umwelt\, Wasser\, Siegeln \n\n\n\nNähwerkstatt\n\n\n\nEgal\, ob altes Lieblingsstück oder frisch getauschtes Teil – hier bekommst du Unterstützung von Expertinnen beim Reparieren\, Anpassen oder Upcycling. \n\n\n\n\nalle Veranstaltungen der Fashion Revolution Week …\n\n\n\n\n \n\n\n\n \n\n\n\n\n\n\n\n\n\n \n\n\n\n\nDie Fashion Revolution Week Darmstadt 2026 wird unterstützt von:\n\n\n\n\n\n\n\n\n\n\n\n\n\n\n\n\n\n\n\n\n\n\n\n\n\n\n\n\n\n\n\n\n\n\n\n\n\n\n\n\n\n\n\n\n\n\n\n\n\n\n\n\n\n\n\n\n\n\n\n\n\n\n\n\n\n\n\n\n\n\n\n\n\n\n\n\n\n\n\n\n\n\n\n\n\n\n\n\n\n\n\n\n\n\n\n\n\n\n\n\n\n\n\n\n\n\n\n\n\n\n\n\n\n\n\n\n\n\n\n\n\n\n\n\n\n\n\n\n\n\n\nDanke an: \n\n\n\n\n\n\n\n\n\n\n\ngefördert durch ENGAGEMENT GLOBAL mit Mitteln des:
URL:https://weltladen-darmstadt.de/event/kleidertauschparty-und-mehr/
ATTACH;FMTTYPE=image/jpeg:https://weltladen-darmstadt.de/wp-content/uploads/2026/03/18web.jpg
END:VEVENT
END:VCALENDAR